BEGIN:VCALENDAR
VERSION:2.0
PRODID:icalendar-ruby
CALSCALE:GREGORIAN
BEGIN:VTIMEZONE
TZID:America/Los_Angeles
BEGIN:DAYLIGHT
DTSTART:20260308T030000
TZOFFSETFROM:-0800
TZOFFSETTO:-0700
RRULE:FREQ=YEARLY;BYDAY=2SU;BYMONTH=3
TZNAME:PDT
END:DAYLIGHT
BEGIN:STANDARD
DTSTART:20261101T010000
TZOFFSETFROM:-0700
TZOFFSETTO:-0800
RRULE:FREQ=YEARLY;BYDAY=1SU;BYMONTH=11
TZNAME:PST
END:STANDARD
END:VTIMEZONE
BEGIN:VEVENT
DTSTAMP:20260420T021225Z
UID:1bb21588-3caa-4de6-a893-6e29507cdb82
DTSTART:20260517T140000
DTEND:20260517T160000
DESCRIPTION:
LOCATION:
SUMMARY:Graduation 
END:VEVENT
BEGIN:VEVENT
DTSTAMP:20260420T021225Z
UID:1e8f0dd1-7bee-4396-be14-a841a234ca1e
DTSTART:20260521T075500
DTEND:20260521T120000
DESCRIPTION:
LOCATION:
SUMMARY:Last Day of  School - 1/2 Day Early Release 
END:VEVENT
BEGIN:VEVENT
DTSTAMP:20260420T021225Z
UID:bf2c6399-b010-41ae-b0f2-9e01238dff81
DTSTART;VALUE=DATE:20260522
DTEND;VALUE=DATE:20260523
DESCRIPTION:
LOCATION:
SUMMARY:Teacher In-Service
END:VEVENT
END:VCALENDAR
