BEGIN:VCALENDAR
VERSION:2.0
PRODID:icalendar-ruby
CALSCALE:GREGORIAN
BEGIN:VTIMEZONE
TZID:America/Denver
BEGIN:DAYLIGHT
DTSTART:20260308T030000
TZOFFSETFROM:-0700
TZOFFSETTO:-0600
RRULE:FREQ=YEARLY;BYDAY=2SU;BYMONTH=3
TZNAME:MDT
END:DAYLIGHT
BEGIN:STANDARD
DTSTART:20261101T010000
TZOFFSETFROM:-0600
TZOFFSETTO:-0700
RRULE:FREQ=YEARLY;BYDAY=1SU;BYMONTH=11
TZNAME:MST
END:STANDARD
END:VTIMEZONE
BEGIN:VEVENT
DTSTAMP:20260425T115551Z
UID:46ff49af-3f00-45e3-a30c-171dc23307db
DTSTART:20260425T093000
DTEND:20260425T160000
DESCRIPTION:
LOCATION:Alamosa High School\, 805 Craft Dr\, Alamosa\, CO 81101\, USA
SUMMARY:MS Track @ Alamosa
END:VEVENT
BEGIN:VEVENT
DTSTAMP:20260425T115551Z
UID:4e23d044-efad-45db-a183-5b3fb885c111
DTSTART:20260425T130000
DTEND:20260425T160000
DESCRIPTION:
LOCATION:La Veta\, CO 81055\, USA
SUMMARY:MS Baseball @ La Veta- Double Header
END:VEVENT
BEGIN:VEVENT
DTSTAMP:20260425T115551Z
UID:f73c7b54-f12d-454c-a1f2-f219460af493
DTSTART:20260428T103000
DTEND:20260428T110000
DESCRIPTION:
LOCATION:
SUMMARY:**Drill**Fire Drill**
END:VEVENT
BEGIN:VEVENT
DTSTAMP:20260425T115551Z
UID:b49ca93e-ec05-4c17-85a9-c59b42e56aaf
DTSTART:20260428T163000
DTEND:20260428T173000
DESCRIPTION:
LOCATION:Washington Way\, Center\, CO 81125\, USA
SUMMARY:MS Baseball vs Centauri
END:VEVENT
BEGIN:VEVENT
DTSTAMP:20260425T115551Z
UID:951b6165-7a8b-4476-bbc7-ef75e6bb2733
DTSTART;VALUE=DATE:20260430
DTEND;VALUE=DATE:20260501
DESCRIPTION:
LOCATION:Del Norte Senior High School\, 950 French St\, Del Norte\, CO 8113
 2\, USA
SUMMARY:HS Track @ Del Norte- League Meet
END:VEVENT
BEGIN:VEVENT
DTSTAMP:20260425T115551Z
UID:e99a2e5d-7e11-47d8-81b1-54b74eeb4042
DTSTART;VALUE=DATE:20260501
DTEND;VALUE=DATE:20260503
DESCRIPTION:
LOCATION:Walsenburg Jr. Sr. High School\, 355 W Pine St\, Walsenburg\, CO 8
 1089\, USA
SUMMARY:HS Track- Walsenburg
END:VEVENT
BEGIN:VEVENT
DTSTAMP:20260425T115551Z
UID:b30660fb-4ee0-4bf8-a98c-425486b22391
DTSTART:20260502T100000
DTEND:20260502T160000
DESCRIPTION:
LOCATION:Centauri High School\, 17889 US Hwy 285\, La Jara\, CO 81140\, USA
SUMMARY:MS Track @ Centauri
END:VEVENT
BEGIN:VEVENT
DTSTAMP:20260425T115551Z
UID:2ac216ca-3f58-4ae4-b032-5adfe37bdfbe
DTSTART:20260502T110000
DTEND:20260502T113000
DESCRIPTION:
LOCATION:Center Town Park
SUMMARY:HS Baseball vs Trinidad Double Header
END:VEVENT
BEGIN:VEVENT
DTSTAMP:20260425T115551Z
UID:c91743ce-eee5-4131-a484-5dfc476c0404
DTSTART;VALUE=DATE:20260505
DTEND;VALUE=DATE:20260506
DESCRIPTION:
LOCATION:Washington Way\, Center\, CO 81125\, USA
SUMMARY:HS Track- Home- Triple D Invitational
END:VEVENT
BEGIN:VEVENT
DTSTAMP:20260425T115551Z
UID:5a283f61-72f7-4d85-93eb-5fe248cbb6bb
DTSTART;VALUE=DATE:20260505
DTEND;VALUE=DATE:20260506
DESCRIPTION:
LOCATION:TBD
SUMMARY:MS End of Year Tournament
END:VEVENT
BEGIN:VEVENT
DTSTAMP:20260425T115551Z
UID:ab96ae9d-c448-43af-9b5d-f9110bffced6
DTSTART;VALUE=DATE:20260507
DTEND;VALUE=DATE:20260508
DESCRIPTION:
LOCATION:TBD
SUMMARY:MS End of Year Tournament
END:VEVENT
BEGIN:VEVENT
DTSTAMP:20260425T115551Z
UID:ae1ae777-abc0-4c7f-a84d-25bcf8bc6302
DTSTART;VALUE=DATE:20260508
DTEND;VALUE=DATE:20260509
DESCRIPTION:
LOCATION:Monte Vista High School\, 295 E Prospect Ave\, Monte Vista\, CO 81
 144\, USA
SUMMARY:HS Track- Monte Vista
END:VEVENT
BEGIN:VEVENT
DTSTAMP:20260425T115551Z
UID:00a0ff54-96bf-40e0-b3ae-cb26525f637f
DTSTART;VALUE=DATE:20260508
DTEND;VALUE=DATE:20260509
DESCRIPTION:
LOCATION:TBD
SUMMARY:MS End Of Season Baseball @ Sierra Grande
END:VEVENT
BEGIN:VEVENT
DTSTAMP:20260425T115551Z
UID:3c4466e4-e188-469f-9721-8cdabd790ab3
DTSTART:20260508T130000
DTEND:20260508T170000
DESCRIPTION:
LOCATION:Center Town Park
SUMMARY:HS Baseball vs South Park- Double Header
END:VEVENT
BEGIN:VEVENT
DTSTAMP:20260425T115551Z
UID:baa065f3-0351-4e8b-9d30-9fea7c7efcf3
DTSTART:20260509T100000
DTEND:20260509T160000
DESCRIPTION:
LOCATION:Del Norte Senior High School\, 950 French St\, Del Norte\, CO 8113
 2\, USA
SUMMARY:MS Track @ Del Norte
END:VEVENT
BEGIN:VEVENT
DTSTAMP:20260425T115551Z
UID:ae7e0159-cd12-4335-b6e0-58e1313a8c9b
DTSTART:20260509T130000
DTEND:20260509T160000
DESCRIPTION:
LOCATION:Center Town Park
SUMMARY:MS Baseball vs Buena Vista- Double Header
END:VEVENT
BEGIN:VEVENT
DTSTAMP:20260425T115551Z
UID:2e28ee83-a627-4266-84fb-4aefd7b408fb
DTSTART;VALUE=DATE:20260514
DTEND;VALUE=DATE:20260517
DESCRIPTION:
LOCATION:Jeffco Stadium\, 500 Kipling St\, Lakewood\, CO 80226\, USA
SUMMARY:HS Track- State Track Meet
END:VEVENT
BEGIN:VEVENT
DTSTAMP:20260425T115551Z
UID:86c01583-87be-4c8b-a89f-6a070015a53b
DTSTART:20260519T103000
DTEND:20260519T110000
DESCRIPTION:
LOCATION:
SUMMARY:**Drill**Fire Drill**
END:VEVENT
BEGIN:VEVENT
DTSTAMP:20260425T115551Z
UID:c9c15c9f-6ac6-4c59-a835-068f09550cae
DTSTART;VALUE=DATE:20260528
DTEND;VALUE=DATE:20260529
DESCRIPTION:
LOCATION:
SUMMARY:Last Day of School 
END:VEVENT
BEGIN:VEVENT
DTSTAMP:20260425T115551Z
UID:a8d74d0b-2c40-4b20-a6a6-7d34c2ae027f
DTSTART:20260530T100000
DTEND:20260530T110000
DESCRIPTION:
LOCATION:
SUMMARY:Center High School Graduation 
END:VEVENT
END:VCALENDAR
