BEGIN:VCALENDAR
VERSION:2.0
PRODID:icalendar-ruby
CALSCALE:GREGORIAN
BEGIN:VTIMEZONE
TZID:America/New_York
BEGIN:DAYLIGHT
DTSTART:20260308T030000
TZOFFSETFROM:-0500
TZOFFSETTO:-0400
RRULE:FREQ=YEARLY;BYDAY=2SU;BYMONTH=3
TZNAME:EDT
END:DAYLIGHT
BEGIN:STANDARD
DTSTART:20261101T010000
TZOFFSETFROM:-0400
TZOFFSETTO:-0500
RRULE:FREQ=YEARLY;BYDAY=1SU;BYMONTH=11
TZNAME:EST
END:STANDARD
END:VTIMEZONE
BEGIN:VEVENT
DTSTAMP:20260420T151358Z
UID:e607f121-6d9f-4c4f-b66b-8877c672ac5c
DTSTART:20260420T114500
DTEND:20260420T121500
DESCRIPTION:
LOCATION:
SUMMARY:Faculty Senate-Early Release
END:VEVENT
BEGIN:VEVENT
DTSTAMP:20260420T151358Z
UID:5d649370-9803-47c5-902a-bef5d69f967a
DTSTART;VALUE=DATE:20260422
DTEND;VALUE=DATE:20260423
DESCRIPTION:<html><head><meta http-equiv="Content-Type" content="text/html\
 ; charset=utf-8"></head><body><div class="BodyFragment"><font size="3" fac
 e="Times New Roman"><span style="font-size:12pt"><a name="BM_BEGIN"></a></
 span></font></div></body></html>
LOCATION:United States
SUMMARY:Administrative Professionals Day
END:VEVENT
BEGIN:VEVENT
DTSTAMP:20260420T151358Z
UID:e0466570-8749-468a-a931-b824f204b58e
DTSTART;VALUE=DATE:20260422
DTEND;VALUE=DATE:20260423
DESCRIPTION:<html><head><meta http-equiv="Content-Type" content="text/html\
 ; charset=utf-8"></head><body><div></div></body></html>
LOCATION:
SUMMARY:Dress Up: Earth Day Blue/Green
END:VEVENT
BEGIN:VEVENT
DTSTAMP:20260420T151358Z
UID:0ad99ede-8e0e-4e8e-a0c4-89c4a7f90344
DTSTART;VALUE=DATE:20260423
DTEND;VALUE=DATE:20260424
DESCRIPTION:
LOCATION:
SUMMARY:4th Grade Fishing Trip
END:VEVENT
BEGIN:VEVENT
DTSTAMP:20260420T151358Z
UID:6949fb38-03c6-47df-a89e-45f5821e714d
DTSTART;VALUE=DATE:20260427
DTEND;VALUE=DATE:20260428
DESCRIPTION:<html><head><meta http-equiv="Content-Type" content="text/html\
 ; charset=utf-8"></head><body><div></div></body></html>
LOCATION:
SUMMARY:Spring Picture Day
END:VEVENT
BEGIN:VEVENT
DTSTAMP:20260420T151358Z
UID:566a4ec0-426b-4c13-977a-45ba6bef1e6d
DTSTART;VALUE=DATE:20260429
DTEND;VALUE=DATE:20260430
DESCRIPTION:<html><head><meta http-equiv="Content-Type" content="text/html\
 ; charset=utf-8"></head><body><div></div></body></html>
LOCATION:
SUMMARY:Progress Reports Go Home
END:VEVENT
BEGIN:VEVENT
DTSTAMP:20260420T151358Z
UID:5d701384-0f3a-4a14-87f1-1b4ea2995efd
DTSTART:20260430T134500
DTEND:20260430T143000
DESCRIPTION:<html><head><meta http-equiv="Content-Type" content="text/html\
 ; charset=utf-8"></head><body><div class="cal_22ba"><div><div class="x_cal
 _692b"><div><div class="x_x_cal_a06a"><div><div class="x_x_x_cal_b12f"><di
 v><div class="x_x_x_x_cal_db79"><div><div class="x_x_x_x_x_cal_5c4f"><div>
 <div class="x_x_x_x_x_x_cal_e617"><div><div class="x_x_x_x_x_x_x_cal_a4c1"
 ><div><div class="x_x_x_x_x_x_x_x_cal_ef95"><div><div class="x_x_x_x_x_x_x
 _x_x_cal_7393"><div><div style="font-family:Aptos\,Aptos_EmbeddedFont\,Apt
 os_MSFontService\,Calibri\,Helvetica\,sans-serif\; font-size:12pt\; color:
 rgb(0\,0\,0)"><br></div></div></div></div></div></div></div></div></div></
 div></div></div></div></div></div></div></div></div></div></div></div></bo
 dy></html>
LOCATION:
SUMMARY:Club Day
END:VEVENT
BEGIN:VEVENT
DTSTAMP:20260420T151358Z
UID:ca8ef740-9702-467a-853b-c54ce1c579a1
DTSTART;VALUE=DATE:20260501
DTEND;VALUE=DATE:20260502
DESCRIPTION:<html><head><meta http-equiv="Content-Type" content="text/html\
 ; charset=utf-8"></head><body><div class="cal_5270"><div><div class="x_cal
 _74ee"><div><div></div></div></div></div></div></body></html>
LOCATION:
SUMMARY:AR Mini Goal Checks/Prize Day
END:VEVENT
BEGIN:VEVENT
DTSTAMP:20260420T151358Z
UID:f6507796-3ca7-464a-933d-c5331d098482
DTSTART;VALUE=DATE:20260501
DTEND;VALUE=DATE:20260502
DESCRIPTION:<html><head><meta http-equiv="Content-Type" content="text/html\
 ; charset=utf-8"></head><body><div></div></body></html>
LOCATION:
SUMMARY:School Principal and Lunch Hero Day
END:VEVENT
BEGIN:VEVENT
DTSTAMP:20260420T151358Z
UID:2e367bc0-8670-485d-93a1-80466bf3d82a
DTSTART;VALUE=DATE:20260504
DTEND;VALUE=DATE:20260509
DESCRIPTION:<html><head><meta http-equiv="Content-Type" content="text/html\
 ; charset=utf-8"></head><body><div></div></body></html>
LOCATION:
SUMMARY:Teacher Appreciation Week
END:VEVENT
BEGIN:VEVENT
DTSTAMP:20260420T151358Z
UID:196d6301-1de8-425c-9898-cfa4bc8bb244
DTSTART;VALUE=DATE:20260511
DTEND;VALUE=DATE:20260512
DESCRIPTION:<html><head><meta http-equiv="Content-Type" content="text/html\
 ; charset=utf-8"></head><body><div></div></body></html>
LOCATION:
SUMMARY:WVGSA Testing
END:VEVENT
BEGIN:VEVENT
DTSTAMP:20260420T151358Z
UID:e2b8f57f-5cb7-4c05-a724-049c90c04b7c
DTSTART;VALUE=DATE:20260512
DTEND;VALUE=DATE:20260513
DESCRIPTION:
LOCATION:
SUMMARY:Election Day-No School
END:VEVENT
BEGIN:VEVENT
DTSTAMP:20260420T151358Z
UID:336b6c93-add9-436e-82ff-2a0519410b46
DTSTART;VALUE=DATE:20260513
DTEND;VALUE=DATE:20260514
DESCRIPTION:<html><head><meta http-equiv="Content-Type" content="text/html\
 ; charset=utf-8"></head><body><div class="cal_4f84"><div><div class="x_cal
 _a093"><div><div class="x_x_cal_b03d"><div><div class="x_x_x_cal_c0fc"><di
 v><div class="x_x_x_x_cal_a93d"><div><div class="x_x_x_x_x_cal_86e3"><div>
 <div class="x_x_x_x_x_x_cal_9c60"><div><div></div></div></div></div></div>
 </div></div></div></div></div></div></div></div></div></div></body></html>
LOCATION:
SUMMARY:PCB Bank at School 
END:VEVENT
BEGIN:VEVENT
DTSTAMP:20260420T151358Z
UID:0298b052-f1ce-42f8-97f2-702d03601a87
DTSTART;VALUE=DATE:20260513
DTEND;VALUE=DATE:20260516
DESCRIPTION:<html><head><meta http-equiv="Content-Type" content="text/html\
 ; charset=utf-8"></head><body><div class="cal_3448"><div><div></div></div>
 </div></body></html>
LOCATION:
SUMMARY:WVGSA Testing
END:VEVENT
BEGIN:VEVENT
DTSTAMP:20260420T151358Z
UID:ae1802f9-91f9-43e3-8399-8ba732da68fe
DTSTART;VALUE=DATE:20260515
DTEND;VALUE=DATE:20260516
DESCRIPTION:<html><head><meta http-equiv="Content-Type" content="text/html\
 ; charset=utf-8"></head><body><div class="cal_61e3"><div><div class="x_cal
 _74ee"><div><div></div></div></div></div></div></body></html>
LOCATION:
SUMMARY:Final AR Mini Goal Checks/Prize Day
END:VEVENT
BEGIN:VEVENT
DTSTAMP:20260420T151358Z
UID:0aca577a-dea3-40ea-b472-1d959d36d020
DTSTART;VALUE=DATE:20260518
DTEND;VALUE=DATE:20260523
DESCRIPTION:<html><head><meta http-equiv="Content-Type" content="text/html\
 ; charset=utf-8"></head><body><div></div></body></html>
LOCATION:
SUMMARY:I-Reading Testing
END:VEVENT
BEGIN:VEVENT
DTSTAMP:20260420T151358Z
UID:6d47949f-7a66-4b84-bc95-494bd6a1b764
DTSTART;VALUE=DATE:20260525
DTEND;VALUE=DATE:20260526
DESCRIPTION:
LOCATION:
SUMMARY:No School Memorial Day
END:VEVENT
BEGIN:VEVENT
DTSTAMP:20260420T151358Z
UID:d9db2bf2-2723-46cb-8829-8a78470716b7
DTSTART;VALUE=DATE:20260529
DTEND;VALUE=DATE:20260530
DESCRIPTION:<html><head><meta http-equiv="Content-Type" content="text/html\
 ; charset=utf-8"></head><body><div></div></body></html>
LOCATION:
SUMMARY:Dress Up: Beach Day
END:VEVENT
BEGIN:VEVENT
DTSTAMP:20260420T151358Z
UID:f0b22784-e5c7-4f8d-8753-843583470dbf
DTSTART:20260601T100000
DTEND:20260601T110000
DESCRIPTION:<html><head><meta http-equiv="Content-Type" content="text/html\
 ; charset=utf-8"></head><body><div></div></body></html>
LOCATION:
SUMMARY:5th Grade Promotion 10am @ MMS
END:VEVENT
BEGIN:VEVENT
DTSTAMP:20260420T151358Z
UID:b98efc94-13e0-4dcf-bdf8-e576cdf8a790
DTSTART:20260605T114500
DTEND:20260605T121500
DESCRIPTION:
LOCATION:
SUMMARY:3 hr early release-Last Day for Students
END:VEVENT
BEGIN:VEVENT
DTSTAMP:20260420T151358Z
UID:db2eac13-2643-4db7-930c-7db7ca295481
DTSTART;VALUE=DATE:20260609
DTEND;VALUE=DATE:20260610
DESCRIPTION:
LOCATION:
SUMMARY:Last Day for 200 day Staff
END:VEVENT
END:VCALENDAR
