BEGIN:VCALENDAR
VERSION:2.0
PRODID:icalendar-ruby
CALSCALE:GREGORIAN
BEGIN:VTIMEZONE
TZID:America/New_York
BEGIN:DAYLIGHT
DTSTART:20260308T030000
TZOFFSETFROM:-0500
TZOFFSETTO:-0400
RRULE:FREQ=YEARLY;BYDAY=2SU;BYMONTH=3
TZNAME:EDT
END:DAYLIGHT
BEGIN:STANDARD
DTSTART:20261101T010000
TZOFFSETFROM:-0400
TZOFFSETTO:-0500
RRULE:FREQ=YEARLY;BYDAY=1SU;BYMONTH=11
TZNAME:EST
END:STANDARD
END:VTIMEZONE
BEGIN:VEVENT
DTSTAMP:20260423T103335Z
UID:abbbd1b9-0fb6-435b-884c-12d311cf2fe4
DTSTART:20260423T154500
DTEND:20260423T174500
DESCRIPTION:
LOCATION:Meadow Ridge Park\, Ridge Rd\, Rumson\, NJ 07760\, USA
SUMMARY:Boys Baseball Away vs. Forrestdale
END:VEVENT
BEGIN:VEVENT
DTSTAMP:20260423T103335Z
UID:5cb0d427-5bd2-41b7-a371-69d80e2f6ad2
DTSTART:20260423T154500
DTEND:20260423T174500
DESCRIPTION:
LOCATION:
SUMMARY:Girls Softball Home vs. WLB
END:VEVENT
BEGIN:VEVENT
DTSTAMP:20260423T103335Z
UID:3236f0cf-d142-48bb-9cc7-4b248a4b4467
DTSTART:20260423T154500
DTEND:20260423T174500
DESCRIPTION:
LOCATION:Ranney School\, 235 Hope Rd\, Tinton Falls\, NJ 07724\, USA
SUMMARY:Track Away vs. Ranney & Little Silver @ Ranney
END:VEVENT
BEGIN:VEVENT
DTSTAMP:20260423T103335Z
UID:f3ab488b-8943-46dc-8921-831c2cad34ed
DTSTART:20260424T154500
DTEND:20260424T174500
DESCRIPTION:
LOCATION:Forrestdale School\, 60 Forrest Ave\, Rumson\, NJ 07760\, USA
SUMMARY:Girls Softball Away vs. Forrestdale
END:VEVENT
BEGIN:VEVENT
DTSTAMP:20260423T103335Z
UID:f862053f-e02c-4424-acac-b1709a04c4ae
DTSTART:20260427T160000
DTEND:20260427T180000
DESCRIPTION:
LOCATION:Champions at G. Harold Antrim Elementary School\, 401 Niblick St\,
  Point Pleasant\, NJ 08742\, USA
SUMMARY:Track Away vs. Point\, Belmar @ Pt. Pleasant Beach
END:VEVENT
BEGIN:VEVENT
DTSTAMP:20260423T103335Z
UID:defecb66-d666-425b-b6be-c59f7bc02758
DTSTART:20260428T154500
DTEND:20260428T174500
DESCRIPTION:
LOCATION:
SUMMARY:Boys Baseball Home vs. Monmouth Beach
END:VEVENT
BEGIN:VEVENT
DTSTAMP:20260423T103335Z
UID:bada373d-2ca2-4a01-9fe4-5eb88e09588b
DTSTART:20260429T154500
DTEND:20260429T174500
DESCRIPTION:
LOCATION:Frank Antonides School\, 135 Locust Ave\, West Long Branch\, NJ 07
 764\, USA
SUMMARY:Boys Baseball Away vs. WLB
END:VEVENT
BEGIN:VEVENT
DTSTAMP:20260423T103335Z
UID:6cbed63b-fa89-4319-9d82-bf006c07285c
DTSTART:20260430T154500
DTEND:20260430T174500
DESCRIPTION:
LOCATION:
SUMMARY:Girls Softball Home vs. Oceanport
END:VEVENT
BEGIN:VEVENT
DTSTAMP:20260423T103335Z
UID:a8fbcae9-5218-4316-acfc-124e4f290f31
DTSTART:20260501T154500
DTEND:20260501T174500
DESCRIPTION:
LOCATION:Markham Place Middle School\, 95 Markham Pl\, Little Silver\, NJ 0
 7739\, USA
SUMMARY:Girls Softball Away vs. Little Silver
END:VEVENT
BEGIN:VEVENT
DTSTAMP:20260423T103335Z
UID:e6110e94-eebd-4472-9a42-e9ac484a8dd2
DTSTART:20260504T154500
DTEND:20260504T174500
DESCRIPTION:
LOCATION:Monmouth Regional High School\, 1 Norman J. Field Way\, Tinton Fal
 ls\, NJ 07724\, USA
SUMMARY:Boys Baseball Away vs. Tinton Falls
END:VEVENT
BEGIN:VEVENT
DTSTAMP:20260423T103335Z
UID:8adfa3f6-335c-433a-b8cb-1acbe0815355
DTSTART:20260506T160000
DTEND:20260506T180000
DESCRIPTION:
LOCATION:Freehold High School\, 2 Robertsville Rd\, Freehold\, NJ 07728\, U
 SA
SUMMARY:Track Away vs. Freehold\, Shrewsbury @ Freehold Boro
END:VEVENT
BEGIN:VEVENT
DTSTAMP:20260423T103335Z
UID:0d048edc-381a-4341-8a66-27ed33571a7c
DTSTART:20260508T154500
DTEND:20260508T174500
DESCRIPTION:
LOCATION:Freehold Borough School District\, Freehold\, NJ 07728\, USA
SUMMARY:Girls Softball Away vs. Freehold Boro
END:VEVENT
BEGIN:VEVENT
DTSTAMP:20260423T103335Z
UID:a6e31967-d73b-4d1b-873d-b0ac299a10e0
DTSTART:20260512T154500
DTEND:20260512T174500
DESCRIPTION:
LOCATION:Ranney School\, 235 Hope Rd\, Tinton Falls\, NJ 07724\, USA
SUMMARY:Track Away vs. Ranney\, Fair Haven @ Ranney
END:VEVENT
END:VCALENDAR
