BEGIN:VCALENDAR
VERSION:2.0
PRODID:icalendar-ruby
CALSCALE:GREGORIAN
BEGIN:VTIMEZONE
TZID:America/Chicago
BEGIN:DAYLIGHT
DTSTART:20260308T030000
TZOFFSETFROM:-0600
TZOFFSETTO:-0500
RRULE:FREQ=YEARLY;BYDAY=2SU;BYMONTH=3
TZNAME:CDT
END:DAYLIGHT
BEGIN:STANDARD
DTSTART:20261101T010000
TZOFFSETFROM:-0500
TZOFFSETTO:-0600
RRULE:FREQ=YEARLY;BYDAY=1SU;BYMONTH=11
TZNAME:CST
END:STANDARD
END:VTIMEZONE
BEGIN:VEVENT
DTSTAMP:20260421T201046Z
UID:8f21e39b-457d-454a-a63a-39630bb0fc1b
DTSTART;VALUE=DATE:20260525
DTEND;VALUE=DATE:20260526
DESCRIPTION:
LOCATION:
SUMMARY:No School- All Buildings Closed
END:VEVENT
BEGIN:VEVENT
DTSTAMP:20260421T201046Z
UID:0bc21a0c-a6a6-4337-911e-56a4180e5976
DTSTART;VALUE=DATE:20260529
DTEND;VALUE=DATE:20260530
DESCRIPTION:
LOCATION:
SUMMARY:Early Out
END:VEVENT
BEGIN:VEVENT
DTSTAMP:20260421T201046Z
UID:0bc1d025-a897-415d-b4c4-bfb371dc95e4
DTSTART;VALUE=DATE:20260529
DTEND;VALUE=DATE:20260530
DESCRIPTION:
LOCATION:
SUMMARY:End of 4th Quarter
END:VEVENT
BEGIN:VEVENT
DTSTAMP:20260421T201046Z
UID:6c78aa69-2f36-4448-afad-52182afcef6b
DTSTART;VALUE=DATE:20260529
DTEND;VALUE=DATE:20260530
DESCRIPTION:
LOCATION:
SUMMARY:Last Day for E-12 Students
END:VEVENT
BEGIN:VEVENT
DTSTAMP:20260421T201046Z
UID:f790bea6-7cb4-4281-ba4c-37e505de10e2
DTSTART;VALUE=DATE:20260619
DTEND;VALUE=DATE:20260620
DESCRIPTION:
LOCATION:
SUMMARY:All Buildings Closed
END:VEVENT
END:VCALENDAR
