BEGIN:VCALENDAR
VERSION:2.0
PRODID:icalendar-ruby
CALSCALE:GREGORIAN
BEGIN:VTIMEZONE
TZID:America/Chicago
BEGIN:DAYLIGHT
DTSTART:20260308T030000
TZOFFSETFROM:-0600
TZOFFSETTO:-0500
RRULE:FREQ=YEARLY;BYDAY=2SU;BYMONTH=3
TZNAME:CDT
END:DAYLIGHT
BEGIN:STANDARD
DTSTART:20261101T010000
TZOFFSETFROM:-0500
TZOFFSETTO:-0600
RRULE:FREQ=YEARLY;BYDAY=1SU;BYMONTH=11
TZNAME:CST
END:STANDARD
END:VTIMEZONE
BEGIN:VEVENT
DTSTAMP:20260423T232758Z
UID:ddb7167f-13b7-4881-9434-9f24e9ed5e75
DTSTART;VALUE=DATE:20260424
DTEND;VALUE=DATE:20260425
DESCRIPTION:
LOCATION:
SUMMARY:District Make up Snow Day #4
END:VEVENT
BEGIN:VEVENT
DTSTAMP:20260423T232758Z
UID:323c8f86-5a0e-4eef-97d9-cb3b1631c39c
DTSTART:20260424T163000
DTEND:20260424T173000
DESCRIPTION:
LOCATION:
SUMMARY:Softball @ Camden
END:VEVENT
BEGIN:VEVENT
DTSTAMP:20260423T232758Z
UID:a5912ab5-e13b-48db-a594-eab0d5e1d5df
DTSTART;VALUE=DATE:20260427
DTEND;VALUE=DATE:20260428
DESCRIPTION:
LOCATION:
SUMMARY:SR District Track @ Magnet Cove
END:VEVENT
BEGIN:VEVENT
DTSTAMP:20260423T232758Z
UID:9e7d616f-a18f-4787-91e5-3e4a6893374c
DTSTART:20260429T170000
DTEND:20260429T180000
DESCRIPTION:
LOCATION:
SUMMARY:Soccer vs Danville @HOME
END:VEVENT
BEGIN:VEVENT
DTSTAMP:20260423T232758Z
UID:3863fd85-f4ab-4725-9c69-ceb4207ab213
DTSTART:20260501T170000
DTEND:20260502T180000
DESCRIPTION:
LOCATION:
SUMMARY:Soccer @ Centerpoint
END:VEVENT
BEGIN:VEVENT
DTSTAMP:20260423T232758Z
UID:eb9211cf-aa1b-4e62-9682-2ebc17f9c769
DTSTART;VALUE=DATE:20260505
DTEND;VALUE=DATE:20260506
DESCRIPTION:This will be our FREE SPORTS PHYSICAL DAY
LOCATION:
SUMMARY:Wellness Center Medical Clinic & Free Sports Physicals
END:VEVENT
BEGIN:VEVENT
DTSTAMP:20260423T232758Z
UID:40362101-260c-41c3-b4e8-636edeb40301
DTSTART:20260506T093000
DTEND:20260506T100000
DESCRIPTION:
LOCATION:
SUMMARY:Colgate Virtual Dental Presentation - GPS 
END:VEVENT
BEGIN:VEVENT
DTSTAMP:20260423T232758Z
UID:e416274c-bbe2-4765-99fc-8645968e68f0
DTSTART:20260506T103000
DTEND:20260506T110000
DESCRIPTION:
LOCATION:
SUMMARY:Colgate Virtual Dental Presentation (4th-6th)
END:VEVENT
BEGIN:VEVENT
DTSTAMP:20260423T232758Z
UID:29f6fae8-f694-4712-b5cc-80f2d111a6e1
DTSTART:20260508T190000
DTEND:20260508T200000
DESCRIPTION:
LOCATION:
SUMMARY:Gurdon High School Class of 2026 Graduation
END:VEVENT
BEGIN:VEVENT
DTSTAMP:20260423T232758Z
UID:0bdb4982-66c3-48f3-91d3-33c1585bcebb
DTSTART:20260512T121500
DTEND:20260512T124500
DESCRIPTION:<p><br>──────────<br><br>Wendy Schaeffer is
  inviting you to a scheduled Zoom meeting.<br>Join Zoom Meeting<br>https:/
 /us05web.zoom.us/j/84788257781?pwd=iuQi38FsjIbNZcbkL4yJXUaUXCmvBO.1<br><br
 >Meeting ID: 847 8825 7781<br>Passcode: GF4nJW<br><br><br><br><br>──
 ────────</p>
LOCATION:https://us05web.zoom.us/j/84788257781?pwd=iuQi38FsjIbNZcbkL4yJXUaU
 XCmvBO.1&jst=3
SUMMARY:GPSD 4th QR Wellness Committee Meeting
END:VEVENT
BEGIN:VEVENT
DTSTAMP:20260423T232758Z
UID:372f5424-831a-48a8-a96c-43d00b2b81b6
DTSTART:20260519T183000
DTEND:20260519T193000
DESCRIPTION:
LOCATION:
SUMMARY:School Board Meeting
END:VEVENT
BEGIN:VEVENT
DTSTAMP:20260423T232758Z
UID:9477d55c-9ab0-490b-9113-24fda563c56d
DTSTART:20260609T183000
DTEND:20260609T193000
DESCRIPTION:
LOCATION:
SUMMARY:School Board Meeting
END:VEVENT
BEGIN:VEVENT
DTSTAMP:20260423T232758Z
UID:2ac0c39d-9e47-40ee-a0c5-2a278f3d5e30
DTSTART:20260721T183000
DTEND:20260721T193000
DESCRIPTION:
LOCATION:
SUMMARY:School Board Meeting
END:VEVENT
BEGIN:VEVENT
DTSTAMP:20260423T232758Z
UID:f2291d1b-cee4-4637-bdb3-316536e0c774
DTSTART;VALUE=DATE:20261021
DTEND;VALUE=DATE:20261022
DESCRIPTION:
LOCATION:
SUMMARY:GPSD Flu Clinic
END:VEVENT
END:VCALENDAR
