BEGIN:VCALENDAR
VERSION:2.0
PRODID:icalendar-ruby
CALSCALE:GREGORIAN
BEGIN:VTIMEZONE
TZID:America/Denver
BEGIN:DAYLIGHT
DTSTART:20260308T030000
TZOFFSETFROM:-0700
TZOFFSETTO:-0600
RRULE:FREQ=YEARLY;BYDAY=2SU;BYMONTH=3
TZNAME:MDT
END:DAYLIGHT
BEGIN:STANDARD
DTSTART:20261101T010000
TZOFFSETFROM:-0600
TZOFFSETTO:-0700
RRULE:FREQ=YEARLY;BYDAY=1SU;BYMONTH=11
TZNAME:MST
END:STANDARD
END:VTIMEZONE
BEGIN:VEVENT
DTSTAMP:20260421T084540Z
UID:300f7195-6260-429a-b36b-5ccc8455b8e3
DTSTART;VALUE=DATE:20260501
DTEND;VALUE=DATE:20260508
DESCRIPTION:
LOCATION:
SUMMARY:BOGO Bookfair
END:VEVENT
BEGIN:VEVENT
DTSTAMP:20260421T084540Z
UID:fb2eccd5-6cba-4ebc-adc5-73f057952900
DTSTART;VALUE=DATE:20260525
DTEND;VALUE=DATE:20260526
DESCRIPTION:
LOCATION:
SUMMARY:No School: Memorial Day
END:VEVENT
BEGIN:VEVENT
DTSTAMP:20260421T084540Z
UID:e64de0d6-8f2f-4b60-9aa4-1575e5fe18dc
DTSTART;VALUE=DATE:20260529
DTEND;VALUE=DATE:20260530
DESCRIPTION:
LOCATION:
SUMMARY:Last Day of School
END:VEVENT
BEGIN:VEVENT
DTSTAMP:20260421T084540Z
UID:4256918f-ff7f-4abf-9685-215793446966
DTSTART;VALUE=DATE:20270115
DTEND;VALUE=DATE:20270116
DESCRIPTION:
LOCATION:
SUMMARY:MLK Jr. Day - No School
END:VEVENT
BEGIN:VEVENT
DTSTAMP:20260421T084540Z
UID:a79cfca9-4112-47e3-9ae9-ec05c5906899
DTSTART;VALUE=DATE:20280115
DTEND;VALUE=DATE:20280116
DESCRIPTION:
LOCATION:
SUMMARY:MLK Jr. Day - No School
END:VEVENT
BEGIN:VEVENT
DTSTAMP:20260421T084540Z
UID:3c11e732-38d0-4ea9-9f69-4f505d743f70
DTSTART;VALUE=DATE:20290115
DTEND;VALUE=DATE:20290116
DESCRIPTION:
LOCATION:
SUMMARY:MLK Jr. Day - No School
END:VEVENT
BEGIN:VEVENT
DTSTAMP:20260421T084540Z
UID:725137d7-ddfc-4034-afe8-1331864afff1
DTSTART;VALUE=DATE:20300115
DTEND;VALUE=DATE:20300116
DESCRIPTION:
LOCATION:
SUMMARY:MLK Jr. Day - No School
END:VEVENT
BEGIN:VEVENT
DTSTAMP:20260421T084540Z
UID:abf07192-af2c-433b-82f6-db62f99de44f
DTSTART;VALUE=DATE:20310115
DTEND;VALUE=DATE:20310116
DESCRIPTION:
LOCATION:
SUMMARY:MLK Jr. Day - No School
END:VEVENT
BEGIN:VEVENT
DTSTAMP:20260421T084540Z
UID:07f49806-d0a5-4ac4-93db-f54a9eec7b7b
DTSTART;VALUE=DATE:20320115
DTEND;VALUE=DATE:20320116
DESCRIPTION:
LOCATION:
SUMMARY:MLK Jr. Day - No School
END:VEVENT
BEGIN:VEVENT
DTSTAMP:20260421T084540Z
UID:8f9700f3-2b35-48ec-b6e8-69752bb89586
DTSTART;VALUE=DATE:20330115
DTEND;VALUE=DATE:20330116
DESCRIPTION:
LOCATION:
SUMMARY:MLK Jr. Day - No School
END:VEVENT
BEGIN:VEVENT
DTSTAMP:20260421T084540Z
UID:d8be6dee-94c2-40fa-aeb6-964327492a07
DTSTART;VALUE=DATE:20340115
DTEND;VALUE=DATE:20340116
DESCRIPTION:
LOCATION:
SUMMARY:MLK Jr. Day - No School
END:VEVENT
BEGIN:VEVENT
DTSTAMP:20260421T084540Z
UID:9b139b98-cfa8-4f82-bcf5-d15d9504f5f5
DTSTART;VALUE=DATE:20350115
DTEND;VALUE=DATE:20350116
DESCRIPTION:
LOCATION:
SUMMARY:MLK Jr. Day - No School
END:VEVENT
BEGIN:VEVENT
DTSTAMP:20260421T084540Z
UID:eae77f5f-1ff1-491f-ba11-e975511f39f2
DTSTART;VALUE=DATE:20360115
DTEND;VALUE=DATE:20360116
DESCRIPTION:
LOCATION:
SUMMARY:MLK Jr. Day - No School
END:VEVENT
BEGIN:VEVENT
DTSTAMP:20260421T084540Z
UID:f4d8fc80-76c4-4c19-b701-7f9c0897167e
DTSTART;VALUE=DATE:20370115
DTEND;VALUE=DATE:20370116
DESCRIPTION:
LOCATION:
SUMMARY:MLK Jr. Day - No School
END:VEVENT
BEGIN:VEVENT
DTSTAMP:20260421T084540Z
UID:0d4b1e41-a04e-4aef-bd74-a9aa080eff3a
DTSTART;VALUE=DATE:20380115
DTEND;VALUE=DATE:20380116
DESCRIPTION:
LOCATION:
SUMMARY:MLK Jr. Day - No School
END:VEVENT
BEGIN:VEVENT
DTSTAMP:20260421T084540Z
UID:abd958a3-808e-4591-897c-5e41d029c8c8
DTSTART;VALUE=DATE:20390115
DTEND;VALUE=DATE:20390116
DESCRIPTION:
LOCATION:
SUMMARY:MLK Jr. Day - No School
END:VEVENT
BEGIN:VEVENT
DTSTAMP:20260421T084540Z
UID:786e3135-b378-40a3-8427-30ba5c6459a0
DTSTART;VALUE=DATE:20400115
DTEND;VALUE=DATE:20400116
DESCRIPTION:
LOCATION:
SUMMARY:MLK Jr. Day - No School
END:VEVENT
BEGIN:VEVENT
DTSTAMP:20260421T084540Z
UID:8b348deb-5482-47bf-9fb1-87c880db29fd
DTSTART;VALUE=DATE:20410115
DTEND;VALUE=DATE:20410116
DESCRIPTION:
LOCATION:
SUMMARY:MLK Jr. Day - No School
END:VEVENT
BEGIN:VEVENT
DTSTAMP:20260421T084540Z
UID:2b804aad-8b5c-45b7-9a72-56ca1f46de8a
DTSTART;VALUE=DATE:20420115
DTEND;VALUE=DATE:20420116
DESCRIPTION:
LOCATION:
SUMMARY:MLK Jr. Day - No School
END:VEVENT
BEGIN:VEVENT
DTSTAMP:20260421T084540Z
UID:d59f3f57-1b3a-48cd-b5ee-cbd5fade0e2f
DTSTART;VALUE=DATE:20430115
DTEND;VALUE=DATE:20430116
DESCRIPTION:
LOCATION:
SUMMARY:MLK Jr. Day - No School
END:VEVENT
BEGIN:VEVENT
DTSTAMP:20260421T084540Z
UID:97605f1c-6471-4b8f-9859-ffecdd98dfcc
DTSTART;VALUE=DATE:20440115
DTEND;VALUE=DATE:20440116
DESCRIPTION:
LOCATION:
SUMMARY:MLK Jr. Day - No School
END:VEVENT
BEGIN:VEVENT
DTSTAMP:20260421T084540Z
UID:40c1cffa-f18f-4b49-93e9-0663d24bd959
DTSTART;VALUE=DATE:20450115
DTEND;VALUE=DATE:20450116
DESCRIPTION:
LOCATION:
SUMMARY:MLK Jr. Day - No School
END:VEVENT
BEGIN:VEVENT
DTSTAMP:20260421T084540Z
UID:75697a4d-0427-4bda-8152-5787bfeb93ec
DTSTART;VALUE=DATE:20460115
DTEND;VALUE=DATE:20460116
DESCRIPTION:
LOCATION:
SUMMARY:MLK Jr. Day - No School
END:VEVENT
BEGIN:VEVENT
DTSTAMP:20260421T084540Z
UID:e57483d9-5fa3-4c71-ab17-9a4ffb945cd9
DTSTART;VALUE=DATE:20470115
DTEND;VALUE=DATE:20470116
DESCRIPTION:
LOCATION:
SUMMARY:MLK Jr. Day - No School
END:VEVENT
BEGIN:VEVENT
DTSTAMP:20260421T084540Z
UID:4afa9c96-6157-4c71-a249-26f429dc6b75
DTSTART;VALUE=DATE:20480115
DTEND;VALUE=DATE:20480116
DESCRIPTION:
LOCATION:
SUMMARY:MLK Jr. Day - No School
END:VEVENT
BEGIN:VEVENT
DTSTAMP:20260421T084540Z
UID:3ac9e84e-9fee-489d-8783-047b589ab6a6
DTSTART;VALUE=DATE:20490115
DTEND;VALUE=DATE:20490116
DESCRIPTION:
LOCATION:
SUMMARY:MLK Jr. Day - No School
END:VEVENT
BEGIN:VEVENT
DTSTAMP:20260421T084540Z
UID:2e53c2ad-02a3-4ddb-a12b-fbd9848c9189
DTSTART;VALUE=DATE:20500115
DTEND;VALUE=DATE:20500116
DESCRIPTION:
LOCATION:
SUMMARY:MLK Jr. Day - No School
END:VEVENT
BEGIN:VEVENT
DTSTAMP:20260421T084540Z
UID:7eb053a2-4587-4c16-bed8-af91343e471f
DTSTART;VALUE=DATE:20510115
DTEND;VALUE=DATE:20510116
DESCRIPTION:
LOCATION:
SUMMARY:MLK Jr. Day - No School
END:VEVENT
BEGIN:VEVENT
DTSTAMP:20260421T084540Z
UID:f945d59e-a4f0-4aa9-b4e9-2dd3f1c3f54d
DTSTART;VALUE=DATE:20520115
DTEND;VALUE=DATE:20520116
DESCRIPTION:
LOCATION:
SUMMARY:MLK Jr. Day - No School
END:VEVENT
BEGIN:VEVENT
DTSTAMP:20260421T084540Z
UID:8f691cd4-5dfb-4258-b22e-6fb568d624c0
DTSTART;VALUE=DATE:20530115
DTEND;VALUE=DATE:20530116
DESCRIPTION:
LOCATION:
SUMMARY:MLK Jr. Day - No School
END:VEVENT
BEGIN:VEVENT
DTSTAMP:20260421T084540Z
UID:0ad16602-6bb7-4ab8-aff6-bd40f78ff84b
DTSTART;VALUE=DATE:20540115
DTEND;VALUE=DATE:20540116
DESCRIPTION:
LOCATION:
SUMMARY:MLK Jr. Day - No School
END:VEVENT
BEGIN:VEVENT
DTSTAMP:20260421T084540Z
UID:602f80b8-4dea-4c11-9bde-064b5ea5dbdf
DTSTART;VALUE=DATE:20550115
DTEND;VALUE=DATE:20550116
DESCRIPTION:
LOCATION:
SUMMARY:MLK Jr. Day - No School
END:VEVENT
BEGIN:VEVENT
DTSTAMP:20260421T084540Z
UID:2a474c03-14d1-4c53-8ce3-889466417269
DTSTART;VALUE=DATE:20560115
DTEND;VALUE=DATE:20560116
DESCRIPTION:
LOCATION:
SUMMARY:MLK Jr. Day - No School
END:VEVENT
BEGIN:VEVENT
DTSTAMP:20260421T084540Z
UID:38051af1-c034-46ec-8a3d-f2942424b368
DTSTART;VALUE=DATE:20570115
DTEND;VALUE=DATE:20570116
DESCRIPTION:
LOCATION:
SUMMARY:MLK Jr. Day - No School
END:VEVENT
BEGIN:VEVENT
DTSTAMP:20260421T084540Z
UID:db7d49a0-c4ab-4daa-a378-ec9df5f06b4d
DTSTART;VALUE=DATE:20580115
DTEND;VALUE=DATE:20580116
DESCRIPTION:
LOCATION:
SUMMARY:MLK Jr. Day - No School
END:VEVENT
BEGIN:VEVENT
DTSTAMP:20260421T084540Z
UID:6a69abe7-3dc9-4056-9e71-f5adb9a0c930
DTSTART;VALUE=DATE:20590115
DTEND;VALUE=DATE:20590116
DESCRIPTION:
LOCATION:
SUMMARY:MLK Jr. Day - No School
END:VEVENT
BEGIN:VEVENT
DTSTAMP:20260421T084540Z
UID:b7ecd08a-e35f-40cd-b7b6-afb5d66440bf
DTSTART;VALUE=DATE:20600115
DTEND;VALUE=DATE:20600116
DESCRIPTION:
LOCATION:
SUMMARY:MLK Jr. Day - No School
END:VEVENT
BEGIN:VEVENT
DTSTAMP:20260421T084540Z
UID:138ed657-23bc-4411-b564-515d320e6b02
DTSTART;VALUE=DATE:20610115
DTEND;VALUE=DATE:20610116
DESCRIPTION:
LOCATION:
SUMMARY:MLK Jr. Day - No School
END:VEVENT
BEGIN:VEVENT
DTSTAMP:20260421T084540Z
UID:2ec68c50-9144-45de-b219-b77160a937eb
DTSTART;VALUE=DATE:20620115
DTEND;VALUE=DATE:20620116
DESCRIPTION:
LOCATION:
SUMMARY:MLK Jr. Day - No School
END:VEVENT
BEGIN:VEVENT
DTSTAMP:20260421T084540Z
UID:536f7b83-0fb6-4baf-a493-d7bb4e7b2e65
DTSTART;VALUE=DATE:20630115
DTEND;VALUE=DATE:20630116
DESCRIPTION:
LOCATION:
SUMMARY:MLK Jr. Day - No School
END:VEVENT
BEGIN:VEVENT
DTSTAMP:20260421T084540Z
UID:c69b98d7-f7a1-4e18-962d-d4e217e6cf45
DTSTART;VALUE=DATE:20640115
DTEND;VALUE=DATE:20640116
DESCRIPTION:
LOCATION:
SUMMARY:MLK Jr. Day - No School
END:VEVENT
BEGIN:VEVENT
DTSTAMP:20260421T084540Z
UID:5923ab03-c7f5-4118-9060-42b9653a95c3
DTSTART;VALUE=DATE:20650115
DTEND;VALUE=DATE:20650116
DESCRIPTION:
LOCATION:
SUMMARY:MLK Jr. Day - No School
END:VEVENT
BEGIN:VEVENT
DTSTAMP:20260421T084540Z
UID:eb710f05-1e43-4198-ac92-2880f4d9047f
DTSTART;VALUE=DATE:20660115
DTEND;VALUE=DATE:20660116
DESCRIPTION:
LOCATION:
SUMMARY:MLK Jr. Day - No School
END:VEVENT
BEGIN:VEVENT
DTSTAMP:20260421T084540Z
UID:18b5b75a-7661-4cf5-831f-dd8d8372e8b6
DTSTART;VALUE=DATE:20670115
DTEND;VALUE=DATE:20670116
DESCRIPTION:
LOCATION:
SUMMARY:MLK Jr. Day - No School
END:VEVENT
BEGIN:VEVENT
DTSTAMP:20260421T084540Z
UID:ca73d977-8dcf-443a-8035-debe60033624
DTSTART;VALUE=DATE:20680115
DTEND;VALUE=DATE:20680116
DESCRIPTION:
LOCATION:
SUMMARY:MLK Jr. Day - No School
END:VEVENT
BEGIN:VEVENT
DTSTAMP:20260421T084540Z
UID:132b0355-d88f-4160-8a3a-55c03f3f6840
DTSTART;VALUE=DATE:20690115
DTEND;VALUE=DATE:20690116
DESCRIPTION:
LOCATION:
SUMMARY:MLK Jr. Day - No School
END:VEVENT
BEGIN:VEVENT
DTSTAMP:20260421T084540Z
UID:13d31040-e790-4eff-902d-891071cf6219
DTSTART;VALUE=DATE:20700115
DTEND;VALUE=DATE:20700116
DESCRIPTION:
LOCATION:
SUMMARY:MLK Jr. Day - No School
END:VEVENT
BEGIN:VEVENT
DTSTAMP:20260421T084540Z
UID:36513fd2-6564-475c-ade8-7786499c948d
DTSTART;VALUE=DATE:20710115
DTEND;VALUE=DATE:20710116
DESCRIPTION:
LOCATION:
SUMMARY:MLK Jr. Day - No School
END:VEVENT
BEGIN:VEVENT
DTSTAMP:20260421T084540Z
UID:f0cdfee4-4285-4948-b2d7-a1bbc5250d72
DTSTART;VALUE=DATE:20720115
DTEND;VALUE=DATE:20720116
DESCRIPTION:
LOCATION:
SUMMARY:MLK Jr. Day - No School
END:VEVENT
BEGIN:VEVENT
DTSTAMP:20260421T084540Z
UID:d5989396-fd40-410d-83d8-8f8ca620b486
DTSTART;VALUE=DATE:20730115
DTEND;VALUE=DATE:20730116
DESCRIPTION:
LOCATION:
SUMMARY:MLK Jr. Day - No School
END:VEVENT
BEGIN:VEVENT
DTSTAMP:20260421T084540Z
UID:dab5abbc-89bc-4747-8e3a-733a7a226a03
DTSTART;VALUE=DATE:20740115
DTEND;VALUE=DATE:20740116
DESCRIPTION:
LOCATION:
SUMMARY:MLK Jr. Day - No School
END:VEVENT
BEGIN:VEVENT
DTSTAMP:20260421T084540Z
UID:a78d75e0-4dd9-467c-a138-1a32e07cb3c4
DTSTART;VALUE=DATE:20750115
DTEND;VALUE=DATE:20750116
DESCRIPTION:
LOCATION:
SUMMARY:MLK Jr. Day - No School
END:VEVENT
BEGIN:VEVENT
DTSTAMP:20260421T084540Z
UID:70e84de7-1b82-432c-bc5a-f6eff5edb9ff
DTSTART;VALUE=DATE:20760115
DTEND;VALUE=DATE:20760116
DESCRIPTION:
LOCATION:
SUMMARY:MLK Jr. Day - No School
END:VEVENT
BEGIN:VEVENT
DTSTAMP:20260421T084540Z
UID:5f36fc75-cc3b-4a3c-98d9-097db443bd9d
DTSTART;VALUE=DATE:20770115
DTEND;VALUE=DATE:20770116
DESCRIPTION:
LOCATION:
SUMMARY:MLK Jr. Day - No School
END:VEVENT
BEGIN:VEVENT
DTSTAMP:20260421T084540Z
UID:45af0fc5-9829-43bd-a993-40fe642b80ac
DTSTART;VALUE=DATE:20780115
DTEND;VALUE=DATE:20780116
DESCRIPTION:
LOCATION:
SUMMARY:MLK Jr. Day - No School
END:VEVENT
BEGIN:VEVENT
DTSTAMP:20260421T084540Z
UID:4d6ba1e4-3996-476a-9471-711c448f11a7
DTSTART;VALUE=DATE:20790115
DTEND;VALUE=DATE:20790116
DESCRIPTION:
LOCATION:
SUMMARY:MLK Jr. Day - No School
END:VEVENT
BEGIN:VEVENT
DTSTAMP:20260421T084540Z
UID:8f23e7ae-0557-4c39-86c7-6764e84f6b62
DTSTART;VALUE=DATE:20800115
DTEND;VALUE=DATE:20800116
DESCRIPTION:
LOCATION:
SUMMARY:MLK Jr. Day - No School
END:VEVENT
BEGIN:VEVENT
DTSTAMP:20260421T084540Z
UID:ec6b90ee-7615-4ce3-a7c8-13cc7187d6e6
DTSTART;VALUE=DATE:20810115
DTEND;VALUE=DATE:20810116
DESCRIPTION:
LOCATION:
SUMMARY:MLK Jr. Day - No School
END:VEVENT
BEGIN:VEVENT
DTSTAMP:20260421T084540Z
UID:95f14d84-248f-4c6b-91cc-c8acdefc14aa
DTSTART;VALUE=DATE:20820115
DTEND;VALUE=DATE:20820116
DESCRIPTION:
LOCATION:
SUMMARY:MLK Jr. Day - No School
END:VEVENT
BEGIN:VEVENT
DTSTAMP:20260421T084540Z
UID:8afe8781-ab0e-4e59-ab6c-1c0a7775d93b
DTSTART;VALUE=DATE:20830115
DTEND;VALUE=DATE:20830116
DESCRIPTION:
LOCATION:
SUMMARY:MLK Jr. Day - No School
END:VEVENT
BEGIN:VEVENT
DTSTAMP:20260421T084540Z
UID:b1664e84-cc1d-45a2-8721-5f27e8bc91f1
DTSTART;VALUE=DATE:20840115
DTEND;VALUE=DATE:20840116
DESCRIPTION:
LOCATION:
SUMMARY:MLK Jr. Day - No School
END:VEVENT
BEGIN:VEVENT
DTSTAMP:20260421T084540Z
UID:3a47b9f9-8209-4d78-bf5f-ee52693639e3
DTSTART;VALUE=DATE:20850115
DTEND;VALUE=DATE:20850116
DESCRIPTION:
LOCATION:
SUMMARY:MLK Jr. Day - No School
END:VEVENT
BEGIN:VEVENT
DTSTAMP:20260421T084540Z
UID:342acd3e-31e5-445e-9890-d95af2bf52ea
DTSTART;VALUE=DATE:20860115
DTEND;VALUE=DATE:20860116
DESCRIPTION:
LOCATION:
SUMMARY:MLK Jr. Day - No School
END:VEVENT
BEGIN:VEVENT
DTSTAMP:20260421T084540Z
UID:bb0ad4b7-57da-445f-8654-551453a4d3e1
DTSTART;VALUE=DATE:20870115
DTEND;VALUE=DATE:20870116
DESCRIPTION:
LOCATION:
SUMMARY:MLK Jr. Day - No School
END:VEVENT
BEGIN:VEVENT
DTSTAMP:20260421T084540Z
UID:01728adf-116f-45ac-9c86-04473ad1d932
DTSTART;VALUE=DATE:20880115
DTEND;VALUE=DATE:20880116
DESCRIPTION:
LOCATION:
SUMMARY:MLK Jr. Day - No School
END:VEVENT
BEGIN:VEVENT
DTSTAMP:20260421T084540Z
UID:ec771850-62f8-4f46-92c4-32c8e44a1932
DTSTART;VALUE=DATE:20890115
DTEND;VALUE=DATE:20890116
DESCRIPTION:
LOCATION:
SUMMARY:MLK Jr. Day - No School
END:VEVENT
BEGIN:VEVENT
DTSTAMP:20260421T084540Z
UID:c2f6d9a6-b3b4-4b5c-87bc-3f4c17b86686
DTSTART;VALUE=DATE:20900115
DTEND;VALUE=DATE:20900116
DESCRIPTION:
LOCATION:
SUMMARY:MLK Jr. Day - No School
END:VEVENT
BEGIN:VEVENT
DTSTAMP:20260421T084540Z
UID:7ff2ed3b-ffee-4aa6-a1e2-dbe3bc041b7f
DTSTART;VALUE=DATE:20910115
DTEND;VALUE=DATE:20910116
DESCRIPTION:
LOCATION:
SUMMARY:MLK Jr. Day - No School
END:VEVENT
BEGIN:VEVENT
DTSTAMP:20260421T084540Z
UID:95a573cc-271a-4e0f-9046-d0fa1c4e4493
DTSTART;VALUE=DATE:20920115
DTEND;VALUE=DATE:20920116
DESCRIPTION:
LOCATION:
SUMMARY:MLK Jr. Day - No School
END:VEVENT
BEGIN:VEVENT
DTSTAMP:20260421T084540Z
UID:9426489e-2e4c-4611-aa70-0f8bf95f5eb5
DTSTART;VALUE=DATE:20930115
DTEND;VALUE=DATE:20930116
DESCRIPTION:
LOCATION:
SUMMARY:MLK Jr. Day - No School
END:VEVENT
BEGIN:VEVENT
DTSTAMP:20260421T084540Z
UID:2252ba7d-c697-4984-b953-1b36ac4fe4d5
DTSTART;VALUE=DATE:20940115
DTEND;VALUE=DATE:20940116
DESCRIPTION:
LOCATION:
SUMMARY:MLK Jr. Day - No School
END:VEVENT
BEGIN:VEVENT
DTSTAMP:20260421T084540Z
UID:fd4be2e8-8d2b-4d11-9a9a-db838e3dfa84
DTSTART;VALUE=DATE:20950115
DTEND;VALUE=DATE:20950116
DESCRIPTION:
LOCATION:
SUMMARY:MLK Jr. Day - No School
END:VEVENT
BEGIN:VEVENT
DTSTAMP:20260421T084540Z
UID:8a433e89-8c54-4195-8f07-21b79d3f3e55
DTSTART;VALUE=DATE:20960115
DTEND;VALUE=DATE:20960116
DESCRIPTION:
LOCATION:
SUMMARY:MLK Jr. Day - No School
END:VEVENT
BEGIN:VEVENT
DTSTAMP:20260421T084540Z
UID:1493b3f9-453e-44d4-b91e-0baa01461517
DTSTART;VALUE=DATE:20970115
DTEND;VALUE=DATE:20970116
DESCRIPTION:
LOCATION:
SUMMARY:MLK Jr. Day - No School
END:VEVENT
BEGIN:VEVENT
DTSTAMP:20260421T084540Z
UID:735705b1-c937-4d38-b8d7-2bbd2bd25a2e
DTSTART;VALUE=DATE:20980115
DTEND;VALUE=DATE:20980116
DESCRIPTION:
LOCATION:
SUMMARY:MLK Jr. Day - No School
END:VEVENT
BEGIN:VEVENT
DTSTAMP:20260421T084540Z
UID:d4a1f724-27ed-4178-9d2c-5a303f0b9579
DTSTART;VALUE=DATE:20990115
DTEND;VALUE=DATE:20990116
DESCRIPTION:
LOCATION:
SUMMARY:MLK Jr. Day - No School
END:VEVENT
END:VCALENDAR
