BEGIN:VCALENDAR
VERSION:2.0
PRODID:icalendar-ruby
CALSCALE:GREGORIAN
BEGIN:VTIMEZONE
TZID:America/Chicago
BEGIN:DAYLIGHT
DTSTART:20260308T030000
TZOFFSETFROM:-0600
TZOFFSETTO:-0500
RRULE:FREQ=YEARLY;BYDAY=2SU;BYMONTH=3
TZNAME:CDT
END:DAYLIGHT
BEGIN:STANDARD
DTSTART:20261101T010000
TZOFFSETFROM:-0500
TZOFFSETTO:-0600
RRULE:FREQ=YEARLY;BYDAY=1SU;BYMONTH=11
TZNAME:CST
END:STANDARD
END:VTIMEZONE
BEGIN:VEVENT
DTSTAMP:20260421T161424Z
UID:c3879b56-7fdf-459b-afcd-8c56b0ae766b
DTSTART:20260427T180000
DTEND:20260427T190000
DESCRIPTION:School Board Meeting (Regulard Meeting) 6 PM
LOCATION:
SUMMARY:School Board Meeting (Regulard Meeting) 6 PM
END:VEVENT
BEGIN:VEVENT
DTSTAMP:20260421T161424Z
UID:9b1044cc-c358-4b0a-8c3f-f45fcc48962b
DTSTART:20260502T180000
DTEND:20260502T234500
DESCRIPTION:
LOCATION:
SUMMARY:Prom
END:VEVENT
BEGIN:VEVENT
DTSTAMP:20260421T161424Z
UID:28e5c12b-9f57-414f-9a71-a25199c51d0f
DTSTART:20260506T123000
DTEND:20260506T133000
DESCRIPTION:
LOCATION:
SUMMARY:PowWow
END:VEVENT
BEGIN:VEVENT
DTSTAMP:20260421T161424Z
UID:3690d920-d1c8-4fde-8826-0b3bc159b0ec
DTSTART:20260511T180000
DTEND:20260511T190000
DESCRIPTION:School Board Meeting (Quarterly Work Session) 6 PM
LOCATION:
SUMMARY:School Board Meeting (Quarterly Work Session) 6 PM
END:VEVENT
BEGIN:VEVENT
DTSTAMP:20260421T161424Z
UID:f52c239e-bd85-46dc-85ca-9e6569ea3cee
DTSTART:20260512T180000
DTEND:20260512T190000
DESCRIPTION:
LOCATION:
SUMMARY:Choir Concert Junior and Senior High
END:VEVENT
BEGIN:VEVENT
DTSTAMP:20260421T161424Z
UID:4a1d2265-c903-4def-ac67-4aebccc2e9cc
DTSTART:20260513T135000
DTEND:20260513T153000
DESCRIPTION:
LOCATION:
SUMMARY:Early Out - Teacher PLCs
END:VEVENT
BEGIN:VEVENT
DTSTAMP:20260421T161424Z
UID:577421a1-663c-492c-99c7-1d2647ded0b4
DTSTART:20260515T180000
DTEND:20260515T190000
DESCRIPTION:This is the spring band concert. This concert will feature perf
 ormances by the elementary (5th and 6th grade)\, junior high and high scho
 ol bands. The concert will begin at 6 pm.
LOCATION:
SUMMARY:Band Concert featuring Elementary\, Junior High and High School Ban
 ds
END:VEVENT
BEGIN:VEVENT
DTSTAMP:20260421T161424Z
UID:7ade7a2d-a716-41c9-9027-d1b61890dc7a
DTSTART;VALUE=DATE:20260522
DTEND;VALUE=DATE:20260523
DESCRIPTION:
LOCATION:
SUMMARY:Senior's Last Day
END:VEVENT
BEGIN:VEVENT
DTSTAMP:20260421T161424Z
UID:3d73a78a-922d-4cc9-9a53-81f6241f3b13
DTSTART;VALUE=DATE:20260525
DTEND;VALUE=DATE:20260526
DESCRIPTION:
LOCATION:
SUMMARY:No School
END:VEVENT
BEGIN:VEVENT
DTSTAMP:20260421T161424Z
UID:b0cf9c41-c7f3-4658-ac58-bf0798daa82f
DTSTART:20260525T180000
DTEND:20260525T190000
DESCRIPTION:School Board Meeting (Regulard Meeting) 6 PM
LOCATION:
SUMMARY:WILL BE RESCHEDULED - Memorial Day - School Board Meeting (Regulard
  Meeting) 6 PM
END:VEVENT
BEGIN:VEVENT
DTSTAMP:20260421T161424Z
UID:ada7c3e5-359b-4b00-a921-a8a6aa8f3710
DTSTART;VALUE=DATE:20260529
DTEND;VALUE=DATE:20260530
DESCRIPTION:
LOCATION:
SUMMARY:Quarter End
END:VEVENT
BEGIN:VEVENT
DTSTAMP:20260421T161424Z
UID:2179d768-b36b-4c60-9433-a20cceff6f6d
DTSTART:20260529T124500
DTEND:20260529T153000
DESCRIPTION:
LOCATION:
SUMMARY:Quarter Ends Early Out
END:VEVENT
BEGIN:VEVENT
DTSTAMP:20260421T161424Z
UID:741bb48f-ea2a-4bc3-ad90-ace40f81f789
DTSTART;VALUE=DATE:20260601
DTEND;VALUE=DATE:20260602
DESCRIPTION:
LOCATION:
SUMMARY:Vacation - Snow Makeup Day
END:VEVENT
BEGIN:VEVENT
DTSTAMP:20260421T161424Z
UID:31a6f1d8-4b79-41cd-abaa-a0ae1ee9500b
DTSTART;VALUE=DATE:20260602
DTEND;VALUE=DATE:20260603
DESCRIPTION:
LOCATION:
SUMMARY:Vacation - Snow Makeup Day
END:VEVENT
BEGIN:VEVENT
DTSTAMP:20260421T161424Z
UID:cddf598a-d794-4e7c-bae5-6a4b9708fb38
DTSTART;VALUE=DATE:20260619
DTEND;VALUE=DATE:20260620
DESCRIPTION:
LOCATION:
SUMMARY:Juneteenth - Vacation Day
END:VEVENT
BEGIN:VEVENT
DTSTAMP:20260421T161424Z
UID:0f96749e-85cc-4f16-a3d7-52ec587b5381
DTSTART:20260622T180000
DTEND:20260622T190000
DESCRIPTION:School Board Meeting (Regulard Meeting) 6 PM
LOCATION:
SUMMARY:School Board Meeting (Regulard Meeting) 6 PM
END:VEVENT
BEGIN:VEVENT
DTSTAMP:20260421T161424Z
UID:08374b8c-af98-4265-99c4-c3d723eb143c
DTSTART;VALUE=DATE:20260703
DTEND;VALUE=DATE:20260704
DESCRIPTION:
LOCATION:
SUMMARY:No School - July 4th
END:VEVENT
BEGIN:VEVENT
DTSTAMP:20260421T161424Z
UID:b6db39af-cc9d-4da5-8c84-b6e6be325b0d
DTSTART;VALUE=DATE:20260831
DTEND;VALUE=DATE:20260901
DESCRIPTION:
LOCATION:
SUMMARY:Faculty Workshop - No School for Students
END:VEVENT
BEGIN:VEVENT
DTSTAMP:20260421T161424Z
UID:0a5e784c-cf7b-4d90-8af5-b6df9d925272
DTSTART;VALUE=DATE:20260901
DTEND;VALUE=DATE:20260902
DESCRIPTION:
LOCATION:
SUMMARY:Faculty Workshop - No School for Students
END:VEVENT
BEGIN:VEVENT
DTSTAMP:20260421T161424Z
UID:db10b359-1cc9-4c2e-86bb-73d0f5396e1c
DTSTART:20260902T120000
DTEND:20260902T193000
DESCRIPTION:
LOCATION:
SUMMARY:Faculty Workshop - No School for Students - Open House Day 12 to 7:
 30 PM
END:VEVENT
BEGIN:VEVENT
DTSTAMP:20260421T161424Z
UID:9b260137-9ac3-4545-8ad3-53b14ab27728
DTSTART;VALUE=DATE:20260903
DTEND;VALUE=DATE:20260904
DESCRIPTION:
LOCATION:
SUMMARY:Inservice Day for Teachers
END:VEVENT
BEGIN:VEVENT
DTSTAMP:20260421T161424Z
UID:7bcbc7c3-638e-4c5c-9b1c-89a1fd6d0988
DTSTART;VALUE=DATE:20260907
DTEND;VALUE=DATE:20260908
DESCRIPTION:
LOCATION:
SUMMARY:Holiday - No School
END:VEVENT
BEGIN:VEVENT
DTSTAMP:20260421T161424Z
UID:a5315bc3-55af-4621-8e3f-1d89c2a1e17f
DTSTART;VALUE=DATE:20260908
DTEND;VALUE=DATE:20260909
DESCRIPTION:
LOCATION:
SUMMARY:First Day of School 2026
END:VEVENT
BEGIN:VEVENT
DTSTAMP:20260421T161424Z
UID:7f0dae78-0d49-4cc9-965d-d90e5c376a8f
DTSTART:20261014T135000
DTEND:20261014T153000
DESCRIPTION:
LOCATION:
SUMMARY:Early Out - Teacher PLCs
END:VEVENT
BEGIN:VEVENT
DTSTAMP:20260421T161424Z
UID:184d954c-bcb1-4970-9c69-c44918dce2ea
DTSTART;VALUE=DATE:20261015
DTEND;VALUE=DATE:20261016
DESCRIPTION:
LOCATION:
SUMMARY:Holiday - No School
END:VEVENT
BEGIN:VEVENT
DTSTAMP:20260421T161424Z
UID:e4a4656c-bc09-4567-8bce-3e8bb83c3948
DTSTART;VALUE=DATE:20261016
DTEND;VALUE=DATE:20261017
DESCRIPTION:
LOCATION:
SUMMARY:Holiday - No School
END:VEVENT
BEGIN:VEVENT
DTSTAMP:20260421T161424Z
UID:a96df5cd-002e-4435-8099-1f0b2aaada5c
DTSTART;VALUE=DATE:20261106
DTEND;VALUE=DATE:20261107
DESCRIPTION:
LOCATION:
SUMMARY:Quarter End
END:VEVENT
BEGIN:VEVENT
DTSTAMP:20260421T161424Z
UID:da7ab8d9-c9f3-44ed-b69b-4db10f017666
DTSTART:20261106T135000
DTEND:20261106T153000
DESCRIPTION:
LOCATION:
SUMMARY:Early Out - Teacher PLCs
END:VEVENT
BEGIN:VEVENT
DTSTAMP:20260421T161424Z
UID:6ddb39ba-3be6-4804-bd06-a92666b0e9ab
DTSTART:20261112T160000
DTEND:20261112T193000
DESCRIPTION:
LOCATION:
SUMMARY:Conferences
END:VEVENT
BEGIN:VEVENT
DTSTAMP:20260421T161424Z
UID:ae25c744-5d7a-4caf-b6d2-55de182cb624
DTSTART:20261117T160000
DTEND:20261117T193000
DESCRIPTION:
LOCATION:
SUMMARY:Conferences
END:VEVENT
BEGIN:VEVENT
DTSTAMP:20260421T161424Z
UID:1e95707e-ede0-4c06-bd2b-7f15f46c9d61
DTSTART:20261118T135000
DTEND:20261118T153000
DESCRIPTION:
LOCATION:
SUMMARY:Early Out - Teacher PLCs
END:VEVENT
BEGIN:VEVENT
DTSTAMP:20260421T161424Z
UID:f8f4c095-bafc-4713-b90d-4940fa132a73
DTSTART;VALUE=DATE:20261126
DTEND;VALUE=DATE:20261127
DESCRIPTION:
LOCATION:
SUMMARY:Holiday - No School
END:VEVENT
BEGIN:VEVENT
DTSTAMP:20260421T161424Z
UID:1999a9bc-c39b-4bd3-9949-1fe68bb1fa44
DTSTART;VALUE=DATE:20261127
DTEND;VALUE=DATE:20261128
DESCRIPTION:
LOCATION:
SUMMARY:Holiday - No School
END:VEVENT
BEGIN:VEVENT
DTSTAMP:20260421T161424Z
UID:e2fab82b-f487-451f-83a2-8265c6c5cdfb
DTSTART;VALUE=DATE:20261224
DTEND;VALUE=DATE:20261225
DESCRIPTION:
LOCATION:
SUMMARY:Holiday - No School
END:VEVENT
BEGIN:VEVENT
DTSTAMP:20260421T161424Z
UID:3c352fd8-4225-4844-a9d0-b509589f513b
DTSTART;VALUE=DATE:20261225
DTEND;VALUE=DATE:20261226
DESCRIPTION:
LOCATION:
SUMMARY:Holiday - No School
END:VEVENT
BEGIN:VEVENT
DTSTAMP:20260421T161424Z
UID:f58689cc-ce13-45b1-ac53-e5e9834a27b4
DTSTART;VALUE=DATE:20261228
DTEND;VALUE=DATE:20261229
DESCRIPTION:
LOCATION:
SUMMARY:Holiday - No School
END:VEVENT
BEGIN:VEVENT
DTSTAMP:20260421T161424Z
UID:c86df30c-d73a-415e-8f2d-7d46998bef78
DTSTART;VALUE=DATE:20261229
DTEND;VALUE=DATE:20261230
DESCRIPTION:
LOCATION:
SUMMARY:Holiday - No School
END:VEVENT
BEGIN:VEVENT
DTSTAMP:20260421T161424Z
UID:b72d0151-b994-4f2e-b83f-e36faf72b3c8
DTSTART;VALUE=DATE:20261230
DTEND;VALUE=DATE:20261231
DESCRIPTION:
LOCATION:
SUMMARY:Holiday - No School
END:VEVENT
BEGIN:VEVENT
DTSTAMP:20260421T161424Z
UID:f2365b0c-1e24-49bb-8d6a-4033cc27dcbf
DTSTART;VALUE=DATE:20261231
DTEND;VALUE=DATE:20270101
DESCRIPTION:
LOCATION:
SUMMARY:Holiday - No School
END:VEVENT
BEGIN:VEVENT
DTSTAMP:20260421T161424Z
UID:cb406ca2-ff00-48fd-9600-1424d77e0f6e
DTSTART;VALUE=DATE:20270101
DTEND;VALUE=DATE:20270102
DESCRIPTION:
LOCATION:
SUMMARY:Holiday - No School
END:VEVENT
BEGIN:VEVENT
DTSTAMP:20260421T161424Z
UID:3ced7083-37cb-4da6-b068-c493332afc09
DTSTART:20270113T135000
DTEND:20270113T153000
DESCRIPTION:
LOCATION:
SUMMARY:Early Out - Teacher PLCs
END:VEVENT
BEGIN:VEVENT
DTSTAMP:20260421T161424Z
UID:0d59f6c1-8032-45c8-ac14-04c9afd4429c
DTSTART;VALUE=DATE:20270115
DTEND;VALUE=DATE:20270116
DESCRIPTION:
LOCATION:
SUMMARY:Semester End
END:VEVENT
BEGIN:VEVENT
DTSTAMP:20260421T161424Z
UID:36cb221c-0aed-46f8-ade7-36563ad0804e
DTSTART;VALUE=DATE:20270118
DTEND;VALUE=DATE:20270119
DESCRIPTION:
LOCATION:
SUMMARY:Faculty Workshop - No School for Students
END:VEVENT
BEGIN:VEVENT
DTSTAMP:20260421T161424Z
UID:be88c0af-72ed-4946-93b1-0aab343dfaf5
DTSTART;VALUE=DATE:20270125
DTEND;VALUE=DATE:20270126
DESCRIPTION:
LOCATION:
SUMMARY:Inservice Day for Teachers
END:VEVENT
BEGIN:VEVENT
DTSTAMP:20260421T161424Z
UID:403a5d6f-246d-43d2-acd5-45f626d63346
DTSTART;VALUE=DATE:20270215
DTEND;VALUE=DATE:20270216
DESCRIPTION:
LOCATION:
SUMMARY:PLCs - No Students
END:VEVENT
BEGIN:VEVENT
DTSTAMP:20260421T161424Z
UID:89fce83e-e88b-4b35-8e50-7f7e8ba7bac8
DTSTART:20270302T160000
DTEND:20270302T193000
DESCRIPTION:
LOCATION:
SUMMARY:Conferences
END:VEVENT
BEGIN:VEVENT
DTSTAMP:20260421T161424Z
UID:21b50c2c-fad3-4ec8-9cf0-1007a80a8f5c
DTSTART:20270304T160000
DTEND:20270304T193000
DESCRIPTION:
LOCATION:
SUMMARY:Conferences
END:VEVENT
BEGIN:VEVENT
DTSTAMP:20260421T161424Z
UID:f53e25d2-ee92-4671-8daa-548b0d454afd
DTSTART:20270310T135000
DTEND:20270310T153000
DESCRIPTION:
LOCATION:
SUMMARY:Early Out - Teacher PLCs
END:VEVENT
BEGIN:VEVENT
DTSTAMP:20260421T161424Z
UID:7bd17770-bacc-47d9-b1b3-4d2df367a149
DTSTART;VALUE=DATE:20270319
DTEND;VALUE=DATE:20270320
DESCRIPTION:
LOCATION:
SUMMARY:Quarter End
END:VEVENT
BEGIN:VEVENT
DTSTAMP:20260421T161424Z
UID:0dcbbfec-87bf-47eb-8ad1-6197ab0b3fb4
DTSTART;VALUE=DATE:20270322
DTEND;VALUE=DATE:20270327
DESCRIPTION:
LOCATION:
SUMMARY:Spring Break No School
END:VEVENT
BEGIN:VEVENT
DTSTAMP:20260421T161424Z
UID:d0b4d090-0e3a-4f8d-8fed-978f663c908e
DTSTART;VALUE=DATE:20270329
DTEND;VALUE=DATE:20270330
DESCRIPTION:
LOCATION:
SUMMARY:Holiday - No School
END:VEVENT
BEGIN:VEVENT
DTSTAMP:20260421T161424Z
UID:30fd004a-6bc2-4317-b0d7-788c6bcd9b05
DTSTART;VALUE=DATE:20270416
DTEND;VALUE=DATE:20270417
DESCRIPTION:
LOCATION:
SUMMARY:PLCs - No Students
END:VEVENT
BEGIN:VEVENT
DTSTAMP:20260421T161424Z
UID:1482050e-60b1-4809-b179-9d492f240e75
DTSTART;VALUE=DATE:20270521
DTEND;VALUE=DATE:20270522
DESCRIPTION:
LOCATION:
SUMMARY:Senior's Last Day
END:VEVENT
BEGIN:VEVENT
DTSTAMP:20260421T161424Z
UID:199ff8c8-27c0-4e24-958e-4d992c35b754
DTSTART;VALUE=DATE:20270523
DTEND;VALUE=DATE:20270524
DESCRIPTION:
LOCATION:
SUMMARY:Graduation!!
END:VEVENT
BEGIN:VEVENT
DTSTAMP:20260421T161424Z
UID:a3407607-b70e-45f0-a114-852e8ab0f1f5
DTSTART;VALUE=DATE:20270531
DTEND;VALUE=DATE:20270601
DESCRIPTION:
LOCATION:
SUMMARY:Holiday - No School
END:VEVENT
BEGIN:VEVENT
DTSTAMP:20260421T161424Z
UID:0e5ea834-659f-45e5-96f2-12a08811f58a
DTSTART;VALUE=DATE:20270602
DTEND;VALUE=DATE:20270603
DESCRIPTION:
LOCATION:
SUMMARY:Quarter End
END:VEVENT
BEGIN:VEVENT
DTSTAMP:20260421T161424Z
UID:ad377b19-430b-4453-b3a5-51b4afb62a98
DTSTART:20270602T135000
DTEND:20270602T153000
DESCRIPTION:
LOCATION:
SUMMARY:Early Out - Teacher PLCs
END:VEVENT
BEGIN:VEVENT
DTSTAMP:20260421T161424Z
UID:d8372c4f-d6c5-429f-bc18-58e456b5efc8
DTSTART;VALUE=DATE:20270603
DTEND;VALUE=DATE:20270604
DESCRIPTION:
LOCATION:
SUMMARY:Vacation - No School - Snow Day Makeup
END:VEVENT
BEGIN:VEVENT
DTSTAMP:20260421T161424Z
UID:ae846e50-61be-4bd9-98e0-b7347d76fb5a
DTSTART;VALUE=DATE:20270604
DTEND;VALUE=DATE:20270605
DESCRIPTION:
LOCATION:
SUMMARY:Vacation - No School - Snow Day Makeup
END:VEVENT
BEGIN:VEVENT
DTSTAMP:20260421T161424Z
UID:d9ba853c-2a9c-4532-b98d-9d549a53dfad
DTSTART;VALUE=DATE:20270618
DTEND;VALUE=DATE:20270619
DESCRIPTION:
LOCATION:
SUMMARY:Holiday - No School
END:VEVENT
END:VCALENDAR
