BEGIN:VCALENDAR
VERSION:2.0
PRODID:icalendar-ruby
CALSCALE:GREGORIAN
BEGIN:VTIMEZONE
TZID:America/New_York
BEGIN:DAYLIGHT
DTSTART:20260308T030000
TZOFFSETFROM:-0500
TZOFFSETTO:-0400
RRULE:FREQ=YEARLY;BYDAY=2SU;BYMONTH=3
TZNAME:EDT
END:DAYLIGHT
BEGIN:STANDARD
DTSTART:20261101T010000
TZOFFSETFROM:-0400
TZOFFSETTO:-0500
RRULE:FREQ=YEARLY;BYDAY=1SU;BYMONTH=11
TZNAME:EST
END:STANDARD
END:VTIMEZONE
BEGIN:VEVENT
DTSTAMP:20260423T162008Z
UID:7dab1434-6f11-4018-bd2c-b805017dd5a1
DTSTART:20260525T073000
DTEND:20260525T153000
DESCRIPTION:
LOCATION:
SUMMARY:No School- Memorial Day
END:VEVENT
BEGIN:VEVENT
DTSTAMP:20260423T162008Z
UID:d28a0a8f-5e1f-488a-acce-5200a9ef3e6d
DTSTART:20260610T180000
DTEND:20260610T190000
DESCRIPTION:
LOCATION:
SUMMARY:Watervliet WAY Graduation
END:VEVENT
END:VCALENDAR
