BEGIN:VCALENDAR
VERSION:2.0
PRODID:icalendar-ruby
CALSCALE:GREGORIAN
BEGIN:VTIMEZONE
TZID:America/New_York
BEGIN:DAYLIGHT
DTSTART:20260308T030000
TZOFFSETFROM:-0500
TZOFFSETTO:-0400
RRULE:FREQ=YEARLY;BYDAY=2SU;BYMONTH=3
TZNAME:EDT
END:DAYLIGHT
BEGIN:STANDARD
DTSTART:20261101T010000
TZOFFSETFROM:-0400
TZOFFSETTO:-0500
RRULE:FREQ=YEARLY;BYDAY=1SU;BYMONTH=11
TZNAME:EST
END:STANDARD
END:VTIMEZONE
BEGIN:VEVENT
DTSTAMP:20260423T090815Z
UID:bc89e3bf-4232-465a-924b-c7a56a009f64
DTSTART:20260424T151000
DTEND:20260424T170000
DESCRIPTION:
LOCATION:
SUMMARY:MS Dance $5.00
END:VEVENT
BEGIN:VEVENT
DTSTAMP:20260423T090815Z
UID:7d680fb1-f6da-4ced-b470-fbdfa8ffe69c
DTSTART:20260501T190000
DTEND:20260501T210000
DESCRIPTION:
LOCATION:Watervliet Middle School\, 450 Red Arrow Hwy\, Watervliet\, MI 490
 98\, USA
SUMMARY:8th Grade Semi Formal Dance
END:VEVENT
BEGIN:VEVENT
DTSTAMP:20260423T090815Z
UID:1b9614eb-16d6-43b0-bb16-2b4a646a9d38
DTSTART:20260506T080000
DTEND:20260506T131000
DESCRIPTION:
LOCATION:
SUMMARY:2 Hour Early Release
END:VEVENT
BEGIN:VEVENT
DTSTAMP:20260423T090815Z
UID:2c25f432-8d9c-4fc2-b422-a3fca48189a5
DTSTART:20260506T080000
DTEND:20260506T083000
DESCRIPTION:
LOCATION:
SUMMARY:MS PJ Day - $1.00
END:VEVENT
BEGIN:VEVENT
DTSTAMP:20260423T090815Z
UID:91e4c85e-ada0-48f8-a6a5-a0b32de7a5d6
DTSTART:20260513T120000
DTEND:20260513T123000
DESCRIPTION:
LOCATION:
SUMMARY:Activity Day - PM
END:VEVENT
BEGIN:VEVENT
DTSTAMP:20260423T090815Z
UID:accdb12d-989e-45e6-b196-3e0d018df2bb
DTSTART:20260514T190000
DTEND:20260514T210000
DESCRIPTION:
LOCATION:Watervliet HS Auditorium
SUMMARY:Spring Band Concert
END:VEVENT
BEGIN:VEVENT
DTSTAMP:20260423T090815Z
UID:2267a0d9-a5cb-453e-9630-3eeadbc16aa4
DTSTART:20260522T190000
DTEND:20260522T210000
DESCRIPTION:
LOCATION:
SUMMARY:MS Dance 8th Grade Formal 
END:VEVENT
BEGIN:VEVENT
DTSTAMP:20260423T090815Z
UID:17d14351-1dc7-43e3-9abc-db420f6d52f3
DTSTART:20260525T080000
DTEND:20260525T083000
DESCRIPTION:
LOCATION:
SUMMARY:No School - Memorial Day
END:VEVENT
BEGIN:VEVENT
DTSTAMP:20260423T090815Z
UID:70319fe3-c1fb-41b7-a59f-e851b805ab59
DTSTART:20260528T190000
DTEND:20260528T210000
DESCRIPTION:
LOCATION:
SUMMARY:MS Choir Spring Concert
END:VEVENT
BEGIN:VEVENT
DTSTAMP:20260423T090815Z
UID:72db768e-d5a8-497d-9217-152b52378e40
DTSTART:20260602T130000
DTEND:20260602T150000
DESCRIPTION:
LOCATION:
SUMMARY:MS Awards for 6th - 8th Grade
END:VEVENT
BEGIN:VEVENT
DTSTAMP:20260423T090815Z
UID:8e79ffe1-f4c6-46b1-8084-8826c6175ee4
DTSTART:20260603T080000
DTEND:20260603T114000
DESCRIPTION:
LOCATION:
SUMMARY:1/2 Day - HS/MS Exams
END:VEVENT
BEGIN:VEVENT
DTSTAMP:20260423T090815Z
UID:6f27c7c1-800e-4841-9135-bf51c0f96b00
DTSTART:20260604T080000
DTEND:20260604T114000
DESCRIPTION:
LOCATION:
SUMMARY:1/2 Day - HS/MS Exams
END:VEVENT
BEGIN:VEVENT
DTSTAMP:20260423T090815Z
UID:d16fd0bf-ff92-4d7e-aefe-2fdb628a13a5
DTSTART:20260605T080000
DTEND:20260605T114000
DESCRIPTION:
LOCATION:
SUMMARY:1/2 Day - HS/MS Exams (Last Day of School)
END:VEVENT
END:VCALENDAR
