BEGIN:VCALENDAR
VERSION:2.0
PRODID:icalendar-ruby
CALSCALE:GREGORIAN
BEGIN:VTIMEZONE
TZID:America/New_York
BEGIN:DAYLIGHT
DTSTART:20260308T030000
TZOFFSETFROM:-0500
TZOFFSETTO:-0400
RRULE:FREQ=YEARLY;BYDAY=2SU;BYMONTH=3
TZNAME:EDT
END:DAYLIGHT
BEGIN:STANDARD
DTSTART:20261101T010000
TZOFFSETFROM:-0400
TZOFFSETTO:-0500
RRULE:FREQ=YEARLY;BYDAY=1SU;BYMONTH=11
TZNAME:EST
END:STANDARD
END:VTIMEZONE
BEGIN:VEVENT
DTSTAMP:20260423T215120Z
UID:a3426527-2e04-42f5-b9e4-eac0feda0b6a
DTSTART;VALUE=DATE:20260424
DTEND;VALUE=DATE:20260425
DESCRIPTION:
LOCATION:
SUMMARY:ILEARN: ELA - PT
END:VEVENT
BEGIN:VEVENT
DTSTAMP:20260423T215120Z
UID:4a920ec9-5f2e-412c-941e-b2028240a38e
DTSTART:20260425T190000
DTEND:20260425T220000
DESCRIPTION:
LOCATION:Hunny Creek Haven\, LLC\, 9734 900 S\, Waldron\, IN 46182\, USA
SUMMARY:Prom
END:VEVENT
BEGIN:VEVENT
DTSTAMP:20260423T215120Z
UID:cc603544-1298-4a68-a1ab-e4a13b371ef8
DTSTART;VALUE=DATE:20260428
DTEND;VALUE=DATE:20260429
DESCRIPTION:
LOCATION:
SUMMARY:ILEARN: Math - CAT
END:VEVENT
BEGIN:VEVENT
DTSTAMP:20260423T215120Z
UID:703d4384-e276-42c2-b990-a9e533409205
DTSTART:20260429T190000
DTEND:20260429T200000
DESCRIPTION:Cafetorium\nDoors Open at 6:30PM
LOCATION:Waldron Junior-Senior High School\, 102 East St\, Waldron\, IN 461
 82\, USA
SUMMARY:High School Choir Concert
END:VEVENT
BEGIN:VEVENT
DTSTAMP:20260423T215120Z
UID:64dfcebf-2e6a-48c6-99a8-4d1b65283eda
DTSTART;VALUE=DATE:20260501
DTEND;VALUE=DATE:20260502
DESCRIPTION:
LOCATION:
SUMMARY:Lunch Hero Day
END:VEVENT
BEGIN:VEVENT
DTSTAMP:20260423T215120Z
UID:a8a5f723-4707-4589-b657-f90378bcdb45
DTSTART:20260502T180000
DTEND:20260502T200000
DESCRIPTION:
LOCATION:
SUMMARY:Performing Arts Banquet
END:VEVENT
BEGIN:VEVENT
DTSTAMP:20260423T215120Z
UID:8731ee4f-f65d-4dc8-a071-fb18e44e27fa
DTSTART:20260503T130000
DTEND:20260503T140000
DESCRIPTION:
LOCATION:
SUMMARY:Sunshine Society Ideal Lady Tea Party
END:VEVENT
BEGIN:VEVENT
DTSTAMP:20260423T215120Z
UID:5510ff12-bd07-45c4-9140-debbca2a2634
DTSTART;VALUE=DATE:20260504
DTEND;VALUE=DATE:20260505
DESCRIPTION:Seniors and FFA Members<br>*<i>Make-Up Date May 8th - if needed
 </i>
LOCATION:
SUMMARY:Community Clean-Up Day
END:VEVENT
BEGIN:VEVENT
DTSTAMP:20260423T215120Z
UID:2a76d8ce-ba98-4b78-aa34-71a738b1cf92
DTSTART;VALUE=DATE:20260504
DTEND;VALUE=DATE:20260509
DESCRIPTION:
LOCATION:
SUMMARY:Teacher Appreciation Week
END:VEVENT
BEGIN:VEVENT
DTSTAMP:20260423T215120Z
UID:ee0fadc9-a773-4638-a72e-776987c301c7
DTSTART;VALUE=DATE:20260505
DTEND;VALUE=DATE:20260509
DESCRIPTION:
LOCATION:
SUMMARY:ILEARN: Biology
END:VEVENT
BEGIN:VEVENT
DTSTAMP:20260423T215120Z
UID:856940d6-5761-48c8-9f8f-45cae8284e55
DTSTART;VALUE=DATE:20260505
DTEND;VALUE=DATE:20260509
DESCRIPTION:
LOCATION:
SUMMARY:ILEARN: Science (Grade 6)
END:VEVENT
BEGIN:VEVENT
DTSTAMP:20260423T215120Z
UID:a96ae3c7-c79a-4c9b-9e79-9fbd0706f4ac
DTSTART:20260506T190000
DTEND:20260506T200000
DESCRIPTION:\nCafetorium\nDoors Open at 6:30PM
LOCATION:Waldron Junior-Senior High School\, 102 East St\, Waldron\, IN 461
 82\, USA
SUMMARY:Jr. High Choir Concert
END:VEVENT
BEGIN:VEVENT
DTSTAMP:20260423T215120Z
UID:9b49545a-1ca7-4559-bdb9-f419dd777fa0
DTSTART:20260507T083000
DTEND:20260507T143000
DESCRIPTION:
LOCATION:
SUMMARY:Indianapolis Indians Game Reward Trip
END:VEVENT
BEGIN:VEVENT
DTSTAMP:20260423T215120Z
UID:dd698a2d-04de-40cb-8bf0-5ff68a03537f
DTSTART;VALUE=DATE:20260508
DTEND;VALUE=DATE:20260509
DESCRIPTION:
LOCATION:
SUMMARY:Final Exemption Forms Due (Seniors Only)
END:VEVENT
BEGIN:VEVENT
DTSTAMP:20260423T215120Z
UID:1a699467-8819-4789-aa41-faf379991a8f
DTSTART:20260508T190000
DTEND:20260508T200000
DESCRIPTION:\nHigh School Gym\nDoors Open at 6:30PM
LOCATION:Waldron Junior-Senior High School\, 102 East St\, Waldron\, IN 461
 82\, USA
SUMMARY:Jr. High & High School Band Concert
END:VEVENT
BEGIN:VEVENT
DTSTAMP:20260423T215120Z
UID:2fa3a4cd-ef34-4a6f-b8ce-e09f033a4eb4
DTSTART:20260511T090000
DTEND:20260511T110000
DESCRIPTION:High School Gym
LOCATION:Waldron Junior-Senior High School\, 102 East St\, Waldron\, IN 461
 82\, USA
SUMMARY:High School Awards Program
END:VEVENT
BEGIN:VEVENT
DTSTAMP:20260423T215120Z
UID:b88c237f-89ec-4161-8251-7d2c0e8041bd
DTSTART:20260512T080000
DTEND:20260512T100000
DESCRIPTION:
LOCATION:
SUMMARY:AP Precalculus Exam
END:VEVENT
BEGIN:VEVENT
DTSTAMP:20260423T215120Z
UID:8e50f6a5-2752-4d2e-a842-9175a7a240e0
DTSTART:20260513T180000
DTEND:20260513T200000
DESCRIPTION:Cafeteria
LOCATION:Waldron Junior-Senior High School\, 102 East St\, Waldron\, IN 461
 82\, USA
SUMMARY:FFA Banquet
END:VEVENT
BEGIN:VEVENT
DTSTAMP:20260423T215120Z
UID:a4b44246-2425-44e4-910c-02fcbffb2ab2
DTSTART:20260514T083000
DTEND:20260514T113000
DESCRIPTION:
LOCATION:
SUMMARY:Field Day Activities
END:VEVENT
BEGIN:VEVENT
DTSTAMP:20260423T215120Z
UID:83752250-602d-49ed-9a90-77913fb8633f
DTSTART;VALUE=DATE:20260515
DTEND;VALUE=DATE:20260516
DESCRIPTION:Grades 8-11
LOCATION:
SUMMARY:Final Exemption Forms Due
END:VEVENT
BEGIN:VEVENT
DTSTAMP:20260423T215120Z
UID:1e2b8e77-47e0-4eb8-afd1-ed06a54cfaf1
DTSTART:20260515T081500
DTEND:20260515T084500
DESCRIPTION:
LOCATION:
SUMMARY:Senior Walk
END:VEVENT
BEGIN:VEVENT
DTSTAMP:20260423T215120Z
UID:4daa95a5-5557-4ae1-acf0-f5cf24168356
DTSTART:20260515T113000
DTEND:20260515T130000
DESCRIPTION:
LOCATION:
SUMMARY:Senior Cookout
END:VEVENT
BEGIN:VEVENT
DTSTAMP:20260423T215120Z
UID:22428586-1356-4809-ade4-4512e8dc254c
DTSTART;VALUE=DATE:20260516
DTEND;VALUE=DATE:20260517
DESCRIPTION:
LOCATION:Holiday World & Splashin' Safari\, 452 E Christmas Blvd\, Santa Cl
 aus\, IN 47579\, USA
SUMMARY:Performing Arts Field Trip
END:VEVENT
BEGIN:VEVENT
DTSTAMP:20260423T215120Z
UID:ec38cf58-25d4-48d9-9080-dd3ea00cd2f3
DTSTART;VALUE=DATE:20260519
DTEND;VALUE=DATE:20260520
DESCRIPTION:Periods 1\, 3\, 7\, and 8
LOCATION:
SUMMARY:Final Exams: Part 1
END:VEVENT
BEGIN:VEVENT
DTSTAMP:20260423T215120Z
UID:7c3c0020-6dc0-4e00-a443-81c9471788c6
DTSTART:20260519T130000
DTEND:20260519T140000
DESCRIPTION:High School Gym
LOCATION:Waldron Junior-Senior High School\, 102 East St\, Waldron\, IN 461
 82\, USA
SUMMARY:Jr. High Awards Program
END:VEVENT
BEGIN:VEVENT
DTSTAMP:20260423T215120Z
UID:431c0fb9-2749-434c-a4e1-56a80f9d1a44
DTSTART;VALUE=DATE:20260520
DTEND;VALUE=DATE:20260521
DESCRIPTION:Periods 2\, 4\, 6\, and 8
LOCATION:
SUMMARY:Final Exams: Part 2
END:VEVENT
BEGIN:VEVENT
DTSTAMP:20260423T215120Z
UID:e654f044-f6f8-4684-bf55-41334bc982a9
DTSTART;VALUE=DATE:20260520
DTEND;VALUE=DATE:20260521
DESCRIPTION:
LOCATION:
SUMMARY:Last Day of School
END:VEVENT
BEGIN:VEVENT
DTSTAMP:20260423T215120Z
UID:c5546e37-85a4-4259-a8db-8ce0b0fd901e
DTSTART:20260521T100000
DTEND:20260521T120000
DESCRIPTION:High School Gym
LOCATION:Waldron Junior-Senior High School\, 102 East St\, Waldron\, IN 461
 82\, USA
SUMMARY:Graduation Practice & Photographs
END:VEVENT
BEGIN:VEVENT
DTSTAMP:20260423T215120Z
UID:2ba42cde-c5b8-48dd-bdf0-54265415c1e1
DTSTART:20260523T090000
DTEND:20260523T100000
DESCRIPTION:High School Gym<br><i>Doors open at 8:15am.</i>
LOCATION:Waldron Junior-Senior High School\, 102 East St\, Waldron\, IN 461
 82\, USA
SUMMARY:Class of 2026 Commencement
END:VEVENT
BEGIN:VEVENT
DTSTAMP:20260423T215120Z
UID:57a5a13d-3431-44b5-a136-065b25ed3522
DTSTART;VALUE=DATE:20260526
DTEND;VALUE=DATE:20260527
DESCRIPTION:
LOCATION:
SUMMARY:Summer School Begins
END:VEVENT
END:VCALENDAR
