BEGIN:VCALENDAR
VERSION:2.0
PRODID:icalendar-ruby
CALSCALE:GREGORIAN
BEGIN:VTIMEZONE
TZID:America/New_York
BEGIN:DAYLIGHT
DTSTART:20260308T030000
TZOFFSETFROM:-0500
TZOFFSETTO:-0400
RRULE:FREQ=YEARLY;BYDAY=2SU;BYMONTH=3
TZNAME:EDT
END:DAYLIGHT
BEGIN:STANDARD
DTSTART:20261101T010000
TZOFFSETFROM:-0400
TZOFFSETTO:-0500
RRULE:FREQ=YEARLY;BYDAY=1SU;BYMONTH=11
TZNAME:EST
END:STANDARD
END:VTIMEZONE
BEGIN:VEVENT
DTSTAMP:20260421T110451Z
UID:16943434-0d0d-451f-87cf-99ac12348a25
DTSTART:20260422T124500
DTEND:20260422T153000
DESCRIPTION:
LOCATION:
SUMMARY:12:45 p.m. Dismissal for Students - PLC Day
END:VEVENT
BEGIN:VEVENT
DTSTAMP:20260421T110451Z
UID:4706d73c-9579-47e9-a218-1a360a8e81bc
DTSTART:20260427T080000
DTEND:20260427T143000
DESCRIPTION:
LOCATION:
SUMMARY:2nd Grade Field Trip
END:VEVENT
BEGIN:VEVENT
DTSTAMP:20260421T110451Z
UID:6f9b232e-3745-43de-8dfd-12f6e89c76fc
DTSTART:20260428T080000
DTEND:20260428T150000
DESCRIPTION:
LOCATION:
SUMMARY:3rd and 5th Grade WV General Summative Assessment
END:VEVENT
BEGIN:VEVENT
DTSTAMP:20260421T110451Z
UID:ba5f1df2-e507-4b98-ad5b-7831e05b42b3
DTSTART:20260430T080000
DTEND:20260430T150000
DESCRIPTION:
LOCATION:
SUMMARY:3rd\, 4th\, and 5th GRade WV General Summative Assessment
END:VEVENT
BEGIN:VEVENT
DTSTAMP:20260421T110451Z
UID:e845bad9-1020-4d3c-a880-1fba54798478
DTSTART:20260505T080000
DTEND:20260505T150000
DESCRIPTION:
LOCATION:
SUMMARY:3rd\, 4th\, and 5th Grade WV General Summative Assessment
END:VEVENT
BEGIN:VEVENT
DTSTAMP:20260421T110451Z
UID:5ba04f5a-4173-4e10-b50e-74414028ef8e
DTSTART:20260507T080000
DTEND:20260507T150000
DESCRIPTION:
LOCATION:
SUMMARY:4th and 5th Grade WV General Summative Assessment
END:VEVENT
BEGIN:VEVENT
DTSTAMP:20260421T110451Z
UID:be72115d-1127-4647-896d-05546b854fc9
DTSTART:20260508T080000
DTEND:20260508T143000
DESCRIPTION:
LOCATION:
SUMMARY:5th Grade Field Trip
END:VEVENT
BEGIN:VEVENT
DTSTAMP:20260421T110451Z
UID:fde26a54-c3c2-4dbb-8c23-85ef25b23456
DTSTART:20260511T080000
DTEND:20260511T090000
DESCRIPTION:<p>Outside of School Environment Days may be used as make-up sc
 hool days in the event of inclement weather. </p>
LOCATION:
SUMMARY:Outside School Environment Day - No School
END:VEVENT
BEGIN:VEVENT
DTSTAMP:20260421T110451Z
UID:cb209b96-37c0-4aec-a2b6-dec95a5ff24c
DTSTART;VALUE=DATE:20260512
DTEND;VALUE=DATE:20260513
DESCRIPTION:
LOCATION:
SUMMARY:Election Day - No School
END:VEVENT
BEGIN:VEVENT
DTSTAMP:20260421T110451Z
UID:8185db87-63dc-4a89-85d8-4a13b5ec90a9
DTSTART:20260514T130000
DTEND:20260514T133000
DESCRIPTION:
LOCATION:
SUMMARY:PTO Meeting 
END:VEVENT
BEGIN:VEVENT
DTSTAMP:20260421T110451Z
UID:f960806a-e5b9-446a-9a1a-b9e9ecc15929
DTSTART:20260514T133000
DTEND:20260514T150000
DESCRIPTION:
LOCATION:
SUMMARY:Spring Concert
END:VEVENT
BEGIN:VEVENT
DTSTAMP:20260421T110451Z
UID:34a773e1-8ecd-4565-9bf0-95dbbb11fb84
DTSTART;VALUE=DATE:20260515
DTEND;VALUE=DATE:20260516
DESCRIPTION:<p>Outside of School Environment Days may be utilized as make-u
 p snow days in the event of inclement weather days. </p>
LOCATION:
SUMMARY:Outside School Environment Day - No School
END:VEVENT
BEGIN:VEVENT
DTSTAMP:20260421T110451Z
UID:79953c7a-17ec-49fb-8c4d-c1f3c6a85e74
DTSTART:20260518T140000
DTEND:20260518T144500
DESCRIPTION:
LOCATION:
SUMMARY:B-UHS Seniors Walk the Halls
END:VEVENT
BEGIN:VEVENT
DTSTAMP:20260421T110451Z
UID:08d81142-80b8-4a85-8367-1260461b5a5d
DTSTART:20260521T080000
DTEND:20260521T143000
DESCRIPTION:
LOCATION:
SUMMARY:3rd and 5th Grade Field Trips
END:VEVENT
BEGIN:VEVENT
DTSTAMP:20260421T110451Z
UID:07998c10-b3c3-41ca-b6ce-464ed23ebd06
DTSTART:20260522T080000
DTEND:20260522T143000
DESCRIPTION:
LOCATION:
SUMMARY:1st Grade Field Trip
END:VEVENT
BEGIN:VEVENT
DTSTAMP:20260421T110451Z
UID:f895bb95-87bc-4707-a9ca-fc0006a5e771
DTSTART;VALUE=DATE:20260525
DTEND;VALUE=DATE:20260526
DESCRIPTION:
LOCATION:
SUMMARY:No School - Memorial Day Holiday
END:VEVENT
BEGIN:VEVENT
DTSTAMP:20260421T110451Z
UID:9f876f3d-19e6-4a45-9600-824eb4c9028d
DTSTART:20260527T124500
DTEND:20260527T150000
DESCRIPTION:
LOCATION:
SUMMARY:Talent Show
END:VEVENT
BEGIN:VEVENT
DTSTAMP:20260421T110451Z
UID:dd500f84-386d-400f-9f0d-170d0e27aafa
DTSTART;VALUE=DATE:20260528
DTEND;VALUE=DATE:20260529
DESCRIPTION:<p>Grade Level Award Ceremony times will be announced to famili
 es through Canvas and a letter home from classroom teachers.</p>
LOCATION:
SUMMARY:Award Ceremonies
END:VEVENT
BEGIN:VEVENT
DTSTAMP:20260421T110451Z
UID:55f0e9ce-1de8-419f-9a38-083e5a21fb22
DTSTART;VALUE=DATE:20260529
DTEND;VALUE=DATE:20260530
DESCRIPTION:
LOCATION:
SUMMARY:Last Day of School/Last Day of the Second Semester
END:VEVENT
BEGIN:VEVENT
DTSTAMP:20260421T110451Z
UID:c3be28ea-3423-4d1d-aa86-80070d050fbe
DTSTART:20260529T123000
DTEND:20260529T143000
DESCRIPTION:
LOCATION:
SUMMARY:Water Day
END:VEVENT
END:VCALENDAR
