BEGIN:VCALENDAR
VERSION:2.0
PRODID:icalendar-ruby
CALSCALE:GREGORIAN
BEGIN:VTIMEZONE
TZID:America/New_York
BEGIN:DAYLIGHT
DTSTART:20260308T030000
TZOFFSETFROM:-0500
TZOFFSETTO:-0400
RRULE:FREQ=YEARLY;BYDAY=2SU;BYMONTH=3
TZNAME:EDT
END:DAYLIGHT
BEGIN:STANDARD
DTSTART:20261101T010000
TZOFFSETFROM:-0400
TZOFFSETTO:-0500
RRULE:FREQ=YEARLY;BYDAY=1SU;BYMONTH=11
TZNAME:EST
END:STANDARD
END:VTIMEZONE
BEGIN:VEVENT
DTSTAMP:20260425T171849Z
UID:8ada463d-63c2-45e4-aae4-7d54d531ff03
DTSTART:20260428T083000
DTEND:20260428T090000
DESCRIPTION:
LOCATION:
SUMMARY:PreK and Kindergarten Graduation Pics (students only)
END:VEVENT
BEGIN:VEVENT
DTSTAMP:20260425T171849Z
UID:2341aae9-88e7-470e-b7bd-46b442f69fea
DTSTART;VALUE=DATE:20260504
DTEND;VALUE=DATE:20260508
DESCRIPTION:
LOCATION:
SUMMARY:WVGSA Testing for grades 345
END:VEVENT
BEGIN:VEVENT
DTSTAMP:20260425T171849Z
UID:3246f902-4b10-4aa4-a5d5-df13cd13bd35
DTSTART:20260511T090000
DTEND:20260511T093000
DESCRIPTION:
LOCATION:
SUMMARY:No School-OS day
END:VEVENT
BEGIN:VEVENT
DTSTAMP:20260425T171849Z
UID:a1a33817-f9a2-4d16-b38e-b335e1949f1c
DTSTART:20260512T090000
DTEND:20260512T093000
DESCRIPTION:
LOCATION:
SUMMARY:No School-Election Day
END:VEVENT
BEGIN:VEVENT
DTSTAMP:20260425T171849Z
UID:356cb10e-25b4-4c93-a758-bf591a3401f7
DTSTART:20260515T090000
DTEND:20260515T093000
DESCRIPTION:
LOCATION:
SUMMARY:No School-OS Day
END:VEVENT
BEGIN:VEVENT
DTSTAMP:20260425T171849Z
UID:1784d111-bd40-4169-8fde-34b4321b5e10
DTSTART;VALUE=DATE:20260518
DTEND;VALUE=DATE:20260519
DESCRIPTION:
LOCATION:
SUMMARY:345 field trip to Charleston
END:VEVENT
BEGIN:VEVENT
DTSTAMP:20260425T171849Z
UID:a7aa7c0c-c290-4090-9cf7-b8d3fc4da92d
DTSTART;VALUE=DATE:20260519
DTEND;VALUE=DATE:20260520
DESCRIPTION:
LOCATION:
SUMMARY:PK\, K\, 1\, 2 field trip to Charleston
END:VEVENT
BEGIN:VEVENT
DTSTAMP:20260425T171849Z
UID:ef3f0255-ff15-40b7-b81f-f9e727bcae76
DTSTART:20260525T090000
DTEND:20260525T093000
DESCRIPTION:
LOCATION:
SUMMARY:No School-memorial day 
END:VEVENT
BEGIN:VEVENT
DTSTAMP:20260425T171849Z
UID:d65058ea-e748-4394-bd61-b409077b5cea
DTSTART:20260528T090000
DTEND:20260528T093000
DESCRIPTION:
LOCATION:
SUMMARY:Awards for End of Year (3rd and 4th @12\, 1st and 2nd @1\, Kinderga
 rten @2)
END:VEVENT
BEGIN:VEVENT
DTSTAMP:20260425T171849Z
UID:5b96718e-75dd-4cb9-84e9-8cfbf5cd073c
DTSTART:20260528T090000
DTEND:20260528T093000
DESCRIPTION:
LOCATION:
SUMMARY:Spring Concert 9am @WVWC
END:VEVENT
BEGIN:VEVENT
DTSTAMP:20260425T171849Z
UID:801d09d1-db3d-459d-8471-55ecc3d30c05
DTSTART:20260529T090000
DTEND:20260529T093000
DESCRIPTION:
LOCATION:
SUMMARY:Last Day For Students
END:VEVENT
END:VCALENDAR
