BEGIN:VCALENDAR
VERSION:2.0
PRODID:icalendar-ruby
CALSCALE:GREGORIAN
BEGIN:VTIMEZONE
TZID:America/New_York
BEGIN:DAYLIGHT
DTSTART:20260308T030000
TZOFFSETFROM:-0500
TZOFFSETTO:-0400
RRULE:FREQ=YEARLY;BYDAY=2SU;BYMONTH=3
TZNAME:EDT
END:DAYLIGHT
BEGIN:STANDARD
DTSTART:20261101T010000
TZOFFSETFROM:-0400
TZOFFSETTO:-0500
RRULE:FREQ=YEARLY;BYDAY=1SU;BYMONTH=11
TZNAME:EST
END:STANDARD
END:VTIMEZONE
BEGIN:VEVENT
DTSTAMP:20260419T234737Z
UID:7492c504-760a-4e0b-91f3-c6f85201ec59
DTSTART;VALUE=DATE:20260420
DTEND;VALUE=DATE:20260425
DESCRIPTION:
LOCATION:
SUMMARY:Vacation
END:VEVENT
BEGIN:VEVENT
DTSTAMP:20260419T234737Z
UID:23a921f0-17d9-4d8e-9a89-4fbd05a8d56c
DTSTART:20260511T180000
DTEND:20260511T190000
DESCRIPTION:
LOCATION:
SUMMARY:Levant PTO Meeting
END:VEVENT
BEGIN:VEVENT
DTSTAMP:20260419T234737Z
UID:9c50a2f7-4671-47e0-a5ca-72372577ddac
DTSTART;VALUE=DATE:20260525
DTEND;VALUE=DATE:20260526
DESCRIPTION:
LOCATION:
SUMMARY:Memorial Day - no school
END:VEVENT
BEGIN:VEVENT
DTSTAMP:20260419T234737Z
UID:7e6cf666-d0cd-4866-8b1a-0783b367f7df
DTSTART:20260608T180000
DTEND:20260608T190000
DESCRIPTION:
LOCATION:
SUMMARY:Levant PTO Meeting
END:VEVENT
END:VCALENDAR
