BEGIN:VCALENDAR
VERSION:2.0
PRODID:icalendar-ruby
CALSCALE:GREGORIAN
BEGIN:VTIMEZONE
TZID:America/Detroit
BEGIN:DAYLIGHT
DTSTART:20260308T030000
TZOFFSETFROM:-0500
TZOFFSETTO:-0400
RRULE:FREQ=YEARLY;BYDAY=2SU;BYMONTH=3
TZNAME:EDT
END:DAYLIGHT
BEGIN:STANDARD
DTSTART:20261101T010000
TZOFFSETFROM:-0400
TZOFFSETTO:-0500
RRULE:FREQ=YEARLY;BYDAY=1SU;BYMONTH=11
TZNAME:EST
END:STANDARD
END:VTIMEZONE
BEGIN:VEVENT
DTSTAMP:20260421T150500Z
UID:a0f7016d-aed8-48e9-8ae8-7128a2e93ed2
DTSTART:20260421T080000
DTEND:20260421T110000
DESCRIPTION:4/14 - 7th grade Finishes Math &amp\; ELA MStep in testing loca
 tions
LOCATION:
SUMMARY:7th gr MSTEP day #2
END:VEVENT
BEGIN:VEVENT
DTSTAMP:20260421T150500Z
UID:9f0bb2a8-b716-4db2-b3b7-f7b4e17ee4a5
DTSTART:20260421T080000
DTEND:20260421T120000
DESCRIPTION:8gr &amp\; 9gr - PSAT 8/9 in testing locations\n10gr - PSAT 10 
 in testing locations\n11gr - SAT in testing locations
LOCATION:
SUMMARY:PSAT/SAT (8-11gr)
END:VEVENT
BEGIN:VEVENT
DTSTAMP:20260421T150500Z
UID:e32d9ee2-eb90-4e73-a30e-7c3db3c8f81e
DTSTART:20260421T090000
DTEND:20260421T100000
DESCRIPTION:
LOCATION:Check In the Elementary Office
SUMMARY:Preschool Enrollment Meeting
END:VEVENT
BEGIN:VEVENT
DTSTAMP:20260421T150500Z
UID:a7f2153a-0075-438b-a889-9f901be74866
DTSTART:20260421T154000
DTEND:20260421T164000
DESCRIPTION:
LOCATION:Meet in Red Hall #1  
SUMMARY:Girls Take Action
END:VEVENT
BEGIN:VEVENT
DTSTAMP:20260421T150500Z
UID:49d3dcf2-6d6c-449b-86cd-c5657edf884f
DTSTART:20260421T154500
DTEND:20260421T163000
DESCRIPTION:
LOCATION:Ms. Axiotis' Room - Gold 4
SUMMARY:Secondary Book Club  (Grades 7-12)
END:VEVENT
BEGIN:VEVENT
DTSTAMP:20260421T150500Z
UID:b2ee95cf-8251-45e0-8e67-230b4e8e1961
DTSTART:20260421T180000
DTEND:20260421T190000
DESCRIPTION:
LOCATION:Lecture Hall (North Entrance)
SUMMARY:Enrollment Meeting  -  Elementary Only  (Grades K-6)
END:VEVENT
BEGIN:VEVENT
DTSTAMP:20260421T150500Z
UID:4474c6e4-8ca4-4aaf-b013-fa89fea02f8b
DTSTART:20260422T074000
DTEND:20260422T080000
DESCRIPTION:
LOCATION:MPR  -  $2.00 each
SUMMARY:Bagel Sales  (Sophomore Class)
END:VEVENT
BEGIN:VEVENT
DTSTAMP:20260421T150500Z
UID:dcf8fa33-66f2-4cd6-b77e-8e9614b9c2b5
DTSTART;VALUE=DATE:20260423
DTEND;VALUE=DATE:20260424
DESCRIPTION:
LOCATION:with $6.00 Spirit Band 
SUMMARY:Secondary Only  -  USA (Red/White/Blue) Spirit Day   (Grades 7-12)
END:VEVENT
BEGIN:VEVENT
DTSTAMP:20260421T150500Z
UID:dc37e9f7-8044-47a1-baf2-d0ca234f45be
DTSTART:20260423T114500
DTEND:20260423T124500
DESCRIPTION:
LOCATION:MPR Kitchen  -  Pre-Order $1.50 per slice  -  Day of $2.00 per sli
 ce
SUMMARY:Secondary  -  Pizza Sales
END:VEVENT
BEGIN:VEVENT
DTSTAMP:20260421T150500Z
UID:3d00575e-9c22-4848-beda-ef595bbf743f
DTSTART:20260423T154000
DTEND:20260423T164000
DESCRIPTION:
LOCATION:Meet in Red Hall #1  
SUMMARY:Girls Take Action
END:VEVENT
BEGIN:VEVENT
DTSTAMP:20260421T150500Z
UID:cbdfae9b-19a2-40e0-bbdc-5af6f3de0e12
DTSTART:20260423T180000
DTEND:20260423T190000
DESCRIPTION:
LOCATION:Lecture Hall
SUMMARY:Board Meeting
END:VEVENT
BEGIN:VEVENT
DTSTAMP:20260421T150500Z
UID:b9c06320-a392-403a-ae9c-ff19a3cf7247
DTSTART:20260424T143000
DTEND:20260424T160000
DESCRIPTION:
LOCATION:Bronze 2
SUMMARY:Secondary Robotics  (7-12 Grades)
END:VEVENT
BEGIN:VEVENT
DTSTAMP:20260421T150500Z
UID:43e6b469-8c0d-4905-999d-5c71054805a6
DTSTART:20260428T154500
DTEND:20260428T163000
DESCRIPTION:
LOCATION:Ms. Axiotis' Room - Gold 4
SUMMARY:Secondary Book Club  (Grades 7-12)
END:VEVENT
BEGIN:VEVENT
DTSTAMP:20260421T150500Z
UID:37180685-7bff-49af-9c69-a4ffed7d784c
DTSTART;VALUE=DATE:20260429
DTEND;VALUE=DATE:20260430
DESCRIPTION:
LOCATION:
SUMMARY:Elementary Pizza Day
END:VEVENT
BEGIN:VEVENT
DTSTAMP:20260421T150500Z
UID:7a428e29-cc71-4dc1-8a65-6ad8cb045ef5
DTSTART:20260429T074000
DTEND:20260429T080000
DESCRIPTION:
LOCATION:MPR  -  $2.00 each
SUMMARY:Bagel Sales  (Sophomore Class)
END:VEVENT
BEGIN:VEVENT
DTSTAMP:20260421T150500Z
UID:ce3c5655-b5ab-42b8-98e9-ceb32806df9a
DTSTART:20260430T114500
DTEND:20260430T124500
DESCRIPTION:
LOCATION:MPR Kitchen  -  Pre-Order $1.50 per slice  -  Day of $2.00 per sli
 ce
SUMMARY:Secondary  -  Pizza Sales
END:VEVENT
BEGIN:VEVENT
DTSTAMP:20260421T150500Z
UID:e2ec8f49-23fd-424c-b8ea-e9c799c748f0
DTSTART:20260501T143000
DTEND:20260501T160000
DESCRIPTION:
LOCATION:Bronze 2
SUMMARY:Secondary Robotics  (7-12 Grades)
END:VEVENT
BEGIN:VEVENT
DTSTAMP:20260421T150500Z
UID:37a8dedc-7fa8-439a-ab6c-0294fd82429d
DTSTART:20260501T183000
DTEND:20260501T200000
DESCRIPTION:
LOCATION:Big Gym  -  $5.00 per person  -  Tickets will be Available Online
SUMMARY:"Who's Crazy Now?"  Secondary Drama Performance
END:VEVENT
BEGIN:VEVENT
DTSTAMP:20260421T150500Z
UID:4011498b-15be-4cd1-887c-3ddc27c0ccf3
DTSTART:20260502T140000
DTEND:20260502T153000
DESCRIPTION:
LOCATION:Big Gym  -  $5.00 per person  -  Tickets will be Available Online
SUMMARY:"Who's Crazy Now?"  Secondary Drama Performance
END:VEVENT
BEGIN:VEVENT
DTSTAMP:20260421T150500Z
UID:1ccddf99-0839-45af-be09-85fd84ac93a1
DTSTART:20260502T190000
DTEND:20260502T220000
DESCRIPTION:
LOCATION:BlueBridge Events Centre\, 1950 Ellis Lake Rd\, Grawn\, MI
SUMMARY:Prom
END:VEVENT
BEGIN:VEVENT
DTSTAMP:20260421T150500Z
UID:8faa9e3f-8103-4e7c-b9f8-65ac1c9538b0
DTSTART:20260505T154000
DTEND:20260505T164000
DESCRIPTION:
LOCATION:Meet in Red Hall #1  
SUMMARY:Girls Take Action
END:VEVENT
BEGIN:VEVENT
DTSTAMP:20260421T150500Z
UID:b699b987-4fff-470a-90b9-63edd97a3cb6
DTSTART:20260505T154500
DTEND:20260505T163000
DESCRIPTION:
LOCATION:Ms. Axiotis' Room - Gold 4
SUMMARY:Secondary Book Club  (Grades 7-12)
END:VEVENT
BEGIN:VEVENT
DTSTAMP:20260421T150500Z
UID:af68eed3-0b7e-44d4-ae31-b828b0527523
DTSTART:20260505T180000
DTEND:20260505T190000
DESCRIPTION:
LOCATION:Lecture Hall  (North Entrance)
SUMMARY:Enrollment Meeting  -  Elementary Only  (Grades K-6)
END:VEVENT
BEGIN:VEVENT
DTSTAMP:20260421T150500Z
UID:90c4c901-d23a-4425-918d-d6a98461e7ff
DTSTART:20260506T074000
DTEND:20260506T080000
DESCRIPTION:
LOCATION:MPR  -  $2.00 each
SUMMARY:Bagel Sales  (Sophomore Class)
END:VEVENT
BEGIN:VEVENT
DTSTAMP:20260421T150500Z
UID:ab82f42e-8203-45e2-bcca-4692fe475aaf
DTSTART:20260507T072000
DTEND:20260507T084000
DESCRIPTION:
LOCATION:High School and Elementary Entrances
SUMMARY:Annual Plant Sale  (Nachazel's Class)
END:VEVENT
BEGIN:VEVENT
DTSTAMP:20260421T150500Z
UID:30b0acab-aacb-475e-99a6-6340486148df
DTSTART:20260507T100000
DTEND:20260507T110000
DESCRIPTION:
LOCATION:Lecture Hall (North Entrance)
SUMMARY:Enrollment Meeting  -  All Grades (K-12)
END:VEVENT
BEGIN:VEVENT
DTSTAMP:20260421T150500Z
UID:fe5ce1a3-564d-4f6d-80cc-4ba7e2bfa533
DTSTART:20260507T112500
DTEND:20260507T125000
DESCRIPTION:
LOCATION:North Entrance
SUMMARY:Annual Plant Sale  (Nachazel's Class)
END:VEVENT
BEGIN:VEVENT
DTSTAMP:20260421T150500Z
UID:2b723475-d8b3-4636-8a07-c5e6e71d6144
DTSTART:20260507T114500
DTEND:20260507T124500
DESCRIPTION:
LOCATION:MPR Kitchen  -  Pre-Order $1.50 per slice  -  Day of $2.00 per sli
 ce
SUMMARY:Secondary  -  Pizza Sales
END:VEVENT
BEGIN:VEVENT
DTSTAMP:20260421T150500Z
UID:594924fc-770d-49f5-88e5-141222c724f1
DTSTART:20260507T150500
DTEND:20260507T155500
DESCRIPTION:
LOCATION:High School and Elementary Entrances
SUMMARY:Annual Plant Sale  (Nachazel's Class)
END:VEVENT
BEGIN:VEVENT
DTSTAMP:20260421T150500Z
UID:24c9e878-b5c2-4100-a35b-124f69208969
DTSTART:20260507T154000
DTEND:20260507T164000
DESCRIPTION:
LOCATION:Meet in Red Hall #1  
SUMMARY:Girls Take Action
END:VEVENT
BEGIN:VEVENT
DTSTAMP:20260421T150500Z
UID:e18b99ba-3159-4082-8b83-4d5d4eb3d1d7
DTSTART;VALUE=DATE:20260508
DTEND;VALUE=DATE:20260509
DESCRIPTION:
LOCATION:
SUMMARY:Fine Arts Showcase  &  5th/6th Grade Band Concert
END:VEVENT
BEGIN:VEVENT
DTSTAMP:20260421T150500Z
UID:1b0f5f88-6ee4-462c-a30f-803740bf97d1
DTSTART:20260508T072000
DTEND:20260508T084000
DESCRIPTION:
LOCATION:High School and Elementary Entrances
SUMMARY:Annual Plant Sale  (Nachazel's Class)
END:VEVENT
BEGIN:VEVENT
DTSTAMP:20260421T150500Z
UID:72f3c34c-c760-4bb5-b714-e54e9fb04382
DTSTART:20260508T120000
DTEND:20260508T123000
DESCRIPTION:
LOCATION:High School and Elementary Entrances
SUMMARY:Annual Plant Sale  (Nachazel's Class)
END:VEVENT
BEGIN:VEVENT
DTSTAMP:20260421T150500Z
UID:dbc56d77-04d8-4592-bdba-1b36bd954814
DTSTART:20260508T143000
DTEND:20260508T160000
DESCRIPTION:
LOCATION:Bronze 2
SUMMARY:Secondary Robotics  (7-12 Grades)
END:VEVENT
BEGIN:VEVENT
DTSTAMP:20260421T150500Z
UID:1a75274f-a807-4d57-8f23-ce7017219a63
DTSTART:20260508T180000
DTEND:20260508T193000
DESCRIPTION:
LOCATION:South Entrance  (before & after Elementary Spring Band Concert)
SUMMARY:Annual Plant Sale  (Nachazel's Class)
END:VEVENT
BEGIN:VEVENT
DTSTAMP:20260421T150500Z
UID:8a6605f9-bb43-4b65-8f74-8596b645a8f0
DTSTART:20260508T183000
DTEND:20260508T190000
DESCRIPTION:
LOCATION:Big Gym
SUMMARY:Spring Elementary Band Concert
END:VEVENT
BEGIN:VEVENT
DTSTAMP:20260421T150500Z
UID:a3ef77ad-8a6a-475f-93f7-91b1bb79246a
DTSTART:20260512T154000
DTEND:20260512T164000
DESCRIPTION:
LOCATION:Meet in Red Hall #1  
SUMMARY:Girls Take Action
END:VEVENT
BEGIN:VEVENT
DTSTAMP:20260421T150500Z
UID:7124f768-2852-4160-acda-45581f91c577
DTSTART:20260512T154500
DTEND:20260512T163000
DESCRIPTION:
LOCATION:Ms. Axiotis' Room - Gold 4
SUMMARY:Secondary Book Club  (Grades 7-12)
END:VEVENT
BEGIN:VEVENT
DTSTAMP:20260421T150500Z
UID:342e0df7-1463-4b91-8317-5e30457d8701
DTSTART:20260512T190000
DTEND:20260512T200000
DESCRIPTION:
LOCATION:Big Gym
SUMMARY:Spring Choir Concert  (Elementary\, Mustang & Chamber Choir)
END:VEVENT
BEGIN:VEVENT
DTSTAMP:20260421T150500Z
UID:430fce73-4cc3-4d3f-bdbf-b70f139b61f7
DTSTART;VALUE=DATE:20260513
DTEND;VALUE=DATE:20260514
DESCRIPTION:
LOCATION:
SUMMARY:Elementary Pizza Day
END:VEVENT
BEGIN:VEVENT
DTSTAMP:20260421T150500Z
UID:5236f03f-28bc-4161-8b27-a26405612a1e
DTSTART:20260513T074000
DTEND:20260513T080000
DESCRIPTION:
LOCATION:MPR  -  $2.00 each
SUMMARY:Bagel Sales  (Sophomore Class)
END:VEVENT
BEGIN:VEVENT
DTSTAMP:20260421T150500Z
UID:1468d755-575e-4740-897a-f1717f7e4c27
DTSTART:20260514T083000
DTEND:20260514T093000
DESCRIPTION:
LOCATION:Lecture Hall
SUMMARY:Finance Committee Meeting
END:VEVENT
BEGIN:VEVENT
DTSTAMP:20260421T150500Z
UID:31849ec7-7e1d-4ea2-9522-b099d1aa153d
DTSTART:20260514T091500
DTEND:20260514T120000
DESCRIPTION:
LOCATION:Early Elementary Wing
SUMMARY:TADL Bookmobile  (Elementary)
END:VEVENT
BEGIN:VEVENT
DTSTAMP:20260421T150500Z
UID:25710bb4-faae-4b54-bdf1-17d2fdcd780a
DTSTART:20260514T114500
DTEND:20260514T124500
DESCRIPTION:
LOCATION:MPR Kitchen  -  Pre-Order $1.50 per slice  -  Day of $2.00 per sli
 ce
SUMMARY:Secondary  -  Pizza Sales
END:VEVENT
BEGIN:VEVENT
DTSTAMP:20260421T150500Z
UID:79bcdf48-4e05-408a-bfb7-2e55b9006a6f
DTSTART:20260514T154000
DTEND:20260514T164000
DESCRIPTION:
LOCATION:Meet in Red Hall #1  
SUMMARY:Girls Take Action
END:VEVENT
BEGIN:VEVENT
DTSTAMP:20260421T150500Z
UID:eff6cf2e-24d0-4569-836a-fa73b015922c
DTSTART:20260514T183000
DTEND:20260514T203000
DESCRIPTION:
LOCATION:Big Gym
SUMMARY:Spring Band Concert  (Secondary)
END:VEVENT
BEGIN:VEVENT
DTSTAMP:20260421T150500Z
UID:4aac4bfb-95bf-4f6a-ae1d-5ba5f021d53b
DTSTART:20260515T130000
DTEND:20260515T144000
DESCRIPTION:
LOCATION:Small Gym
SUMMARY:Kindergarten Round Up
END:VEVENT
BEGIN:VEVENT
DTSTAMP:20260421T150500Z
UID:b0fc0e21-5b1f-4cc7-87a5-028a36885439
DTSTART:20260515T143000
DTEND:20260515T160000
DESCRIPTION:
LOCATION:Bronze 2
SUMMARY:Secondary Robotics  (7-12 Grades)
END:VEVENT
BEGIN:VEVENT
DTSTAMP:20260421T150500Z
UID:246e233e-1d21-4c00-a67c-82bcc02c0744
DTSTART:20260518T143000
DTEND:20260518T170000
DESCRIPTION:
LOCATION:Junior High  2:30-3:30pm   -   High School  4:00-5:00pm   -   Big 
 Gym
SUMMARY:Science Expo '26  
END:VEVENT
BEGIN:VEVENT
DTSTAMP:20260421T150500Z
UID:d4270fdc-6edf-4180-9754-c23bf08ade18
DTSTART:20260519T154000
DTEND:20260519T164000
DESCRIPTION:
LOCATION:Meet in Red Hall #1  
SUMMARY:Girls Take Action
END:VEVENT
BEGIN:VEVENT
DTSTAMP:20260421T150500Z
UID:8e39dd5c-3939-4436-9500-4c03c1cdf594
DTSTART:20260519T154500
DTEND:20260519T163000
DESCRIPTION:
LOCATION:Ms. Axiotis' Room - Gold 4
SUMMARY:Secondary Book Club  (Grades 7-12)
END:VEVENT
BEGIN:VEVENT
DTSTAMP:20260421T150500Z
UID:b3826bd4-502e-4341-b9ad-bec8fe64c7c9
DTSTART;VALUE=DATE:20260520
DTEND;VALUE=DATE:20260521
DESCRIPTION:
LOCATION:
SUMMARY:Career Tech  Last Day for Seniors
END:VEVENT
BEGIN:VEVENT
DTSTAMP:20260421T150500Z
UID:de91c0ce-8f66-4f56-b5f4-31b809f5fd8e
DTSTART:20260520T074000
DTEND:20260520T080000
DESCRIPTION:
LOCATION:MPR  -  $2.00 each
SUMMARY:Bagel Sales  (Sophomore Class)
END:VEVENT
BEGIN:VEVENT
DTSTAMP:20260421T150500Z
UID:6b1d3eac-171e-4869-ae38-853f7f471594
DTSTART;VALUE=DATE:20260521
DTEND;VALUE=DATE:20260522
DESCRIPTION:
LOCATION:$2.00 Donation
SUMMARY:GTA Cares Fill the Pantry Jeans Day
END:VEVENT
BEGIN:VEVENT
DTSTAMP:20260421T150500Z
UID:1a191a1d-ba26-4d94-8016-ebd9d98082f4
DTSTART;VALUE=DATE:20260521
DTEND;VALUE=DATE:20260522
DESCRIPTION:
LOCATION:with $6.00 Spirit Band 
SUMMARY:Secondary Only  -  Highlighter (Neon Top) Day   (Grades 7-12)
END:VEVENT
BEGIN:VEVENT
DTSTAMP:20260421T150500Z
UID:be3b0c52-f521-4631-bf3b-1f1c8fd192f6
DTSTART;VALUE=DATE:20260521
DTEND;VALUE=DATE:20260522
DESCRIPTION:
LOCATION:
SUMMARY:Seniors Last (Half) Day with Lunch and Memories
END:VEVENT
BEGIN:VEVENT
DTSTAMP:20260421T150500Z
UID:156d777c-a201-41c0-9ab2-e700546a21f5
DTSTART:20260521T114500
DTEND:20260521T124500
DESCRIPTION:
LOCATION:MPR Kitchen  -  Pre-Order $1.50 per slice  -  Day of $2.00 per sli
 ce
SUMMARY:Secondary  -  Pizza Sales
END:VEVENT
BEGIN:VEVENT
DTSTAMP:20260421T150500Z
UID:8246c0eb-fad9-4c6e-b534-9cd6e239fca2
DTSTART:20260521T154000
DTEND:20260521T164000
DESCRIPTION:
LOCATION:Meet in Red Hall #1  
SUMMARY:Girls Take Action
END:VEVENT
BEGIN:VEVENT
DTSTAMP:20260421T150500Z
UID:c44120e5-432e-49be-b7c7-ee60728b8d5c
DTSTART:20260521T180000
DTEND:20260521T184500
DESCRIPTION:
LOCATION:Lecture Hall
SUMMARY:Board Meeting
END:VEVENT
BEGIN:VEVENT
DTSTAMP:20260421T150500Z
UID:ab39b1f4-4d84-4518-aaae-7fbb6577e9b9
DTSTART:20260521T184500
DTEND:20260521T193000
DESCRIPTION:
LOCATION:Lecture Hall
SUMMARY:Budget Hearing
END:VEVENT
BEGIN:VEVENT
DTSTAMP:20260421T150500Z
UID:77c6f197-2820-43f7-9a5f-e5dfa2d0cc39
DTSTART:20260522T143000
DTEND:20260522T160000
DESCRIPTION:
LOCATION:Bronze 2
SUMMARY:Secondary Robotics  (7-12 Grades)
END:VEVENT
BEGIN:VEVENT
DTSTAMP:20260421T150500Z
UID:bc34a6cb-1d66-4cba-9533-8c329e0bc116
DTSTART;VALUE=DATE:20260525
DTEND;VALUE=DATE:20260526
DESCRIPTION:
LOCATION:
SUMMARY:Memorial Day  -  No School
END:VEVENT
BEGIN:VEVENT
DTSTAMP:20260421T150500Z
UID:7e5c8e30-3ab7-43bc-bea1-9900b3e4792c
DTSTART:20260526T154000
DTEND:20260526T164000
DESCRIPTION:
LOCATION:Meet in Red Hall #1  
SUMMARY:Girls Take Action
END:VEVENT
BEGIN:VEVENT
DTSTAMP:20260421T150500Z
UID:54efe369-9555-449c-892a-612558cde106
DTSTART:20260526T154500
DTEND:20260526T163000
DESCRIPTION:
LOCATION:Ms. Axiotis' Room - Gold 4
SUMMARY:Secondary Book Club  (Grades 7-12)
END:VEVENT
BEGIN:VEVENT
DTSTAMP:20260421T150500Z
UID:38ff62b6-881b-4723-8d4b-e710fd515102
DTSTART;VALUE=DATE:20260527
DTEND;VALUE=DATE:20260528
DESCRIPTION:
LOCATION:
SUMMARY:Elementary Pizza Day
END:VEVENT
BEGIN:VEVENT
DTSTAMP:20260421T150500Z
UID:117d55b1-3b2d-4286-b49e-180ec6e77639
DTSTART:20260527T074000
DTEND:20260527T080000
DESCRIPTION:
LOCATION:MPR  -  $2.00 each
SUMMARY:Bagel Sales  (Sophomore Class)
END:VEVENT
BEGIN:VEVENT
DTSTAMP:20260421T150500Z
UID:b8ad120c-960e-4c8d-8ec2-fe3822c34a9e
DTSTART:20260527T093000
DTEND:20260527T113000
DESCRIPTION:
LOCATION:North Field  -  T-shirt Orders Due by May 7th
SUMMARY:Elementary Field Day  -  Preschool & Kindergarten
END:VEVENT
BEGIN:VEVENT
DTSTAMP:20260421T150500Z
UID:c0a88055-3ec4-473f-8055-1a1f90055b37
DTSTART:20260527T130000
DTEND:20260527T150000
DESCRIPTION:
LOCATION:North Field  -  T-Shirt Orders are Due by May 7th
SUMMARY:Elementary Field Day  -  1st & 2nd Grades
END:VEVENT
BEGIN:VEVENT
DTSTAMP:20260421T150500Z
UID:770f68ed-4ded-4c32-870e-571a0b60db59
DTSTART:20260528T093000
DTEND:20260528T113000
DESCRIPTION:
LOCATION:North Field  -  T-Shirt Orders are Due by May 7th
SUMMARY:Elementary Field Day  -  3rd & 4th Grades
END:VEVENT
BEGIN:VEVENT
DTSTAMP:20260421T150500Z
UID:ec2f9244-8884-49ec-99ad-cc6738a77c28
DTSTART:20260528T114500
DTEND:20260528T124500
DESCRIPTION:
LOCATION:MPR Kitchen  -  Pre-Order $1.50 per slice  -  Day of $2.00 per sli
 ce
SUMMARY:Secondary  -  Pizza Sales
END:VEVENT
BEGIN:VEVENT
DTSTAMP:20260421T150500Z
UID:49363491-a553-43ec-b98b-e6ba787d6584
DTSTART:20260528T130000
DTEND:20260528T150000
DESCRIPTION:
LOCATION:North Field  -  T-Shirt Orders are Due by May 7th
SUMMARY:Elementary Field Day  -  5th & 6th Grades
END:VEVENT
BEGIN:VEVENT
DTSTAMP:20260421T150500Z
UID:747db286-ba0a-4246-b334-f3e518291f41
DTSTART:20260528T154000
DTEND:20260528T164000
DESCRIPTION:
LOCATION:Meet in Red Hall #1  
SUMMARY:Girls Take Action
END:VEVENT
BEGIN:VEVENT
DTSTAMP:20260421T150500Z
UID:4a068972-8c1e-40c0-9f45-36395d008193
DTSTART:20260529T080000
DTEND:20260529T110000
DESCRIPTION:
LOCATION:Big Gym
SUMMARY:Senior Awards Ceremony & Rehearsal
END:VEVENT
BEGIN:VEVENT
DTSTAMP:20260421T150500Z
UID:245e9dc3-88ef-483f-9506-4c49e5ff971e
DTSTART:20260529T130000
DTEND:20260529T140000
DESCRIPTION:
LOCATION:Start North Field and Around the School
SUMMARY:Girls Take Action Final Event
END:VEVENT
BEGIN:VEVENT
DTSTAMP:20260421T150500Z
UID:875d03bd-4c04-4e3a-a080-d4c1f5b1ccfc
DTSTART:20260529T143000
DTEND:20260529T160000
DESCRIPTION:
LOCATION:Bronze 2
SUMMARY:Secondary Robotics  (7-12 Grades)
END:VEVENT
BEGIN:VEVENT
DTSTAMP:20260421T150500Z
UID:46eaacc5-ccb2-4f72-ade5-1ad75d4721f3
DTSTART;VALUE=DATE:20260531
DTEND;VALUE=DATE:20260601
DESCRIPTION:
LOCATION:
SUMMARY:Graduation
END:VEVENT
BEGIN:VEVENT
DTSTAMP:20260421T150500Z
UID:08171ea0-605c-4080-936d-14ba60310969
DTSTART:20260602T154500
DTEND:20260602T163000
DESCRIPTION:
LOCATION:Ms. Axiotis' Room - Gold 4
SUMMARY:Secondary Book Club  (Grades 7-12)
END:VEVENT
BEGIN:VEVENT
DTSTAMP:20260421T150500Z
UID:4417cd54-ea10-493c-bd47-83ce2a94068c
DTSTART:20260603T074000
DTEND:20260603T080000
DESCRIPTION:
LOCATION:MPR  -  $2.00 each
SUMMARY:Bagel Sales  (Sophomore Class)
END:VEVENT
BEGIN:VEVENT
DTSTAMP:20260421T150500Z
UID:b3cc086b-622d-4dc5-9474-cb76b338aaf6
DTSTART;VALUE=DATE:20260604
DTEND;VALUE=DATE:20260605
DESCRIPTION:
LOCATION:with $6.00 Spirit Band 
SUMMARY:Secondary Only  -  Hawaiian (Summer is on the Horizon) Day   (Grade
 s 7-12)
END:VEVENT
BEGIN:VEVENT
DTSTAMP:20260421T150500Z
UID:111b2a3c-098b-46b9-85a8-912f1f960cf7
DTSTART:20260604T114500
DTEND:20260604T124500
DESCRIPTION:
LOCATION:MPR Kitchen  -  Pre-Order $1.50 per slice  -  Day of $2.00 per sli
 ce
SUMMARY:Secondary  -  Pizza Sales
END:VEVENT
BEGIN:VEVENT
DTSTAMP:20260421T150500Z
UID:dcb1fc8e-2ec6-4d6a-b026-dac3a50c4dce
DTSTART;VALUE=DATE:20260605
DTEND;VALUE=DATE:20260606
DESCRIPTION:
LOCATION:
SUMMARY:Career Tech Last Day for Juniors
END:VEVENT
BEGIN:VEVENT
DTSTAMP:20260421T150500Z
UID:c4943c71-7bff-4a2b-8f8a-6bf467c8ac81
DTSTART;VALUE=DATE:20260605
DTEND;VALUE=DATE:20260606
DESCRIPTION:
LOCATION:
SUMMARY:Last Day for Preschool
END:VEVENT
BEGIN:VEVENT
DTSTAMP:20260421T150500Z
UID:166cef04-9b6a-404e-aae7-fc08eeaeaa2c
DTSTART:20260606T130000
DTEND:20260606T150000
DESCRIPTION:
LOCATION:Big Gym
SUMMARY:Preschool Graduation
END:VEVENT
BEGIN:VEVENT
DTSTAMP:20260421T150500Z
UID:e4302acd-1307-4757-b32f-4065b3407530
DTSTART;VALUE=DATE:20260608
DTEND;VALUE=DATE:20260611
DESCRIPTION:
LOCATION:
SUMMARY:Secondary Second Semester Exams
END:VEVENT
BEGIN:VEVENT
DTSTAMP:20260421T150500Z
UID:863056ac-7240-4866-b72d-02a292259b34
DTSTART;VALUE=DATE:20260609
DTEND;VALUE=DATE:20260610
DESCRIPTION:
LOCATION:
SUMMARY:Half Day for Secondary Students Only  (Grades 7-12)
END:VEVENT
BEGIN:VEVENT
DTSTAMP:20260421T150500Z
UID:7b452c48-8ac1-46b3-b356-1df2ae31ee56
DTSTART;VALUE=DATE:20260610
DTEND;VALUE=DATE:20260611
DESCRIPTION:
LOCATION:
SUMMARY:End of the Fourth Quarter/Second Semester
END:VEVENT
BEGIN:VEVENT
DTSTAMP:20260421T150500Z
UID:68a39c01-4097-4548-8638-60baff5da0a2
DTSTART;VALUE=DATE:20260610
DTEND;VALUE=DATE:20260611
DESCRIPTION:
LOCATION:
SUMMARY:Last (Half) Day for All Students  (K-11)
END:VEVENT
BEGIN:VEVENT
DTSTAMP:20260421T150500Z
UID:50790d6e-c21e-4a97-b099-30ed78363dc6
DTSTART;VALUE=DATE:20260611
DTEND;VALUE=DATE:20260618
DESCRIPTION:
LOCATION:
SUMMARY:Snow Day Make Up Days
END:VEVENT
BEGIN:VEVENT
DTSTAMP:20260421T150500Z
UID:c661d53a-a07d-4ded-a5fe-f8d7b364a2fe
DTSTART:20260611T083000
DTEND:20260611T093000
DESCRIPTION:
LOCATION:Lecture Hall
SUMMARY:Finance Committee Meeting
END:VEVENT
BEGIN:VEVENT
DTSTAMP:20260421T150500Z
UID:ded16efd-45c6-4508-afe0-80b9f268e950
DTSTART:20260618T180000
DTEND:20260618T190000
DESCRIPTION:
LOCATION:Lecture Hall
SUMMARY:Annual Board Meeting
END:VEVENT
END:VCALENDAR
