BEGIN:VCALENDAR
VERSION:2.0
PRODID:icalendar-ruby
CALSCALE:GREGORIAN
BEGIN:VTIMEZONE
TZID:America/Chicago
BEGIN:DAYLIGHT
DTSTART:20260308T030000
TZOFFSETFROM:-0600
TZOFFSETTO:-0500
RRULE:FREQ=YEARLY;BYDAY=2SU;BYMONTH=3
TZNAME:CDT
END:DAYLIGHT
BEGIN:STANDARD
DTSTART:20261101T010000
TZOFFSETFROM:-0500
TZOFFSETTO:-0600
RRULE:FREQ=YEARLY;BYDAY=1SU;BYMONTH=11
TZNAME:CST
END:STANDARD
END:VTIMEZONE
BEGIN:VEVENT
DTSTAMP:20260422T151941Z
UID:8039bcb3-8733-4c90-8915-4aed08a04cd7
DTSTART:20260503T140000
DTEND:20260503T150000
DESCRIPTION:
LOCATION:
SUMMARY:Baccalaureate
END:VEVENT
BEGIN:VEVENT
DTSTAMP:20260422T151941Z
UID:0ec3a0c1-b5c0-4446-a6b6-730b651f193f
DTSTART:20260504T080000
DTEND:20260504T090000
DESCRIPTION:
LOCATION:
SUMMARY:Elementary AR Field Trip
END:VEVENT
BEGIN:VEVENT
DTSTAMP:20260422T151941Z
UID:d7f95f8c-b51c-4369-bf31-dd9ae400240c
DTSTART:20260505T180000
DTEND:20260505T190000
DESCRIPTION:
LOCATION:1954 Coffeeville Rd\, Jackson\, AL 36545\, USA
SUMMARY:Memory Night
END:VEVENT
BEGIN:VEVENT
DTSTAMP:20260422T151941Z
UID:4aa18fe8-5f8d-467a-bb09-d48d9172acc3
DTSTART:20260508T120000
DTEND:20260508T123000
DESCRIPTION:
LOCATION:1954 Coffeeville Rd\, Jackson\, AL 36545\, USA
SUMMARY:Senior Last Walk
END:VEVENT
BEGIN:VEVENT
DTSTAMP:20260422T151941Z
UID:c75a246d-9fd9-4ac8-a5ad-a6fc93f811e0
DTSTART:20260512T180000
DTEND:20260512T200000
DESCRIPTION:
LOCATION:2410 Coffeeville Rd\, Jackson\, AL 36545\, USA
SUMMARY:Sports Banquet
END:VEVENT
BEGIN:VEVENT
DTSTAMP:20260422T151941Z
UID:9fc1b65e-1e24-46d5-bcf3-216df56f4bc4
DTSTART:20260513T090000
DTEND:20260513T100000
DESCRIPTION:
LOCATION:1954 Coffeeville Rd\, Jackson\, AL 36545\, USA
SUMMARY:Elementary Awards Day
END:VEVENT
BEGIN:VEVENT
DTSTAMP:20260422T151941Z
UID:6066ab1e-8555-442e-b24c-3e431e97edc4
DTSTART:20260513T130000
DTEND:20260513T140000
DESCRIPTION:
LOCATION:1954 Coffeeville Rd\, Jackson\, AL 36545\, USA
SUMMARY:High School Awards Day
END:VEVENT
BEGIN:VEVENT
DTSTAMP:20260422T151941Z
UID:bf307e3b-0674-49c2-8118-08e344b52e3e
DTSTART:20260514T180000
DTEND:20260514T200000
DESCRIPTION:
LOCATION:1954 Coffeeville Rd\, Jackson\, AL 36545\, USA
SUMMARY:5K and 6th Grade Graduation
END:VEVENT
BEGIN:VEVENT
DTSTAMP:20260422T151941Z
UID:51178665-4ab5-4104-bddc-fd9561b21dc4
DTSTART:20260515T180000
DTEND:20260515T190000
DESCRIPTION:
LOCATION:1954 Coffeeville Rd\, Jackson\, AL 36545\, USA
SUMMARY:High School Graduation 
END:VEVENT
BEGIN:VEVENT
DTSTAMP:20260422T151941Z
UID:ffa3be7c-a963-4d73-b59c-9ff22a9cb852
DTSTART:20260520T120000
DTEND:20260520T123000
DESCRIPTION:
LOCATION:1954 Coffeeville Rd\, Jackson\, AL 36545\, USA
SUMMARY:Last Day of School
END:VEVENT
END:VCALENDAR
