BEGIN:VCALENDAR
VERSION:2.0
PRODID:icalendar-ruby
CALSCALE:GREGORIAN
BEGIN:VTIMEZONE
TZID:America/Chicago
BEGIN:DAYLIGHT
DTSTART:20260308T030000
TZOFFSETFROM:-0600
TZOFFSETTO:-0500
RRULE:FREQ=YEARLY;BYDAY=2SU;BYMONTH=3
TZNAME:CDT
END:DAYLIGHT
BEGIN:STANDARD
DTSTART:20261101T010000
TZOFFSETFROM:-0500
TZOFFSETTO:-0600
RRULE:FREQ=YEARLY;BYDAY=1SU;BYMONTH=11
TZNAME:CST
END:STANDARD
END:VTIMEZONE
BEGIN:VEVENT
DTSTAMP:20260423T141425Z
UID:573e148a-02be-4dfc-9fac-68770ee36ab5
DTSTART;VALUE=DATE:20260522
DTEND;VALUE=DATE:20260523
DESCRIPTION:
LOCATION:
SUMMARY:4th 9 weeks Closes
END:VEVENT
BEGIN:VEVENT
DTSTAMP:20260423T141425Z
UID:3f490a27-547c-410e-9646-e9a3aa3044c8
DTSTART;VALUE=DATE:20260522
DTEND;VALUE=DATE:20260523
DESCRIPTION:
LOCATION:
SUMMARY:Last Day of School for Students: Student Early Release
END:VEVENT
BEGIN:VEVENT
DTSTAMP:20260423T141425Z
UID:e920ccc7-5bb3-471a-8ba8-d08a49b5f931
DTSTART;VALUE=DATE:20260525
DTEND;VALUE=DATE:20260526
DESCRIPTION:
LOCATION:
SUMMARY:Memorial Day: Staff Holiday
END:VEVENT
BEGIN:VEVENT
DTSTAMP:20260423T141425Z
UID:607c7f28-1c10-40f1-9472-303492ac23b0
DTSTART;VALUE=DATE:20260526
DTEND;VALUE=DATE:20260527
DESCRIPTION:
LOCATION:
SUMMARY:Professional Development/Work Day
END:VEVENT
BEGIN:VEVENT
DTSTAMP:20260423T141425Z
UID:86d1748d-33f5-4af5-9aa6-496eb8a2a102
DTSTART;VALUE=DATE:20260527
DTEND;VALUE=DATE:20260529
DESCRIPTION:
LOCATION:
SUMMARY:Bad Weather Make Up Days (if needed): Staff Only
END:VEVENT
BEGIN:VEVENT
DTSTAMP:20260423T141425Z
UID:fa4be481-2afe-4e6a-8ea1-b8f104d8623f
DTSTART;VALUE=DATE:20260629
DTEND;VALUE=DATE:20260704
DESCRIPTION:
LOCATION:
SUMMARY:Campus/Administrative Offices Closed
END:VEVENT
END:VCALENDAR
