BEGIN:VCALENDAR
VERSION:2.0
PRODID:icalendar-ruby
CALSCALE:GREGORIAN
BEGIN:VTIMEZONE
TZID:America/Chicago
BEGIN:DAYLIGHT
DTSTART:20260308T030000
TZOFFSETFROM:-0600
TZOFFSETTO:-0500
RRULE:FREQ=YEARLY;BYDAY=2SU;BYMONTH=3
TZNAME:CDT
END:DAYLIGHT
BEGIN:STANDARD
DTSTART:20261101T010000
TZOFFSETFROM:-0500
TZOFFSETTO:-0600
RRULE:FREQ=YEARLY;BYDAY=1SU;BYMONTH=11
TZNAME:CST
END:STANDARD
END:VTIMEZONE
BEGIN:VEVENT
DTSTAMP:20260420T125018Z
UID:8f58fcea-48d8-4296-b1af-138737cdcea1
DTSTART;VALUE=DATE:20260505
DTEND;VALUE=DATE:20260507
DESCRIPTION:Athletic physicals for students in grades 6–11 will be held i
 n the gym on May 5th and 6th. A current physical is required to participat
 e in school athletics.
LOCATION:
SUMMARY:Athletic Physicals (Grades 6–11)
END:VEVENT
BEGIN:VEVENT
DTSTAMP:20260420T125018Z
UID:ee0474d2-44af-4523-a6be-3716b85f2561
DTSTART:20260505T180000
DTEND:20260505T210000
DESCRIPTION:<p>7th - 12th </p>
LOCATION:
SUMMARY:Spring Concert @ SCHS Auditorium 
END:VEVENT
BEGIN:VEVENT
DTSTAMP:20260420T125018Z
UID:35838863-429e-4c41-8d67-45ba6235e92a
DTSTART:20260507T193000
DTEND:20260507T220000
DESCRIPTION:<p>Sr. Chamber Choir ONLY </p>
LOCATION:
SUMMARY:Graduation performance
END:VEVENT
BEGIN:VEVENT
DTSTAMP:20260420T125018Z
UID:0909259a-9be4-4f67-bf4f-e6c771bb3de5
DTSTART:20260510T140000
DTEND:20260510T160000
DESCRIPTION:\nTickets are $5 for Students and $7 for Adults\nKids 5 and und
 er are FREE
LOCATION:
SUMMARY:Snow White and the Seven Dwarfs - Jr and Sr High Dance Teams Recita
 l
END:VEVENT
BEGIN:VEVENT
DTSTAMP:20260420T125018Z
UID:1ea2e6bb-3e83-4765-84ff-8edf4af62de0
DTSTART:20260511T190000
DTEND:20260511T210000
DESCRIPTION:\nTickets are $5 for Students and $7 for Adults\nKids 5 and und
 er are FREE
LOCATION:
SUMMARY:Snow White and the Seven Dwarfs - Jr and Sr High Dance Teams Recita
 l
END:VEVENT
BEGIN:VEVENT
DTSTAMP:20260420T125018Z
UID:95807a01-41cb-466c-a8f5-530db6f52743
DTSTART;VALUE=DATE:20260519
DTEND;VALUE=DATE:20260520
DESCRIPTION:
LOCATION:
SUMMARY:Last Day of School (Revised)
END:VEVENT
END:VCALENDAR
