BEGIN:VCALENDAR
VERSION:2.0
PRODID:icalendar-ruby
CALSCALE:GREGORIAN
BEGIN:VTIMEZONE
TZID:America/Los_Angeles
BEGIN:DAYLIGHT
DTSTART:20260308T030000
TZOFFSETFROM:-0800
TZOFFSETTO:-0700
RRULE:FREQ=YEARLY;BYDAY=2SU;BYMONTH=3
TZNAME:PDT
END:DAYLIGHT
BEGIN:STANDARD
DTSTART:20261101T010000
TZOFFSETFROM:-0700
TZOFFSETTO:-0800
RRULE:FREQ=YEARLY;BYDAY=1SU;BYMONTH=11
TZNAME:PST
END:STANDARD
END:VTIMEZONE
BEGIN:VEVENT
DTSTAMP:20260423T070612Z
UID:90ffae65-ea77-4587-bad9-b49a16b8497d
DTSTART:20260423T074000
DTEND:20260423T081500
DESCRIPTION:
LOCATION:
SUMMARY:MS Girls & Boys Bible Study
END:VEVENT
BEGIN:VEVENT
DTSTAMP:20260423T070612Z
UID:605ddc4f-e674-472a-b87d-b5e080e45f68
DTSTART:20260423T153000
DTEND:20260423T163000
DESCRIPTION:
LOCATION:
SUMMARY:Musical Practice (Main Cast)
END:VEVENT
BEGIN:VEVENT
DTSTAMP:20260423T070612Z
UID:cf33e858-e5e2-4926-996d-035c56b09fcd
DTSTART:20260423T153000
DTEND:20260423T163000
DESCRIPTION:
LOCATION:
SUMMARY:Musical Practice (Supporting Cast)
END:VEVENT
BEGIN:VEVENT
DTSTAMP:20260423T070612Z
UID:18238ad0-bfd1-4cba-8c88-dd6ae009689c
DTSTART;VALUE=DATE:20260424
DTEND;VALUE=DATE:20260425
DESCRIPTION:
LOCATION:
SUMMARY:All School Core Value Chapel - Personal Development
END:VEVENT
BEGIN:VEVENT
DTSTAMP:20260423T070612Z
UID:f1458c9a-8eba-46ad-ae9e-a8d2bb306df4
DTSTART;VALUE=DATE:20260424
DTEND;VALUE=DATE:20260425
DESCRIPTION:
LOCATION:
SUMMARY:Regular School Day
END:VEVENT
BEGIN:VEVENT
DTSTAMP:20260423T070612Z
UID:d79c8e48-975b-4242-b8d1-2aa17105839f
DTSTART:20260425T090000
DTEND:20260425T120000
DESCRIPTION:
LOCATION:
SUMMARY:Watch DOGS "Flag Football "Dog Bowl"
END:VEVENT
BEGIN:VEVENT
DTSTAMP:20260423T070612Z
UID:5c24330b-c97a-4e45-81d6-5158864b94f4
DTSTART:20260425T163000
DTEND:20260425T193000
DESCRIPTION:
LOCATION:
SUMMARY:Purple Room Movie Night
END:VEVENT
BEGIN:VEVENT
DTSTAMP:20260423T070612Z
UID:c915c1e4-c201-4262-ab97-038275e9cd22
DTSTART;VALUE=DATE:20260427
DTEND;VALUE=DATE:20260502
DESCRIPTION:
LOCATION:
SUMMARY:Bear Week
END:VEVENT
BEGIN:VEVENT
DTSTAMP:20260423T070612Z
UID:67cbe816-3951-418d-9eaf-341b4d9b5e7a
DTSTART;VALUE=DATE:20260427
DTEND;VALUE=DATE:20260502
DESCRIPTION:
LOCATION:
SUMMARY:Spring Book Fair (I.55)
END:VEVENT
BEGIN:VEVENT
DTSTAMP:20260423T070612Z
UID:17c0be47-dab3-40ef-a4a5-46929d3e1d4e
DTSTART:20260428T074500
DTEND:20260428T081500
DESCRIPTION:
LOCATION:
SUMMARY:Musical Practice ("Eye on it" Dancers)
END:VEVENT
BEGIN:VEVENT
DTSTAMP:20260423T070612Z
UID:fe7b80fb-b8f0-4843-afdd-d72e729dd0f1
DTSTART:20260429T073500
DTEND:20260429T081500
DESCRIPTION:
LOCATION:
SUMMARY:Watch DOGS Bible Study
END:VEVENT
BEGIN:VEVENT
DTSTAMP:20260423T070612Z
UID:a981390d-37cb-423c-8518-9cb254665a3a
DTSTART:20260429T074500
DTEND:20260429T081500
DESCRIPTION:
LOCATION:
SUMMARY:Musical Practice ("Fruit of the Spirit Dancers)
END:VEVENT
BEGIN:VEVENT
DTSTAMP:20260423T070612Z
UID:2ab24857-4a28-43bd-8d31-12ed62cd8e86
DTSTART:20260429T083000
DTEND:20260429T103000
DESCRIPTION:
LOCATION:
SUMMARY:In-N-Out Field Trip (1st Grade)
END:VEVENT
BEGIN:VEVENT
DTSTAMP:20260423T070612Z
UID:4c1dd2cc-6d0f-4627-b1a0-ee2c81cae7e9
DTSTART:20260429T083000
DTEND:20260429T093000
DESCRIPTION:
LOCATION:
SUMMARY:MS Peacemaker Chapel
END:VEVENT
BEGIN:VEVENT
DTSTAMP:20260423T070612Z
UID:a204a63e-d00d-45a7-9646-d2ded1949c8d
DTSTART:20260429T153000
DTEND:20260429T163000
DESCRIPTION:
LOCATION:
SUMMARY:Musical Practice (Main Cast)
END:VEVENT
BEGIN:VEVENT
DTSTAMP:20260423T070612Z
UID:c6746968-a12b-479f-a8da-16a51f1f3506
DTSTART:20260429T153000
DTEND:20260429T163000
DESCRIPTION:
LOCATION:
SUMMARY:Musical Practice (Supporting Cast)
END:VEVENT
BEGIN:VEVENT
DTSTAMP:20260423T070612Z
UID:cb0ab0a0-1733-45c1-a2dd-9022352e6427
DTSTART;VALUE=DATE:20260430
DTEND;VALUE=DATE:20260501
DESCRIPTION:
LOCATION:
SUMMARY:ACSI K-5 Spelling Bee
END:VEVENT
BEGIN:VEVENT
DTSTAMP:20260423T070612Z
UID:62b2ea1b-48fa-4170-a1f9-daad57c7735a
DTSTART:20260430T074000
DTEND:20260430T081500
DESCRIPTION:
LOCATION:
SUMMARY:MS Girls & Boys Bible Study
END:VEVENT
BEGIN:VEVENT
DTSTAMP:20260423T070612Z
UID:c143936f-d35f-4bc8-9333-b42c3a37aa60
DTSTART:20260430T153000
DTEND:20260430T163000
DESCRIPTION:
LOCATION:
SUMMARY:Musical Practice (Main Cast)
END:VEVENT
BEGIN:VEVENT
DTSTAMP:20260423T070612Z
UID:bf913a48-acf9-4822-8d0a-b0c200058eb3
DTSTART:20260430T153000
DTEND:20260430T163000
DESCRIPTION:
LOCATION:
SUMMARY:Musical Practice (Supporting Cast)
END:VEVENT
BEGIN:VEVENT
DTSTAMP:20260423T070612Z
UID:1bd5b528-77fb-44e2-bf83-be826c06339c
DTSTART:20260501T073000
DTEND:20260501T083000
DESCRIPTION:
LOCATION:
SUMMARY:Uniform Exchange
END:VEVENT
BEGIN:VEVENT
DTSTAMP:20260423T070612Z
UID:ea990c7f-b7cd-452b-90b7-602ef3d1a1af
DTSTART:20260501T083000
DTEND:20260501T091000
DESCRIPTION:
LOCATION:
SUMMARY:3rd-5th Peacemaker Chapel
END:VEVENT
BEGIN:VEVENT
DTSTAMP:20260423T070612Z
UID:96f369e9-a016-4aa6-8f2d-43e2c539ee88
DTSTART:20260501T091500
DTEND:20260501T094500
DESCRIPTION:
LOCATION:
SUMMARY:K-2nd Peacemaker Chapel
END:VEVENT
BEGIN:VEVENT
DTSTAMP:20260423T070612Z
UID:780b85c5-0cc6-4b56-b069-dd6a8e04d821
DTSTART:20260501T160000
DTEND:20260501T220000
DESCRIPTION:
LOCATION:
SUMMARY:Bear Night Talent Show/Campout
END:VEVENT
BEGIN:VEVENT
DTSTAMP:20260423T070612Z
UID:1bb69463-eeb4-4aee-9a48-919529e086ee
DTSTART;VALUE=DATE:20260504
DTEND;VALUE=DATE:20260505
DESCRIPTION:Fundraiser Event for King&#39\;s Schools\n\nEvent Link: <a href
 ="https://www.google.com/url?q=https://redrobin.force4good.com/event/6db69
 062-7428-476f-b63c-bbcf9d7b1668&amp\;sa=D&amp\;source=calendar&amp\;ust=17
 70590040504014&amp\;usg=AOvVaw1RsmVCpIbVZFh1bJooA0Ae" target="_blank">http
 s://redrobin.force4good.com/event/6db69062-7428-476f-b63c-bbcf9d7b1668</a>
LOCATION:72-797 Dinah Shore Dr Rancho Mirage\, CA 92270
SUMMARY:Family Night Out at Red Robin
END:VEVENT
BEGIN:VEVENT
DTSTAMP:20260423T070612Z
UID:06182394-fcaf-4b1b-864c-1f14ae8589ff
DTSTART;VALUE=DATE:20260505
DTEND;VALUE=DATE:20260506
DESCRIPTION:
LOCATION:
SUMMARY:National Teacher Appreciation Day
END:VEVENT
BEGIN:VEVENT
DTSTAMP:20260423T070612Z
UID:8778fa88-1990-49c8-8b57-93b9722a3e66
DTSTART:20260505T074500
DTEND:20260505T081500
DESCRIPTION:
LOCATION:
SUMMARY:Musical Practice ("Eye on it" Dancers)
END:VEVENT
BEGIN:VEVENT
DTSTAMP:20260423T070612Z
UID:6bed509b-8d82-4720-aa31-f08d003c25e5
DTSTART:20260506T074500
DTEND:20260506T081500
DESCRIPTION:
LOCATION:
SUMMARY:Musical Practice ("Fruit of the Spirit Dancers)
END:VEVENT
BEGIN:VEVENT
DTSTAMP:20260423T070612Z
UID:66c386ce-f403-45b5-b669-ecaf43e28b2a
DTSTART:20260506T083000
DTEND:20260506T093000
DESCRIPTION:
LOCATION:
SUMMARY:MS Chapel - 6th Grade
END:VEVENT
BEGIN:VEVENT
DTSTAMP:20260423T070612Z
UID:258a9d90-4f97-4a6f-90c4-8a8ea9f028d8
DTSTART:20260506T153000
DTEND:20260506T163000
DESCRIPTION:
LOCATION:
SUMMARY:Musical Practice (Main Cast)
END:VEVENT
BEGIN:VEVENT
DTSTAMP:20260423T070612Z
UID:5b632b63-4494-4ca3-bf21-cb0213c8467e
DTSTART:20260506T153000
DTEND:20260506T163000
DESCRIPTION:
LOCATION:
SUMMARY:Musical Practice (Supporting Cast)
END:VEVENT
BEGIN:VEVENT
DTSTAMP:20260423T070612Z
UID:19ef8f3f-38e5-4d30-8f78-6a34460fb585
DTSTART:20260507T073000
DTEND:20260507T081500
DESCRIPTION:
LOCATION:
SUMMARY:Muffins with Mom 
END:VEVENT
BEGIN:VEVENT
DTSTAMP:20260423T070612Z
UID:886f7a05-cd3a-4605-b354-80a37ee6be18
DTSTART:20260507T074000
DTEND:20260507T081500
DESCRIPTION:
LOCATION:
SUMMARY:MS Girls & Boys Bible Study
END:VEVENT
BEGIN:VEVENT
DTSTAMP:20260423T070612Z
UID:c9804a29-dbb2-4f46-a8dd-b712639b0e99
DTSTART:20260507T153000
DTEND:20260507T163000
DESCRIPTION:
LOCATION:
SUMMARY:Musical Practice (Main Cast)
END:VEVENT
BEGIN:VEVENT
DTSTAMP:20260423T070612Z
UID:04a35800-bbf1-4489-bd71-400e397d43e4
DTSTART:20260507T153000
DTEND:20260507T163000
DESCRIPTION:
LOCATION:
SUMMARY:Musical Practice (Supporting Cast)
END:VEVENT
BEGIN:VEVENT
DTSTAMP:20260423T070612Z
UID:2a8041d0-2501-421c-87be-bb9b9dc8779d
DTSTART:20260508T083000
DTEND:20260508T091500
DESCRIPTION:
LOCATION:
SUMMARY:K-5th Chapel (Led by 1st Grade)
END:VEVENT
BEGIN:VEVENT
DTSTAMP:20260423T070612Z
UID:09c71cbb-8dec-48be-9afe-3460eb7b2b5c
DTSTART;VALUE=DATE:20260510
DTEND;VALUE=DATE:20260511
DESCRIPTION:
LOCATION:
SUMMARY:Mother's Day
END:VEVENT
BEGIN:VEVENT
DTSTAMP:20260423T070612Z
UID:7f73fe53-0eea-4d62-9e72-640bbfb914e7
DTSTART:20260512T074500
DTEND:20260512T081500
DESCRIPTION:
LOCATION:
SUMMARY:Musical Practice ("Eye on it" Dancers)
END:VEVENT
BEGIN:VEVENT
DTSTAMP:20260423T070612Z
UID:5dca00be-5a02-4258-ae39-97ddd5204a87
DTSTART:20260513T073500
DTEND:20260513T081500
DESCRIPTION:
LOCATION:
SUMMARY:Watch DOGS Bible Study
END:VEVENT
BEGIN:VEVENT
DTSTAMP:20260423T070612Z
UID:b30eaac6-ac33-4081-a421-d7e15625db14
DTSTART:20260513T074500
DTEND:20260513T081500
DESCRIPTION:
LOCATION:
SUMMARY:Musical Practice ("Fruit of the Spirit Dancers)
END:VEVENT
BEGIN:VEVENT
DTSTAMP:20260423T070612Z
UID:cb01aeaf-a5ee-469b-8693-4e6ac8d95f10
DTSTART:20260513T083000
DTEND:20260513T093000
DESCRIPTION:
LOCATION:
SUMMARY:MS Chapel (Led by 7th Grade)
END:VEVENT
BEGIN:VEVENT
DTSTAMP:20260423T070612Z
UID:bf45c284-d4ce-42cf-a7da-99d835ae38dc
DTSTART:20260513T090000
DTEND:20260513T110000
DESCRIPTION:
LOCATION:
SUMMARY:Palm Springs Police Department Field Trip (1st Grade)(Bus)
END:VEVENT
BEGIN:VEVENT
DTSTAMP:20260423T070612Z
UID:0aefe388-444b-45b2-a344-0a33f3d755eb
DTSTART:20260513T153000
DTEND:20260513T163000
DESCRIPTION:
LOCATION:
SUMMARY:Musical Practice (Main Cast)
END:VEVENT
BEGIN:VEVENT
DTSTAMP:20260423T070612Z
UID:7b5830f0-604e-453f-8877-cc8cff226498
DTSTART:20260513T153000
DTEND:20260513T163000
DESCRIPTION:
LOCATION:
SUMMARY:Musical Practice (Supporting Cast)
END:VEVENT
BEGIN:VEVENT
DTSTAMP:20260423T070612Z
UID:42aabaed-0a94-4b56-9c3f-34499cebb0c7
DTSTART:20260514T074000
DTEND:20260514T081500
DESCRIPTION:
LOCATION:
SUMMARY:MS Girls & Boys Bible Study
END:VEVENT
BEGIN:VEVENT
DTSTAMP:20260423T070612Z
UID:64c96d3e-8ec3-4972-b4dd-70a99f8e5eb7
DTSTART:20260514T153000
DTEND:20260514T163000
DESCRIPTION:
LOCATION:
SUMMARY:Musical Practice (Main Cast)
END:VEVENT
BEGIN:VEVENT
DTSTAMP:20260423T070612Z
UID:faddd6d8-7828-4cf9-a34b-82e436f01d2b
DTSTART:20260514T153000
DTEND:20260514T163000
DESCRIPTION:
LOCATION:
SUMMARY:Musical Practice (Supporting Cast)
END:VEVENT
BEGIN:VEVENT
DTSTAMP:20260423T070612Z
UID:3d365bd4-0206-45cb-9a40-6548ea20f3ca
DTSTART:20260515T070000
DTEND:20260515T170000
DESCRIPTION:
LOCATION:
SUMMARY:5th Grade Sea World Field Trip
END:VEVENT
BEGIN:VEVENT
DTSTAMP:20260423T070612Z
UID:5eb12004-0af8-4a39-adc9-7d4927d616de
DTSTART:20260515T070000
DTEND:20260515T190000
DESCRIPTION:
LOCATION:
SUMMARY:Knott's Berry Farm Field Trip (4th Grade)
END:VEVENT
BEGIN:VEVENT
DTSTAMP:20260423T070612Z
UID:abec361f-5d9c-4faa-a588-90dd71cf0138
DTSTART:20260515T083000
DTEND:20260515T091500
DESCRIPTION:
LOCATION:
SUMMARY:K-5th Chapel (Led by Kinder)
END:VEVENT
BEGIN:VEVENT
DTSTAMP:20260423T070612Z
UID:54c8a670-5bda-466c-962c-ca430ac51147
DTSTART;VALUE=DATE:20260516
DTEND;VALUE=DATE:20260517
DESCRIPTION:
LOCATION:
SUMMARY:Mother/Son Nerf Nation
END:VEVENT
BEGIN:VEVENT
DTSTAMP:20260423T070612Z
UID:d6bdb83b-a405-47e6-9fd6-649d6b9a178d
DTSTART;VALUE=DATE:20260518
DTEND;VALUE=DATE:20260528
DESCRIPTION:
LOCATION:
SUMMARY:8th Grade East Coast Trip
END:VEVENT
BEGIN:VEVENT
DTSTAMP:20260423T070612Z
UID:c1f7fa69-fcaf-4c8f-a738-464ff96059e1
DTSTART;VALUE=DATE:20260519
DTEND;VALUE=DATE:20260523
DESCRIPTION:
LOCATION:
SUMMARY:6th & 7th Grade Science Camp
END:VEVENT
BEGIN:VEVENT
DTSTAMP:20260423T070612Z
UID:341e0684-d1de-4293-8f54-6084dc1bd0ce
DTSTART:20260519T074500
DTEND:20260519T081500
DESCRIPTION:
LOCATION:
SUMMARY:Musical Practice ("Eye on it" Dancers)
END:VEVENT
BEGIN:VEVENT
DTSTAMP:20260423T070612Z
UID:b3d7da8a-f11b-431c-acac-04607dc7bf7d
DTSTART:20260520T074500
DTEND:20260520T081500
DESCRIPTION:
LOCATION:
SUMMARY:Musical Practice ("Fruit of the Spirit Dancers)
END:VEVENT
BEGIN:VEVENT
DTSTAMP:20260423T070612Z
UID:b79d1335-f44c-442c-8b0b-e2dd31d8b25a
DTSTART:20260520T153000
DTEND:20260520T163000
DESCRIPTION:
LOCATION:
SUMMARY:Musical Practice (Main Cast)
END:VEVENT
BEGIN:VEVENT
DTSTAMP:20260423T070612Z
UID:bb7ac8ff-6dff-4722-9090-ff9bc9bf6580
DTSTART:20260520T153000
DTEND:20260520T163000
DESCRIPTION:
LOCATION:
SUMMARY:Musical Practice (Supporting Cast)
END:VEVENT
BEGIN:VEVENT
DTSTAMP:20260423T070612Z
UID:668e61ef-1a32-4784-b8ce-7b36d2da28c6
DTSTART:20260521T074000
DTEND:20260521T081500
DESCRIPTION:
LOCATION:
SUMMARY:MS Girls & Boys Bible Study
END:VEVENT
BEGIN:VEVENT
DTSTAMP:20260423T070612Z
UID:8ba18584-0b3c-4088-af08-5ec21572c10a
DTSTART:20260521T153000
DTEND:20260521T163000
DESCRIPTION:
LOCATION:
SUMMARY:Musical Practice (Main Cast)
END:VEVENT
BEGIN:VEVENT
DTSTAMP:20260423T070612Z
UID:849df8bc-b7ba-433d-a5a5-6f0032370c9f
DTSTART:20260521T153000
DTEND:20260521T163000
DESCRIPTION:
LOCATION:
SUMMARY:Musical Practice (Supporting Cast)
END:VEVENT
BEGIN:VEVENT
DTSTAMP:20260423T070612Z
UID:f445e32b-85c8-4467-8176-3014fa28fc02
DTSTART:20260522T083000
DTEND:20260522T091500
DESCRIPTION:
LOCATION:
SUMMARY:K-5th Chapel (Led by 2nd Grade)
END:VEVENT
BEGIN:VEVENT
DTSTAMP:20260423T070612Z
UID:15d1ce3f-ab7a-4cbe-b224-9a30b1ed243f
DTSTART:20260522T091500
DTEND:20260522T113000
DESCRIPTION:
LOCATION:
SUMMARY:McCallum Theater Field Trip (5th Grade)
END:VEVENT
BEGIN:VEVENT
DTSTAMP:20260423T070612Z
UID:c1b8f077-af2f-4a27-b717-bdc9c4ef1196
DTSTART;VALUE=DATE:20260525
DTEND;VALUE=DATE:20260526
DESCRIPTION:
LOCATION:
SUMMARY:Memorial Day - No School
END:VEVENT
BEGIN:VEVENT
DTSTAMP:20260423T070612Z
UID:2477c8eb-672f-49cf-bb94-d6217aa62c62
DTSTART:20260526T074500
DTEND:20260526T081500
DESCRIPTION:
LOCATION:
SUMMARY:Musical Practice ("Eye on it" Dancers)
END:VEVENT
BEGIN:VEVENT
DTSTAMP:20260423T070612Z
UID:a7414612-1dd7-47b2-9c36-ff0dd98d2021
DTSTART:20260526T100000
DTEND:20260526T120000
DESCRIPTION:
LOCATION:
SUMMARY:McCallum Theater Field Trip (5th Grade)
END:VEVENT
BEGIN:VEVENT
DTSTAMP:20260423T070612Z
UID:d43a3eb7-5895-4c85-b717-8768f96578bd
DTSTART:20260527T073500
DTEND:20260527T081500
DESCRIPTION:
LOCATION:
SUMMARY:Watch DOGS Bible Study
END:VEVENT
BEGIN:VEVENT
DTSTAMP:20260423T070612Z
UID:39326350-73bc-4908-b680-20378dba8a66
DTSTART:20260527T074500
DTEND:20260527T081500
DESCRIPTION:
LOCATION:
SUMMARY:Musical Practice ("Fruit of the Spirit Dancers)
END:VEVENT
BEGIN:VEVENT
DTSTAMP:20260423T070612Z
UID:bef9ce79-f608-4361-8f2b-c5446551e131
DTSTART:20260527T153000
DTEND:20260527T163000
DESCRIPTION:
LOCATION:
SUMMARY:Musical Practice (Main Cast)
END:VEVENT
BEGIN:VEVENT
DTSTAMP:20260423T070612Z
UID:d947c9e6-7418-4540-b409-a20134b0275d
DTSTART:20260527T153000
DTEND:20260527T163000
DESCRIPTION:
LOCATION:
SUMMARY:Musical Practice (Supporting Cast)
END:VEVENT
BEGIN:VEVENT
DTSTAMP:20260423T070612Z
UID:b1d351da-0c48-4348-b904-d25429222f4a
DTSTART:20260528T074000
DTEND:20260528T081500
DESCRIPTION:
LOCATION:
SUMMARY:MS Girls & Boys Bible Study
END:VEVENT
BEGIN:VEVENT
DTSTAMP:20260423T070612Z
UID:44d0a78b-77ed-4a12-aefa-95038e1bf60b
DTSTART:20260528T153000
DTEND:20260528T163000
DESCRIPTION:
LOCATION:
SUMMARY:Musical Practice (Supporting Cast)
END:VEVENT
BEGIN:VEVENT
DTSTAMP:20260423T070612Z
UID:2923bf36-971e-4519-8368-304223631597
DTSTART;VALUE=DATE:20260529
DTEND;VALUE=DATE:20260530
DESCRIPTION:
LOCATION:
SUMMARY:Half Day/Free Dress Day/In-Service
END:VEVENT
BEGIN:VEVENT
DTSTAMP:20260423T070612Z
UID:4e86aeae-84e7-453f-a539-101816a8f168
DTSTART;VALUE=DATE:20260529
DTEND;VALUE=DATE:20260530
DESCRIPTION:
LOCATION:
SUMMARY:Spring Musical @ The Garden
END:VEVENT
BEGIN:VEVENT
DTSTAMP:20260423T070612Z
UID:3e55ca48-2f79-48a4-a462-6b79d66c7d90
DTSTART:20260529T083000
DTEND:20260529T093000
DESCRIPTION:
LOCATION:
SUMMARY:All School Core Value Chapel - Evangelism
END:VEVENT
BEGIN:VEVENT
DTSTAMP:20260423T070612Z
UID:ef2d7f79-729a-4e14-8f42-44bb362457ce
DTSTART:20260602T083000
DTEND:20260602T093000
DESCRIPTION:
LOCATION:
SUMMARY:7th Grade Castle Wars
END:VEVENT
BEGIN:VEVENT
DTSTAMP:20260423T070612Z
UID:f106dec1-571a-494b-b294-6437a39048c8
DTSTART:20260603T083000
DTEND:20260603T093000
DESCRIPTION:
LOCATION:
SUMMARY:MS Chapel (8th Grade)
END:VEVENT
BEGIN:VEVENT
DTSTAMP:20260423T070612Z
UID:49dba1e2-ebd5-4aec-9dff-b59421e54b7f
DTSTART:20260604T074000
DTEND:20260604T081500
DESCRIPTION:
LOCATION:
SUMMARY:MS Girls & Boys Bible Study
END:VEVENT
BEGIN:VEVENT
DTSTAMP:20260423T070612Z
UID:655f5734-29e7-4881-93f0-56fc3c7b6a18
DTSTART:20260605T083000
DTEND:20260605T091000
DESCRIPTION:
LOCATION:
SUMMARY:3rd-5th Chapel (Pastor Gavin)
END:VEVENT
BEGIN:VEVENT
DTSTAMP:20260423T070612Z
UID:174a58f3-179f-40e0-86be-87da6568520d
DTSTART:20260605T091500
DTEND:20260605T094500
DESCRIPTION:
LOCATION:
SUMMARY:K-2nd Chapel (Pastor Gavin)
END:VEVENT
BEGIN:VEVENT
DTSTAMP:20260423T070612Z
UID:a17d0068-3d10-4c85-a4a5-18df54e4f06c
DTSTART;VALUE=DATE:20260608
DTEND;VALUE=DATE:20260612
DESCRIPTION:
LOCATION:
SUMMARY:Spirit Week
END:VEVENT
BEGIN:VEVENT
DTSTAMP:20260423T070612Z
UID:f5a59676-a465-45fd-84c9-98abd8dbb001
DTSTART:20260610T073000
DTEND:20260610T081500
DESCRIPTION:
LOCATION:
SUMMARY:Donuts with Dad
END:VEVENT
BEGIN:VEVENT
DTSTAMP:20260423T070612Z
UID:9d3315a3-a812-4b83-802a-83d066d99de2
DTSTART;VALUE=DATE:20260611
DTEND;VALUE=DATE:20260612
DESCRIPTION:
LOCATION:
SUMMARY:Last Day of School
END:VEVENT
BEGIN:VEVENT
DTSTAMP:20260423T070612Z
UID:ffc5ef06-7317-4f37-af12-3c1b6191e64c
DTSTART:20260611T163000
DTEND:20260611T183000
DESCRIPTION:
LOCATION:
SUMMARY:8th Grade Graduation
END:VEVENT
END:VCALENDAR
