BEGIN:VCALENDAR
VERSION:2.0
PRODID:icalendar-ruby
CALSCALE:GREGORIAN
BEGIN:VTIMEZONE
TZID:America/Detroit
BEGIN:DAYLIGHT
DTSTART:20260308T030000
TZOFFSETFROM:-0500
TZOFFSETTO:-0400
RRULE:FREQ=YEARLY;BYDAY=2SU;BYMONTH=3
TZNAME:EDT
END:DAYLIGHT
BEGIN:STANDARD
DTSTART:20261101T010000
TZOFFSETFROM:-0400
TZOFFSETTO:-0500
RRULE:FREQ=YEARLY;BYDAY=1SU;BYMONTH=11
TZNAME:EST
END:STANDARD
END:VTIMEZONE
BEGIN:VEVENT
DTSTAMP:20260421T222717Z
UID:72a86574-40e4-45fd-8798-7579f4a3d255
DTSTART;VALUE=DATE:20260522
DTEND;VALUE=DATE:20260523
DESCRIPTION:
LOCATION:
SUMMARY:AM Half-Day for All Students
END:VEVENT
BEGIN:VEVENT
DTSTAMP:20260421T222717Z
UID:cc1a390d-55de-44a0-aa7f-10f7a13577da
DTSTART;VALUE=DATE:20260525
DTEND;VALUE=DATE:20260526
DESCRIPTION:
LOCATION:
SUMMARY:NO SCHOOL FOR ALL STUDENTS Y5\, K-12TH Grade – MEMORIAL DAY Holid
 ay Break
END:VEVENT
BEGIN:VEVENT
DTSTAMP:20260421T222717Z
UID:98f3d6d7-4cbd-4576-a33a-a2efe441abd5
DTSTART;VALUE=DATE:20260527
DTEND;VALUE=DATE:20260528
DESCRIPTION:
LOCATION:
SUMMARY:AM Half-Day for All Students - Exams – Teacher Records Day (PM)
END:VEVENT
BEGIN:VEVENT
DTSTAMP:20260421T222717Z
UID:5c778c13-cf24-4538-887f-1b35e4fee3ed
DTSTART;VALUE=DATE:20260528
DTEND;VALUE=DATE:20260529
DESCRIPTION:
LOCATION:
SUMMARY:AM Half-Day for All Students - Exams – Teacher Records Day (PM)
END:VEVENT
BEGIN:VEVENT
DTSTAMP:20260421T222717Z
UID:96b51698-f593-4917-a2ce-7b125b64d911
DTSTART;VALUE=DATE:20260529
DTEND;VALUE=DATE:20260530
DESCRIPTION:
LOCATION:
SUMMARY:AM Half-Day for All Students – LAST DAY OF SCHOOL
END:VEVENT
END:VCALENDAR
