BEGIN:VCALENDAR
VERSION:2.0
PRODID:icalendar-ruby
CALSCALE:GREGORIAN
BEGIN:VTIMEZONE
TZID:America/Chicago
BEGIN:DAYLIGHT
DTSTART:20260308T030000
TZOFFSETFROM:-0600
TZOFFSETTO:-0500
RRULE:FREQ=YEARLY;BYDAY=2SU;BYMONTH=3
TZNAME:CDT
END:DAYLIGHT
BEGIN:STANDARD
DTSTART:20261101T010000
TZOFFSETFROM:-0500
TZOFFSETTO:-0600
RRULE:FREQ=YEARLY;BYDAY=1SU;BYMONTH=11
TZNAME:CST
END:STANDARD
END:VTIMEZONE
BEGIN:VEVENT
DTSTAMP:20260419T140802Z
UID:de1e3d8c-2f5f-4ad3-af6b-1849c43165a3
DTSTART;VALUE=DATE:20260427
DTEND;VALUE=DATE:20260428
DESCRIPTION:
LOCATION:
SUMMARY:1 Hour Delay Start
END:VEVENT
BEGIN:VEVENT
DTSTAMP:20260419T140802Z
UID:55b3febf-76d8-4e71-a00c-5de75e7f2915
DTSTART;VALUE=DATE:20260513
DTEND;VALUE=DATE:20260515
DESCRIPTION:
LOCATION:
SUMMARY:HS Exams--2:09 Dismissal
END:VEVENT
BEGIN:VEVENT
DTSTAMP:20260419T140802Z
UID:6f8ad993-56a9-4a91-817b-7cc7377f295d
DTSTART;VALUE=DATE:20260514
DTEND;VALUE=DATE:20260515
DESCRIPTION:
LOCATION:
SUMMARY:Tentative Last Day
END:VEVENT
BEGIN:VEVENT
DTSTAMP:20260419T140802Z
UID:461828e2-e6ad-4976-9575-6282b3231cee
DTSTART;VALUE=DATE:20260515
DTEND;VALUE=DATE:20260516
DESCRIPTION:
LOCATION:
SUMMARY:Teacher's Institute
END:VEVENT
END:VCALENDAR
