BEGIN:VCALENDAR
VERSION:2.0
PRODID:icalendar-ruby
CALSCALE:GREGORIAN
BEGIN:VTIMEZONE
TZID:America/New_York
BEGIN:DAYLIGHT
DTSTART:20260308T030000
TZOFFSETFROM:-0500
TZOFFSETTO:-0400
RRULE:FREQ=YEARLY;BYDAY=2SU;BYMONTH=3
TZNAME:EDT
END:DAYLIGHT
BEGIN:STANDARD
DTSTART:20261101T010000
TZOFFSETFROM:-0400
TZOFFSETTO:-0500
RRULE:FREQ=YEARLY;BYDAY=1SU;BYMONTH=11
TZNAME:EST
END:STANDARD
END:VTIMEZONE
BEGIN:VEVENT
DTSTAMP:20260423T225833Z
UID:0f5495ed-a3f1-45c9-a9b7-2eb5d0574764
DTSTART:20260423T180000
DTEND:20260423T180000
DESCRIPTION:
LOCATION:1 Old Bridge Plaza\, Old Bridge\, NJ 08857\, USA
SUMMARY:Township of Old Bridge Redevelopment Agency Meeting -Room 201
END:VEVENT
BEGIN:VEVENT
DTSTAMP:20260423T225833Z
UID:591653f5-688f-409f-b00c-bbd893b85ecc
DTSTART:20260423T193000
DTEND:20260423T193000
DESCRIPTION:<p><span><strong>PLEASE TAKE NOTICE</strong> that the originall
 y scheduled meeting of the Old Bridge Township Planning Board of April 23\
 , 2026 at 7:30 pm\, located at 1 Old Bridge Plaza\, Old Bridge\, NJ\, the 
 Municipal Courtroom has been canceled. At the April 23\, 2026 meeting\, th
 e public hearings on the following applications\, which were originally sc
 heduled\, will be adjourned to a later date with further notice:</span></p
 ><ul><li><p style="text-align: left">#11-2025P 403 Ticetown\, LLC</p></li>
 <li><p style="text-align: left">#49-2025P 335 Green Street\, LLC</p></li><
 /ul>
LOCATION:1 Old Bridge Plaza\, Old Bridge\, NJ 08857\, USA
SUMMARY:Planning Board Meeting - CANCELED
END:VEVENT
BEGIN:VEVENT
DTSTAMP:20260423T225833Z
UID:1f99bcd4-97c6-415f-a9fe-32886a7f22ab
DTSTART:20260425T100000
DTEND:20260425T140000
DESCRIPTION:<p>The Medicine Takeback Day will be on Saturday\, April 25\, 2
 026\, from 10am-2pm at the Old Bridge Medical Center Main Lobby\, located 
 at 1 Hospital Plaza\, Old Bridge\, NJ. Please note\, intra-venous solution
 s\, injectables\, syringes\, epi-pens and inhalers WILL NOT BE ACCEPTED.</
 p>
LOCATION:1 Old Bridge Plaza\, Old Bridge\, NJ 08857\, USA
SUMMARY:Medicine Take back Day 
END:VEVENT
BEGIN:VEVENT
DTSTAMP:20260423T225833Z
UID:6282019b-1dd0-4d0e-b803-b46814663525
DTSTART:20260428T143000
DTEND:20260428T143000
DESCRIPTION:<p>The Old Bridge Township Shade Tree Commission invites you to
  an Arbor Day Ceremony on Tuesday\, April 28\, 2026 at 2:30pm at the Old B
 ridge Public Library </p><p>The Township Conservation Officer/Forester\, G
 ary Lovallo and The Public Works Department will plant a tree during the c
 eremony. </p><p>If you are interested in attending\, please contact Daniel
  Holihan\, Shade Tree Commission Secretary at <a target="_blank" rel="noop
 ener noreferrer nofollow" href="mailto:dholihan@oldbridge.com" relative-li
 nk="">dholihan@oldbridge.com</a></p>
LOCATION:1 Old Bridge Plaza\, Old Bridge\, NJ 08857\, USA
SUMMARY:Arbor Day Ceremony
END:VEVENT
BEGIN:VEVENT
DTSTAMP:20260423T225833Z
UID:d3585e33-6439-4a14-8d40-72ecc22e7105
DTSTART:20260428T193000
DTEND:20260428T193000
DESCRIPTION:<p><span>Township Council Meeting - Municipal Courtroom</span><
 /p>
LOCATION:1 Old Bridge Plaza\, Old Bridge\, NJ 08857\, USA
SUMMARY:Township Council Meeting
END:VEVENT
BEGIN:VEVENT
DTSTAMP:20260423T225833Z
UID:7dd02061-5d51-4464-8346-2e7d56a79f47
DTSTART:20260430T193000
DTEND:20260430T193000
DESCRIPTION:<p>Zoning Board Meeting - 1 Old Bridge Plaza\, 08857 at 7:30 PM
 </p>
LOCATION:1 Old Bridge Plaza\, Old Bridge\, NJ 08857\, USA
SUMMARY:Zoning Board Meeting
END:VEVENT
BEGIN:VEVENT
DTSTAMP:20260423T225833Z
UID:85b4f776-ed5b-432e-8d77-b01016737fbc
DTSTART:20260505T193000
DTEND:20260505T193000
DESCRIPTION:<p><span>Township Council Meeting - Municipal Courtroom</span><
 /p>
LOCATION:1 Old Bridge Plaza\, Old Bridge\, NJ 08857\, USA
SUMMARY:Township Council Meeting
END:VEVENT
BEGIN:VEVENT
DTSTAMP:20260423T225833Z
UID:01d66066-d534-4f89-97d0-c274d8b3e427
DTSTART:20260506T190000
DTEND:20260506T190000
DESCRIPTION:<p><strong>SPECIAL MEETING OF THE TOWNSHIP OF OLD BRIDGE OPEN S
 PACE COMMITTEE</strong></p><p><strong>SUNSHINE NOTICE</strong></p><p>Notic
 e is hereby given that the Open Space Committee of the Township of Old Bri
 dge will hold a special meeting on Wednesday\, May 6\, 2026 at 7:00 p.m. T
 his Special Meeting was called pursuant to the provisions of the Open Publ
 ic Meetings Law. Notices of this meeting were posted to the Township websi
 te on April 22\, 2026 in accordance with P.L. 2025\, c.72. In addition\, c
 opies of notices were posted on the bulletin board in the Municipal Buildi
 ng. Formal Action may be taken.</p><p><strong>Special Meeting</strong></p>
 <p><strong>Township of Old Bridge Open Space Committee</strong></p><p><str
 ong>Wednesday\, May 6\, 2026\, 7:00 p.m.</strong></p><p><strong>Old Bride 
 Township\, Room 217</strong></p><p><strong>1 Old Bridge Plaza</strong></p>
 <p><strong>AGENDA ITEMS:</strong></p><ol><li><p><strong>Salute to the Flag
 </strong></p></li><li><p><strong>Open Public Meetings Act statement.</stro
 ng></p></li><li><p><strong>Roll Call</strong></p></li><li><p><strong>Publi
 c Comments</strong></p></li><li><p><strong>Old Business </strong></p></li>
 <li><p><strong>New Business: Approval of Minutes February 4\, 2026</strong
 ></p><p></p></li><li><p><strong>Items for Discussion: Open Space Tax Discu
 ssion</strong></p></li><li><p><strong>Commissioner Comments: </strong></p>
 <p></p></li><li><p><strong>Adjournment</strong></p></li></ol><p>Formal Act
 ion may be taken. Changes may be made without notice.</p><p>By: Kathryn Hu
 tchinson\, Open Space Secretary</p>
LOCATION:1 Old Bridge Plaza\, Old Bridge\, NJ 08857\, USA
SUMMARY:Open Space Committee Meeting - SPECIAL MEETING
END:VEVENT
BEGIN:VEVENT
DTSTAMP:20260423T225833Z
UID:e3f09a95-6815-4f9c-b72f-2707b00ef6e5
DTSTART:20260507T193000
DTEND:20260507T193000
DESCRIPTION:<p>Zoning Board Meeting - 1 Old Bridge Plaza\, 08857 at 7:30 PM
 </p>
LOCATION:1 Old Bridge Plaza\, Old Bridge\, NJ 08857\, USA
SUMMARY:Zoning Board Meeting
END:VEVENT
BEGIN:VEVENT
DTSTAMP:20260423T225833Z
UID:72e9d20d-be6f-4bb2-93e7-cb0234c94af8
DTSTART:20260513T190000
DTEND:20260513T190000
DESCRIPTION:<p>Old Bridge Township Library Board Meeting</p>
LOCATION:1 Old Bridge Plaza\, Old Bridge\, NJ 08857\, USA
SUMMARY:Library Board Meeting
END:VEVENT
BEGIN:VEVENT
DTSTAMP:20260423T225833Z
UID:61f93b59-59b5-4c45-ba0e-366cde3128e6
DTSTART:20260519T193000
DTEND:20260519T193000
DESCRIPTION:<p><span>Township Council Meeting - Municipal Courtroom</span><
 /p>
LOCATION:1 Old Bridge Plaza\, Old Bridge\, NJ 08857\, USA
SUMMARY:Township Council Meeting
END:VEVENT
BEGIN:VEVENT
DTSTAMP:20260423T225833Z
UID:26ae94b8-6511-4d66-8c9f-943ab09c39a2
DTSTART:20260521T193000
DTEND:20260521T193000
DESCRIPTION:<p>Zoning Board Meeting - 1 Old Bridge Plaza\, 08857 at 7:30 PM
 </p>
LOCATION:1 Old Bridge Plaza\, Old Bridge\, NJ 08857\, USA
SUMMARY:Zoning Board Meeting
END:VEVENT
BEGIN:VEVENT
DTSTAMP:20260423T225833Z
UID:fc4dc9d8-c94c-4b0a-ba87-6d33558d4341
DTSTART:20260522T110000
DTEND:20260522T130000
DESCRIPTION:<p>Middlesex County cordially invites county residents over 90 
 years of age to join us for a celebration of life in their honor at the Ol
 d Bridge Senior Center on May 22\, 2026 from 11AM - 1PM. Registration is r
 equired by May 15\, 2026 at forms.office.com/g/LnfvzapXxS</p>
LOCATION:1 Old Bridge Plaza\, Old Bridge\, NJ 08857\, USA
SUMMARY:90+ Birthday Bash
END:VEVENT
BEGIN:VEVENT
DTSTAMP:20260423T225833Z
UID:9f86a229-d432-4828-b666-12f8990e79a2
DTSTART;VALUE=DATE:20260525
DTEND;VALUE=DATE:20260526
DESCRIPTION:
LOCATION:
SUMMARY:Municipal Offices Closed - Memorial Day
END:VEVENT
BEGIN:VEVENT
DTSTAMP:20260423T225833Z
UID:ed776049-cb5f-4f45-8978-b70dc6731c93
DTSTART:20260528T180000
DTEND:20260528T180000
DESCRIPTION:
LOCATION:1 Old Bridge Plaza\, Old Bridge\, NJ 08857\, USA
SUMMARY:Township of Old Bridge Redevelopment Agency Meeting -Room 201
END:VEVENT
BEGIN:VEVENT
DTSTAMP:20260423T225833Z
UID:3407b1b7-245d-4db7-abf1-561768d936ba
DTSTART:20260528T193000
DTEND:20260528T193000
DESCRIPTION:<p><span>Planning Board Meeting - 1 Old Bridge Plaza\, 08857 at
  7:30 PM</span></p>
LOCATION:1 Old Bridge Plaza\, Old Bridge\, NJ 08857\, USA
SUMMARY:Planning Board Meeting
END:VEVENT
BEGIN:VEVENT
DTSTAMP:20260423T225833Z
UID:e1f2837a-5d90-4a84-93ad-64be50aeb4fc
DTSTART:20260604T193000
DTEND:20260604T193000
DESCRIPTION:<p>Zoning Board Meeting - 1 Old Bridge Plaza\, 08857 at 7:30 PM
 </p>
LOCATION:1 Old Bridge Plaza\, Old Bridge\, NJ 08857\, USA
SUMMARY:Zoning Board Meeting
END:VEVENT
BEGIN:VEVENT
DTSTAMP:20260423T225833Z
UID:0d9fce03-6a42-4b36-aa06-fc321ec7132d
DTSTART:20260609T193000
DTEND:20260609T193000
DESCRIPTION:<p><span>Township Council Meeting - Municipal Courtroom</span><
 /p>
LOCATION:1 Old Bridge Plaza\, Old Bridge\, NJ 08857\, USA
SUMMARY:Township Council Meeting
END:VEVENT
BEGIN:VEVENT
DTSTAMP:20260423T225833Z
UID:296d9ca1-0000-4e11-90c7-0c189339aded
DTSTART:20260610T190000
DTEND:20260610T190000
DESCRIPTION:<p>Old Bridge Township Library Board Meeting</p>
LOCATION:1 Old Bridge Plaza\, Old Bridge\, NJ 08857\, USA
SUMMARY:Library Board Meeting
END:VEVENT
BEGIN:VEVENT
DTSTAMP:20260423T225833Z
UID:b0a6757b-5342-4490-bf8e-89d1cd40b365
DTSTART:20260618T193000
DTEND:20260618T193000
DESCRIPTION:<p>Zoning Board Meeting - 1 Old Bridge Plaza\, 08857 at 7:30 PM
 </p>
LOCATION:1 Old Bridge Plaza\, Old Bridge\, NJ 08857\, USA
SUMMARY:Zoning Board Meeting
END:VEVENT
BEGIN:VEVENT
DTSTAMP:20260423T225833Z
UID:27bcf43d-2854-4a56-9900-7a7741d9c940
DTSTART:20260623T193000
DTEND:20260623T193000
DESCRIPTION:<p><span>Township Council Meeting - Municipal Courtroom</span><
 /p>
LOCATION:1 Old Bridge Plaza\, Old Bridge\, NJ 08857\, USA
SUMMARY:Township Council Meeting
END:VEVENT
BEGIN:VEVENT
DTSTAMP:20260423T225833Z
UID:4d5b265f-cdb0-41f1-b83b-1cae80a463e3
DTSTART:20260625T180000
DTEND:20260625T180000
DESCRIPTION:
LOCATION:1 Old Bridge Plaza\, Old Bridge\, NJ 08857\, USA
SUMMARY:Township of Old Bridge Redevelopment Agency Meeting -Room 201
END:VEVENT
BEGIN:VEVENT
DTSTAMP:20260423T225833Z
UID:47552a5f-822c-42cd-a4ed-96bf84197f33
DTSTART:20260625T193000
DTEND:20260625T193000
DESCRIPTION:<p><span>Planning Board Meeting - 1 Old Bridge Plaza\, 08857 at
  7:30 PM</span></p>
LOCATION:1 Old Bridge Plaza\, Old Bridge\, NJ 08857\, USA
SUMMARY:Planning Board Meeting
END:VEVENT
BEGIN:VEVENT
DTSTAMP:20260423T225833Z
UID:9d0f62da-a0f3-49fe-8956-401524e98b0f
DTSTART;VALUE=DATE:20260703
DTEND;VALUE=DATE:20260704
DESCRIPTION:
LOCATION:
SUMMARY:Municipal Offices Closed - Independence Day (Observed)
END:VEVENT
BEGIN:VEVENT
DTSTAMP:20260423T225833Z
UID:2c19b278-7e47-4e01-af21-943e6e0a2cde
DTSTART:20260708T190000
DTEND:20260708T190000
DESCRIPTION:<p>Old Bridge Township Library Board Meeting</p>
LOCATION:1 Old Bridge Plaza\, Old Bridge\, NJ 08857\, USA
SUMMARY:Library Board Meeting
END:VEVENT
BEGIN:VEVENT
DTSTAMP:20260423T225833Z
UID:af0c8964-cf9b-41a8-a2b7-ba6363672fe6
DTSTART:20260716T193000
DTEND:20260716T193000
DESCRIPTION:<p>Zoning Board Meeting - 1 Old Bridge Plaza\, 08857 at 7:30 PM
 </p>
LOCATION:1 Old Bridge Plaza\, Old Bridge\, NJ 08857\, USA
SUMMARY:Zoning Board Meeting
END:VEVENT
BEGIN:VEVENT
DTSTAMP:20260423T225833Z
UID:8193c062-953f-4489-9b34-b8c0eb5f6a79
DTSTART:20260721T193000
DTEND:20260721T193000
DESCRIPTION:<p><span>Township Council Meeting - Municipal Courtroom</span><
 /p>
LOCATION:1 Old Bridge Plaza\, Old Bridge\, NJ 08857\, USA
SUMMARY:Township Council Meeting
END:VEVENT
BEGIN:VEVENT
DTSTAMP:20260423T225833Z
UID:e9ff0906-0dcb-44ac-9cb8-3cdf57a2d444
DTSTART:20260723T180000
DTEND:20260723T180000
DESCRIPTION:
LOCATION:1 Old Bridge Plaza\, Old Bridge\, NJ 08857\, USA
SUMMARY:Township of Old Bridge Redevelopment Agency Meeting -Room 201
END:VEVENT
BEGIN:VEVENT
DTSTAMP:20260423T225833Z
UID:1525ae97-b014-4ecc-9e34-5c1a65f7a6e5
DTSTART:20260723T193000
DTEND:20260723T193000
DESCRIPTION:<p><span>Planning Board Meeting - 1 Old Bridge Plaza\, 08857 at
  7:30 PM</span></p>
LOCATION:1 Old Bridge Plaza\, Old Bridge\, NJ 08857\, USA
SUMMARY:Planning Board Meeting
END:VEVENT
BEGIN:VEVENT
DTSTAMP:20260423T225833Z
UID:612f128f-910b-40bb-a3e1-2038a8ede91e
DTSTART:20260806T193000
DTEND:20260806T193000
DESCRIPTION:<p>Zoning Board Meeting - 1 Old Bridge Plaza\, 08857 at 7:30 PM
 </p>
LOCATION:1 Old Bridge Plaza\, Old Bridge\, NJ 08857\, USA
SUMMARY:Zoning Board Meeting
END:VEVENT
BEGIN:VEVENT
DTSTAMP:20260423T225833Z
UID:2a0ac4ea-2af3-43e2-bbee-bd636923e273
DTSTART:20260812T190000
DTEND:20260812T190000
DESCRIPTION:<p>Old Bridge Township Library Board Meeting</p>
LOCATION:1 Old Bridge Plaza\, Old Bridge\, NJ 08857\, USA
SUMMARY:Library Board Meeting
END:VEVENT
BEGIN:VEVENT
DTSTAMP:20260423T225833Z
UID:2d9176ed-9035-4d2b-ae02-69e0eef3f6f3
DTSTART:20260818T193000
DTEND:20260818T193000
DESCRIPTION:<p><span>Township Council Meeting - Municipal Courtroom</span><
 /p>
LOCATION:1 Old Bridge Plaza\, Old Bridge\, NJ 08857\, USA
SUMMARY:Township Council Meeting
END:VEVENT
BEGIN:VEVENT
DTSTAMP:20260423T225833Z
UID:c75d19a8-ce10-4b9e-9dbd-1dd80da579aa
DTSTART:20260820T193000
DTEND:20260820T193000
DESCRIPTION:<p>Zoning Board Meeting - 1 Old Bridge Plaza\, 08857 at 7:30 PM
 </p>
LOCATION:1 Old Bridge Plaza\, Old Bridge\, NJ 08857\, USA
SUMMARY:Zoning Board Meeting
END:VEVENT
BEGIN:VEVENT
DTSTAMP:20260423T225833Z
UID:fd3fdc10-6398-4478-ad25-c11dc376952c
DTSTART:20260827T180000
DTEND:20260827T180000
DESCRIPTION:
LOCATION:1 Old Bridge Plaza\, Old Bridge\, NJ 08857\, USA
SUMMARY:Township of Old Bridge Redevelopment Agency Meeting -Room 201
END:VEVENT
BEGIN:VEVENT
DTSTAMP:20260423T225833Z
UID:c1ef37de-e146-49fe-a560-325171c4c318
DTSTART:20260827T193000
DTEND:20260827T193000
DESCRIPTION:<p><span>Planning Board Meeting - 1 Old Bridge Plaza\, 08857 at
  7:30 PM</span></p>
LOCATION:1 Old Bridge Plaza\, Old Bridge\, NJ 08857\, USA
SUMMARY:Planning Board Meeting
END:VEVENT
BEGIN:VEVENT
DTSTAMP:20260423T225833Z
UID:fd462f0a-ecc0-4bf2-ac93-b45c845c53bf
DTSTART:20260903T193000
DTEND:20260903T193000
DESCRIPTION:<p>Zoning Board Meeting - 1 Old Bridge Plaza\, 08857 at 7:30 PM
 </p>
LOCATION:1 Old Bridge Plaza\, Old Bridge\, NJ 08857\, USA
SUMMARY:Zoning Board Meeting
END:VEVENT
BEGIN:VEVENT
DTSTAMP:20260423T225833Z
UID:af137bb2-a3e2-4b1d-8044-f78fa85bec42
DTSTART;VALUE=DATE:20260907
DTEND;VALUE=DATE:20260908
DESCRIPTION:
LOCATION:
SUMMARY:Municipal Offices Closed - Labor Day
END:VEVENT
BEGIN:VEVENT
DTSTAMP:20260423T225833Z
UID:6f111573-d3f8-464c-ba42-504678ed07bf
DTSTART:20260909T190000
DTEND:20260909T190000
DESCRIPTION:<p>Old Bridge Township Library Board Meeting</p>
LOCATION:1 Old Bridge Plaza\, Old Bridge\, NJ 08857\, USA
SUMMARY:Library Board Meeting
END:VEVENT
BEGIN:VEVENT
DTSTAMP:20260423T225833Z
UID:57a03bdf-292a-4076-b074-0eef5023afb3
DTSTART:20260915T193000
DTEND:20260915T193000
DESCRIPTION:<p><span>Township Council Meeting - Municipal Courtroom</span><
 /p>
LOCATION:1 Old Bridge Plaza\, Old Bridge\, NJ 08857\, USA
SUMMARY:Township Council Meeting
END:VEVENT
BEGIN:VEVENT
DTSTAMP:20260423T225833Z
UID:24834217-44aa-4646-b795-71e99718fd9c
DTSTART:20260917T193000
DTEND:20260917T193000
DESCRIPTION:<p>Zoning Board Meeting - 1 Old Bridge Plaza\, 08857 at 7:30 PM
 </p>
LOCATION:1 Old Bridge Plaza\, Old Bridge\, NJ 08857\, USA
SUMMARY:Zoning Board Meeting
END:VEVENT
BEGIN:VEVENT
DTSTAMP:20260423T225833Z
UID:354456cc-9c0a-41d8-97be-1d60557794e6
DTSTART:20260924T180000
DTEND:20260924T180000
DESCRIPTION:
LOCATION:1 Old Bridge Plaza\, Old Bridge\, NJ 08857\, USA
SUMMARY:Township of Old Bridge Redevelopment Agency Meeting -Room 201
END:VEVENT
BEGIN:VEVENT
DTSTAMP:20260423T225833Z
UID:ba9454e6-f92e-4242-a3c0-f674b209db40
DTSTART:20260924T193000
DTEND:20260924T193000
DESCRIPTION:<p><span>Planning Board Meeting - 1 Old Bridge Plaza\, 08857 at
  7:30 PM</span></p>
LOCATION:1 Old Bridge Plaza\, Old Bridge\, NJ 08857\, USA
SUMMARY:Planning Board Meeting
END:VEVENT
BEGIN:VEVENT
DTSTAMP:20260423T225833Z
UID:ce6cd465-53b7-4dc1-aa20-2a0733be6c3f
DTSTART:20261001T193000
DTEND:20261001T193000
DESCRIPTION:<p>Zoning Board Meeting - 1 Old Bridge Plaza\, 08857 at 7:30 PM
 </p>
LOCATION:1 Old Bridge Plaza\, Old Bridge\, NJ 08857\, USA
SUMMARY:Zoning Board Meeting
END:VEVENT
BEGIN:VEVENT
DTSTAMP:20260423T225833Z
UID:746c83b9-e92c-4754-b6db-4a0007943fcc
DTSTART:20261006T193000
DTEND:20261006T193000
DESCRIPTION:<p><span>Township Council Meeting - Municipal Courtroom</span><
 /p>
LOCATION:1 Old Bridge Plaza\, Old Bridge\, NJ 08857\, USA
SUMMARY:Township Council Meeting
END:VEVENT
BEGIN:VEVENT
DTSTAMP:20260423T225833Z
UID:061d3f0a-61b8-4a73-be74-570fec195aa1
DTSTART:20261014T190000
DTEND:20261014T190000
DESCRIPTION:<p>Old Bridge Township Library Board Meeting</p>
LOCATION:1 Old Bridge Plaza\, Old Bridge\, NJ 08857\, USA
SUMMARY:Library Board Meeting
END:VEVENT
BEGIN:VEVENT
DTSTAMP:20260423T225833Z
UID:5442f223-df0f-4159-973d-f08749a20a55
DTSTART:20261015T193000
DTEND:20261015T193000
DESCRIPTION:<p>Zoning Board Meeting - 1 Old Bridge Plaza\, 08857 at 7:30 PM
 </p>
LOCATION:1 Old Bridge Plaza\, Old Bridge\, NJ 08857\, USA
SUMMARY:Zoning Board Meeting
END:VEVENT
BEGIN:VEVENT
DTSTAMP:20260423T225833Z
UID:165a220d-2306-4bce-9df5-061856910c13
DTSTART:20261020T193000
DTEND:20261020T193000
DESCRIPTION:<p><span>Township Council Meeting - Municipal Courtroom</span><
 /p>
LOCATION:1 Old Bridge Plaza\, Old Bridge\, NJ 08857\, USA
SUMMARY:Township Council Meeting
END:VEVENT
BEGIN:VEVENT
DTSTAMP:20260423T225833Z
UID:d74b358f-b867-4b8f-8f23-99ac2333f03f
DTSTART:20261022T180000
DTEND:20261022T180000
DESCRIPTION:
LOCATION:1 Old Bridge Plaza\, Old Bridge\, NJ 08857\, USA
SUMMARY:Township of Old Bridge Redevelopment Agency Meeting -Room 201
END:VEVENT
BEGIN:VEVENT
DTSTAMP:20260423T225833Z
UID:ca3482a0-83e8-4c5b-8f48-e46829350bba
DTSTART:20261022T193000
DTEND:20261022T193000
DESCRIPTION:<p><span>Planning Board Meeting - 1 Old Bridge Plaza\, 08857 at
  7:30 PM</span></p>
LOCATION:1 Old Bridge Plaza\, Old Bridge\, NJ 08857\, USA
SUMMARY:Planning Board Meeting
END:VEVENT
BEGIN:VEVENT
DTSTAMP:20260423T225833Z
UID:0726a235-0cbb-422a-932e-320d5d80759b
DTSTART:20261105T193000
DTEND:20261105T193000
DESCRIPTION:<p>Zoning Board Meeting - 1 Old Bridge Plaza\, 08857 at 7:30 PM
 </p>
LOCATION:1 Old Bridge Plaza\, Old Bridge\, NJ 08857\, USA
SUMMARY:Zoning Board Meeting
END:VEVENT
BEGIN:VEVENT
DTSTAMP:20260423T225833Z
UID:4383ed13-596d-4416-ae0e-ee2542849857
DTSTART:20261110T193000
DTEND:20261110T193000
DESCRIPTION:<p><span>Township Council Meeting - Municipal Courtroom</span><
 /p>
LOCATION:1 Old Bridge Plaza\, Old Bridge\, NJ 08857\, USA
SUMMARY:Township Council Meeting
END:VEVENT
BEGIN:VEVENT
DTSTAMP:20260423T225833Z
UID:68b67e43-b8b4-4f10-9967-ad10b5b9bac0
DTSTART;VALUE=DATE:20261111
DTEND;VALUE=DATE:20261112
DESCRIPTION:
LOCATION:
SUMMARY:Municipal Offices Closed - Veteran's Day
END:VEVENT
BEGIN:VEVENT
DTSTAMP:20260423T225833Z
UID:5c14b6de-2441-4fd6-916d-dedd47fbe0ba
DTSTART:20261111T190000
DTEND:20261111T190000
DESCRIPTION:<p>Old Bridge Township Library Board Meeting</p>
LOCATION:1 Old Bridge Plaza\, Old Bridge\, NJ 08857\, USA
SUMMARY:Library Board Meeting
END:VEVENT
BEGIN:VEVENT
DTSTAMP:20260423T225833Z
UID:ddb873ac-3d1e-411f-80bc-89775a830d11
DTSTART:20261112T193000
DTEND:20261112T193000
DESCRIPTION:<p><span>Planning Board Meeting - 1 Old Bridge Plaza\, 08857 at
  7:30 PM</span></p>
LOCATION:1 Old Bridge Plaza\, Old Bridge\, NJ 08857\, USA
SUMMARY:Planning Board Meeting
END:VEVENT
BEGIN:VEVENT
DTSTAMP:20260423T225833Z
UID:88819109-a513-45f6-b968-932192900c86
DTSTART:20261119T180000
DTEND:20261119T180000
DESCRIPTION:
LOCATION:1 Old Bridge Plaza\, Old Bridge\, NJ 08857
SUMMARY:Township of Old Bridge Redevelopment Agency Meeting -Room 201
END:VEVENT
BEGIN:VEVENT
DTSTAMP:20260423T225833Z
UID:e8f2ce82-ff44-4a57-bf11-f3b422f14af0
DTSTART;VALUE=DATE:20261126
DTEND;VALUE=DATE:20261127
DESCRIPTION:
LOCATION:
SUMMARY:Municipal Offices Closed - Thanksgiving
END:VEVENT
BEGIN:VEVENT
DTSTAMP:20260423T225833Z
UID:b962396c-b521-4068-b05b-1a39670da691
DTSTART;VALUE=DATE:20261127
DTEND;VALUE=DATE:20261128
DESCRIPTION:
LOCATION:
SUMMARY:Municipal Offices Closed - Day After Thanksgiving
END:VEVENT
BEGIN:VEVENT
DTSTAMP:20260423T225833Z
UID:715dce09-b561-447b-9dcf-7b4f74252eba
DTSTART:20261201T193000
DTEND:20261201T193000
DESCRIPTION:<p><span>Township Council Meeting - Municipal Courtroom</span><
 /p>
LOCATION:1 Old Bridge Plaza\, Old Bridge\, NJ 08857\, USA
SUMMARY:Township Council Meeting
END:VEVENT
BEGIN:VEVENT
DTSTAMP:20260423T225833Z
UID:d211abee-4ed3-430a-b63e-4ff2bf42c89a
DTSTART:20261203T193000
DTEND:20261203T193000
DESCRIPTION:<p>Zoning Board Meeting - 1 Old Bridge Plaza\, 08857 at 7:30 PM
 </p>
LOCATION:1 Old Bridge Plaza\, Old Bridge\, NJ 08857\, USA
SUMMARY:Zoning Board Meeting
END:VEVENT
BEGIN:VEVENT
DTSTAMP:20260423T225833Z
UID:60b1b5ae-7a50-4ba0-af05-2c8cbbcd3949
DTSTART:20261209T190000
DTEND:20261209T190000
DESCRIPTION:<p>Old Bridge Township Library Board Meeting</p>
LOCATION:1 Old Bridge Plaza\, Old Bridge\, NJ 08857\, USA
SUMMARY:Library Board Meeting
END:VEVENT
BEGIN:VEVENT
DTSTAMP:20260423T225833Z
UID:5ca604d2-4115-445f-8a59-47a8cc6388f9
DTSTART:20261210T193000
DTEND:20261210T193000
DESCRIPTION:<p><span>Planning Board Meeting - 1 Old Bridge Plaza\, 08857 at
  7:30 PM</span></p>
LOCATION:1 Old Bridge Plaza\, Old Bridge\, NJ 08857\, USA
SUMMARY:Planning Board Meeting
END:VEVENT
BEGIN:VEVENT
DTSTAMP:20260423T225833Z
UID:4382754c-98e3-4aaa-9698-82e4d866033e
DTSTART:20261215T193000
DTEND:20261215T193000
DESCRIPTION:<p><span>Township Council Meeting - Municipal Courtroom</span><
 /p>
LOCATION:1 Old Bridge Plaza\, Old Bridge\, NJ 08857\, USA
SUMMARY:Township Council Meeting
END:VEVENT
BEGIN:VEVENT
DTSTAMP:20260423T225833Z
UID:b8b2f4d7-3abf-40c7-ac7e-4b028c248f47
DTSTART:20261217T180000
DTEND:20261217T180000
DESCRIPTION:
LOCATION:1 Old Bridge Plaza\, Old Bridge\, NJ 08857\, USA
SUMMARY:Township of Old Bridge Redevelopment Agency Meeting -Room 201
END:VEVENT
BEGIN:VEVENT
DTSTAMP:20260423T225833Z
UID:f387451c-5942-45ef-990c-390018b39090
DTSTART:20261217T193000
DTEND:20261217T193000
DESCRIPTION:<p>Zoning Board Meeting - 1 Old Bridge Plaza\, 08857 at 7:30 PM
 </p>
LOCATION:1 Old Bridge Plaza\, Old Bridge\, NJ 08857\, USA
SUMMARY:Zoning Board Meeting
END:VEVENT
BEGIN:VEVENT
DTSTAMP:20260423T225833Z
UID:d3d176bd-bd64-407d-a917-bac7dc8103a7
DTSTART;VALUE=DATE:20261225
DTEND;VALUE=DATE:20261226
DESCRIPTION:
LOCATION:
SUMMARY:Municipal Offices Closed - Christmas Day
END:VEVENT
END:VCALENDAR
