BEGIN:VCALENDAR
VERSION:2.0
PRODID:icalendar-ruby
CALSCALE:GREGORIAN
BEGIN:VTIMEZONE
TZID:America/Chicago
BEGIN:DAYLIGHT
DTSTART:20260308T030000
TZOFFSETFROM:-0600
TZOFFSETTO:-0500
RRULE:FREQ=YEARLY;BYDAY=2SU;BYMONTH=3
TZNAME:CDT
END:DAYLIGHT
BEGIN:STANDARD
DTSTART:20261101T010000
TZOFFSETFROM:-0500
TZOFFSETTO:-0600
RRULE:FREQ=YEARLY;BYDAY=1SU;BYMONTH=11
TZNAME:CST
END:STANDARD
END:VTIMEZONE
BEGIN:VEVENT
DTSTAMP:20260421T085054Z
UID:b15eb120-ee04-4a3f-90cb-40fc7ef20843
DTSTART;VALUE=DATE:20260521
DTEND;VALUE=DATE:20260522
DESCRIPTION:
LOCATION:
SUMMARY:Gwendolyn Brooks Middle School 8th Grade Graduation
END:VEVENT
BEGIN:VEVENT
DTSTAMP:20260421T085054Z
UID:ee9e2b13-8a5d-4ef6-ada2-871c85734d45
DTSTART:20260522T120000
DTEND:20260522T120000
DESCRIPTION:
LOCATION:14741 Wallace St\, Harvey\, IL 60426\, USA
SUMMARY:End of 4th Quarter - Early  Dismissal for students 12:00pm (6th-7th
 ) 12:30pm (PreK-5th)
END:VEVENT
BEGIN:VEVENT
DTSTAMP:20260421T085054Z
UID:82b34977-5732-4d88-9233-b5cf72ddf4f8
DTSTART:20260522T123000
DTEND:20260522T133000
DESCRIPTION:
LOCATION:
SUMMARY:Riley Pre-K Graduation/End of 4th Quarter - 12:30 p.m. Dismissal
END:VEVENT
BEGIN:VEVENT
DTSTAMP:20260421T085054Z
UID:cabee786-c549-411e-819d-30c0c591de79
DTSTART;VALUE=DATE:20260525
DTEND;VALUE=DATE:20260526
DESCRIPTION:
LOCATION:
SUMMARY:HOLIDAY - MEMORIAL DAY - NO SCHOOL - OFFICES CLOSED
END:VEVENT
BEGIN:VEVENT
DTSTAMP:20260421T085054Z
UID:b8e51855-c928-4b0f-91bb-45a216fa9e6c
DTSTART;VALUE=DATE:20260529
DTEND;VALUE=DATE:20260530
DESCRIPTION:
LOCATION:
SUMMARY:LAST DAY OF SCHOOL
END:VEVENT
END:VCALENDAR
