BEGIN:VCALENDAR
VERSION:2.0
PRODID:icalendar-ruby
CALSCALE:GREGORIAN
BEGIN:VTIMEZONE
TZID:America/Chicago
BEGIN:DAYLIGHT
DTSTART:20260308T030000
TZOFFSETFROM:-0600
TZOFFSETTO:-0500
RRULE:FREQ=YEARLY;BYDAY=2SU;BYMONTH=3
TZNAME:CDT
END:DAYLIGHT
BEGIN:STANDARD
DTSTART:20261101T010000
TZOFFSETFROM:-0500
TZOFFSETTO:-0600
RRULE:FREQ=YEARLY;BYDAY=1SU;BYMONTH=11
TZNAME:CST
END:STANDARD
END:VTIMEZONE
BEGIN:VEVENT
DTSTAMP:20260423T025441Z
UID:1d46c0e3-82fa-4e38-9e44-57f5fb57ce75
DTSTART;VALUE=DATE:20260508
DTEND;VALUE=DATE:20260509
DESCRIPTION:
LOCATION:
SUMMARY:Seniors Last Day
END:VEVENT
BEGIN:VEVENT
DTSTAMP:20260423T025441Z
UID:bd31b78f-05f0-4c0b-9924-c33fea265059
DTSTART;VALUE=DATE:20260521
DTEND;VALUE=DATE:20260522
DESCRIPTION:
LOCATION:
SUMMARY:End of 4th Grading Period
END:VEVENT
BEGIN:VEVENT
DTSTAMP:20260423T025441Z
UID:67063bc8-0195-4068-9f92-9a7e0fdeec29
DTSTART;VALUE=DATE:20260522
DTEND;VALUE=DATE:20260523
DESCRIPTION:
LOCATION:
SUMMARY:Students/Staff attend last day
END:VEVENT
BEGIN:VEVENT
DTSTAMP:20260423T025441Z
UID:c6b2c6db-e13e-4995-935b-52652bc21263
DTSTART:20260718T100000
DTEND:20260718T120000
DESCRIPTION:
LOCATION:
SUMMARY:Back-to-School Blastoff
END:VEVENT
BEGIN:VEVENT
DTSTAMP:20260423T025441Z
UID:d6f9119f-bc3d-4609-8e9a-c72505f63210
DTSTART;VALUE=DATE:20260803
DTEND;VALUE=DATE:20260806
DESCRIPTION:
LOCATION:
SUMMARY:Staff Professional Development
END:VEVENT
BEGIN:VEVENT
DTSTAMP:20260423T025441Z
UID:e4748f05-c487-4a3d-9ba9-063d4eafd966
DTSTART;VALUE=DATE:20260806
DTEND;VALUE=DATE:20260807
DESCRIPTION:
LOCATION:
SUMMARY:Students Begin Fall Semester
END:VEVENT
BEGIN:VEVENT
DTSTAMP:20260423T025441Z
UID:579613bb-ba72-4516-b4d1-89299ec24c04
DTSTART;VALUE=DATE:20260907
DTEND;VALUE=DATE:20260908
DESCRIPTION:
LOCATION:
SUMMARY:Labor Day Holiday
END:VEVENT
BEGIN:VEVENT
DTSTAMP:20260423T025441Z
UID:4fd0aebf-46ab-4343-8acc-b69548829b24
DTSTART:20260908T100000
DTEND:20260908T180000
DESCRIPTION:
LOCATION:
SUMMARY:SPT Conferences Virtual Day for Students
END:VEVENT
BEGIN:VEVENT
DTSTAMP:20260423T025441Z
UID:08477f49-5c72-4347-ab7f-b5cefa5d11d7
DTSTART;VALUE=DATE:20261002
DTEND;VALUE=DATE:20261003
DESCRIPTION:
LOCATION:
SUMMARY:End of Grading Period
END:VEVENT
BEGIN:VEVENT
DTSTAMP:20260423T025441Z
UID:b6fa619b-3847-4dd6-a294-3ff0c028b60b
DTSTART;VALUE=DATE:20261005
DTEND;VALUE=DATE:20261010
DESCRIPTION:
LOCATION:
SUMMARY:Fall Break
END:VEVENT
BEGIN:VEVENT
DTSTAMP:20260423T025441Z
UID:a8ce0f7e-94d9-498b-a86c-8e16b2995115
DTSTART;VALUE=DATE:20261103
DTEND;VALUE=DATE:20261104
DESCRIPTION:
LOCATION:
SUMMARY:Election Day- Students Do Not Attend
END:VEVENT
BEGIN:VEVENT
DTSTAMP:20260423T025441Z
UID:77c1413d-d367-4f7b-8ae5-a59e28be6b38
DTSTART:20261109T100000
DTEND:20261109T180000
DESCRIPTION:
LOCATION:
SUMMARY:SPT Conferences Virtual Day for Students
END:VEVENT
BEGIN:VEVENT
DTSTAMP:20260423T025441Z
UID:ca55a75c-e531-44e2-b630-ab0174d9309f
DTSTART;VALUE=DATE:20261123
DTEND;VALUE=DATE:20261128
DESCRIPTION:
LOCATION:
SUMMARY:Thanksgiving Break
END:VEVENT
BEGIN:VEVENT
DTSTAMP:20260423T025441Z
UID:8ddc4a9c-2705-4fef-8c62-313a67942215
DTSTART;VALUE=DATE:20261217
DTEND;VALUE=DATE:20261218
DESCRIPTION:
LOCATION:
SUMMARY:End of Grading Period
END:VEVENT
BEGIN:VEVENT
DTSTAMP:20260423T025441Z
UID:5b31b83c-4699-4976-9f4d-260f415cf81b
DTSTART;VALUE=DATE:20261218
DTEND;VALUE=DATE:20261219
DESCRIPTION:
LOCATION:
SUMMARY:Teacher Workday/Flex
END:VEVENT
BEGIN:VEVENT
DTSTAMP:20260423T025441Z
UID:36371ed1-dced-41b1-969f-74a3c8b885c7
DTSTART;VALUE=DATE:20261221
DTEND;VALUE=DATE:20270102
DESCRIPTION:
LOCATION:
SUMMARY:Christmas Break
END:VEVENT
BEGIN:VEVENT
DTSTAMP:20260423T025441Z
UID:76f0362e-27bb-4f12-a045-71c58e6b13c9
DTSTART;VALUE=DATE:20270104
DTEND;VALUE=DATE:20270106
DESCRIPTION:
LOCATION:
SUMMARY:Staff Professional Development
END:VEVENT
BEGIN:VEVENT
DTSTAMP:20260423T025441Z
UID:2143bd2d-e783-4808-82e6-b42b0f4b1f3d
DTSTART;VALUE=DATE:20270106
DTEND;VALUE=DATE:20270107
DESCRIPTION:
LOCATION:
SUMMARY:Students Begin Spring Semester
END:VEVENT
BEGIN:VEVENT
DTSTAMP:20260423T025441Z
UID:0257a286-c477-44fa-a2d5-3719a35f9143
DTSTART;VALUE=DATE:20270118
DTEND;VALUE=DATE:20270119
DESCRIPTION:
LOCATION:
SUMMARY:Martin Luther King Jr. Holiday
END:VEVENT
BEGIN:VEVENT
DTSTAMP:20260423T025441Z
UID:e6a138eb-5cf6-4e3a-a0ec-2f6568c177c5
DTSTART;VALUE=DATE:20270215
DTEND;VALUE=DATE:20270220
DESCRIPTION:
LOCATION:
SUMMARY:Winter Break
END:VEVENT
BEGIN:VEVENT
DTSTAMP:20260423T025441Z
UID:2013d638-03f4-4fa6-b4e7-ad6e7c647ef8
DTSTART:20270222T100000
DTEND:20270222T180000
DESCRIPTION:
LOCATION:
SUMMARY:SPT Conferences Virtual Day for Students
END:VEVENT
BEGIN:VEVENT
DTSTAMP:20260423T025441Z
UID:b50a8513-336a-4d4c-a648-b6e9577117b0
DTSTART;VALUE=DATE:20270312
DTEND;VALUE=DATE:20270313
DESCRIPTION:
LOCATION:
SUMMARY:End of Grading Period
END:VEVENT
BEGIN:VEVENT
DTSTAMP:20260423T025441Z
UID:efe733d5-f894-4375-95e1-fd43e8e04cef
DTSTART;VALUE=DATE:20270326
DTEND;VALUE=DATE:20270403
DESCRIPTION:
LOCATION:
SUMMARY:Spring Break
END:VEVENT
BEGIN:VEVENT
DTSTAMP:20260423T025441Z
UID:dfdb7e36-c81b-4072-9164-de7446fcdb84
DTSTART:20270419T100000
DTEND:20270419T180000
DESCRIPTION:
LOCATION:
SUMMARY:SPT Conferences Virtual Day for Students
END:VEVENT
BEGIN:VEVENT
DTSTAMP:20260423T025441Z
UID:20af5410-2509-4c1c-b21a-1cbd7aa9074c
DTSTART;VALUE=DATE:20270507
DTEND;VALUE=DATE:20270508
DESCRIPTION:
LOCATION:
SUMMARY:Seniors' Last Attendance Day
END:VEVENT
BEGIN:VEVENT
DTSTAMP:20260423T025441Z
UID:03fcbea8-853d-46d4-8d13-0fb9991eaa88
DTSTART;VALUE=DATE:20270520
DTEND;VALUE=DATE:20270521
DESCRIPTION:
LOCATION:
SUMMARY:Students' Last Day
END:VEVENT
BEGIN:VEVENT
DTSTAMP:20260423T025441Z
UID:2bd3d64c-2459-4567-aa55-2d22dbb9d8e8
DTSTART;VALUE=DATE:20270521
DTEND;VALUE=DATE:20270522
DESCRIPTION:
LOCATION:
SUMMARY:Teacher Workday/Flex
END:VEVENT
END:VCALENDAR
