BEGIN:VCALENDAR
VERSION:2.0
PRODID:icalendar-ruby
CALSCALE:GREGORIAN
BEGIN:VTIMEZONE
TZID:America/New_York
BEGIN:DAYLIGHT
DTSTART:20260308T030000
TZOFFSETFROM:-0500
TZOFFSETTO:-0400
RRULE:FREQ=YEARLY;BYDAY=2SU;BYMONTH=3
TZNAME:EDT
END:DAYLIGHT
BEGIN:STANDARD
DTSTART:20261101T010000
TZOFFSETFROM:-0400
TZOFFSETTO:-0500
RRULE:FREQ=YEARLY;BYDAY=1SU;BYMONTH=11
TZNAME:EST
END:STANDARD
END:VTIMEZONE
BEGIN:VEVENT
DTSTAMP:20260425T021159Z
UID:2f4b2f06-3776-4bd6-bf85-98afe1c278ca
DTSTART;VALUE=DATE:20260427
DTEND;VALUE=DATE:20260502
DESCRIPTION:
LOCATION:
SUMMARY:LBES Book Fair 
END:VEVENT
BEGIN:VEVENT
DTSTAMP:20260425T021159Z
UID:3ba87f67-d467-44a4-b22e-79a3d07e3e5e
DTSTART:20260430T140000
DTEND:20260430T150000
DESCRIPTION:
LOCATION:Long Branch Elementary School\, 10218 North Carolina Hwy 72\, Lumb
 erton\, NC 28358\, USA
SUMMARY:Multiplication Bee 
END:VEVENT
BEGIN:VEVENT
DTSTAMP:20260425T021159Z
UID:d70fe57c-e1c8-4fa5-931b-b6e0025dfdd1
DTSTART:20260501T090000
DTEND:20260501T100000
DESCRIPTION:
LOCATION:Long Branch Elementary School\, 10218 North Carolina Hwy 72\, Lumb
 erton\, NC 28358\, USA
SUMMARY:May Day May 1\, 2025 9-10am
END:VEVENT
BEGIN:VEVENT
DTSTAMP:20260425T021159Z
UID:3d0bb7f5-29c2-47e6-b776-c89237051a69
DTSTART;VALUE=DATE:20260504
DTEND;VALUE=DATE:20260505
DESCRIPTION:
LOCATION:
SUMMARY:Progress Reports go home
END:VEVENT
BEGIN:VEVENT
DTSTAMP:20260425T021159Z
UID:e0e1d74e-d388-4449-af19-fe158f32113e
DTSTART:20260518T180000
DTEND:20260518T190000
DESCRIPTION:
LOCATION:
SUMMARY:End of Year PTA May 18\, 2026 at 6:00pm
END:VEVENT
BEGIN:VEVENT
DTSTAMP:20260425T021159Z
UID:ffe1d934-6d0e-4068-a4e3-20d4646667b7
DTSTART;VALUE=DATE:20260525
DTEND;VALUE=DATE:20260526
DESCRIPTION:
LOCATION:
SUMMARY:Memorial Day Holiday
END:VEVENT
BEGIN:VEVENT
DTSTAMP:20260425T021159Z
UID:e49187ed-46a3-441a-9889-8876ed5a02f0
DTSTART:20260603T090000
DTEND:20260603T100000
DESCRIPTION:
LOCATION:Long Branch Elementary School\, 10218 North Carolina Hwy 72\, Lumb
 erton\, NC 28358\, USA
SUMMARY:PreK Promotion
END:VEVENT
BEGIN:VEVENT
DTSTAMP:20260425T021159Z
UID:f51448e9-0b13-41a0-bed4-9419c3e509d0
DTSTART:20260603T133000
DTEND:20260603T143000
DESCRIPTION:
LOCATION:Long Branch Elementary School\, 10218 North Carolina Hwy 72\, Lumb
 erton\, NC 28358\, USA
SUMMARY:2nd Semester Awards Day - Kindergarten\, 1st Grade\, ECS 1:30pm
END:VEVENT
BEGIN:VEVENT
DTSTAMP:20260425T021159Z
UID:279be93c-9693-41aa-a656-52c640296a2f
DTSTART:20260604T133000
DTEND:20260604T143000
DESCRIPTION:
LOCATION:Long Branch Elementary School\, 10218 North Carolina Hwy 72\, Lumb
 erton\, NC 28358\, USA
SUMMARY:2nd Semester Awards Day - 2nd and 3rd Grade
END:VEVENT
BEGIN:VEVENT
DTSTAMP:20260425T021159Z
UID:34ece531-68b6-4113-9ad4-59ca0e510825
DTSTART:20260608T133000
DTEND:20260608T143000
DESCRIPTION:
LOCATION:Long Branch Elementary School\, 10218 North Carolina Hwy 72\, Lumb
 erton\, NC 28358\, USA
SUMMARY:4th Grade Promotion 
END:VEVENT
BEGIN:VEVENT
DTSTAMP:20260425T021159Z
UID:4e8aab36-f2bf-4d3a-bc1f-0ffe58ba81f5
DTSTART;VALUE=DATE:20260609
DTEND;VALUE=DATE:20260610
DESCRIPTION:
LOCATION:
SUMMARY:End of 4th Nine Weeks 
END:VEVENT
BEGIN:VEVENT
DTSTAMP:20260425T021159Z
UID:fca777be-bb79-4dcc-8aaf-a70bc18f4ea3
DTSTART;VALUE=DATE:20260609
DTEND;VALUE=DATE:20260610
DESCRIPTION:
LOCATION:
SUMMARY:Last Day for Students
END:VEVENT
BEGIN:VEVENT
DTSTAMP:20260425T021159Z
UID:6bcec1f3-170b-483f-8da0-6aaa6d30a80d
DTSTART;VALUE=DATE:20260609
DTEND;VALUE=DATE:20260610
DESCRIPTION:
LOCATION:
SUMMARY:Report Cards go home
END:VEVENT
BEGIN:VEVENT
DTSTAMP:20260425T021159Z
UID:bb25e86f-431e-49d3-8a18-9218a7e13959
DTSTART;VALUE=DATE:20260610
DTEND;VALUE=DATE:20260613
DESCRIPTION:
LOCATION:
SUMMARY:Required Teacher Workdays
END:VEVENT
BEGIN:VEVENT
DTSTAMP:20260425T021159Z
UID:6d5a0edb-c7fb-45da-84b6-39af5b108cfa
DTSTART;VALUE=DATE:20260615
DTEND;VALUE=DATE:20260616
DESCRIPTION:
LOCATION:
SUMMARY:Last Day for Teachers
END:VEVENT
BEGIN:VEVENT
DTSTAMP:20260425T021159Z
UID:f49cf00f-511c-459a-8466-889139e24f27
DTSTART;VALUE=DATE:20260615
DTEND;VALUE=DATE:20260616
DESCRIPTION:
LOCATION:
SUMMARY:Required Teacher Workday
END:VEVENT
END:VCALENDAR
