BEGIN:VCALENDAR
VERSION:2.0
PRODID:icalendar-ruby
CALSCALE:GREGORIAN
BEGIN:VTIMEZONE
TZID:America/New_York
BEGIN:DAYLIGHT
DTSTART:20260308T030000
TZOFFSETFROM:-0500
TZOFFSETTO:-0400
RRULE:FREQ=YEARLY;BYDAY=2SU;BYMONTH=3
TZNAME:EDT
END:DAYLIGHT
BEGIN:STANDARD
DTSTART:20261101T010000
TZOFFSETFROM:-0400
TZOFFSETTO:-0500
RRULE:FREQ=YEARLY;BYDAY=1SU;BYMONTH=11
TZNAME:EST
END:STANDARD
END:VTIMEZONE
BEGIN:VEVENT
DTSTAMP:20260423T133411Z
UID:55466cb7-cf01-4851-9cf8-f66b82080644
DTSTART:20260420T080000
DTEND:20260424T090000
DESCRIPTION:
LOCATION:
SUMMARY:April Recess - No School
END:VEVENT
BEGIN:VEVENT
DTSTAMP:20260423T133411Z
UID:e7095258-f5b5-4fb1-9be5-8cb7eb4beb9e
DTSTART:20260427T080000
DTEND:20260501T090000
DESCRIPTION:
LOCATION:60 Paxton Rd\, Spencer\, MA 01562\, USA
SUMMARY:Spring Book Fair 
END:VEVENT
BEGIN:VEVENT
DTSTAMP:20260423T133411Z
UID:366d45d7-31ad-4f66-be2c-918a629782e1
DTSTART;VALUE=DATE:20260428
DTEND;VALUE=DATE:20260429
DESCRIPTION:
LOCATION:
SUMMARY:School Bus Driver Appreciation Day
END:VEVENT
BEGIN:VEVENT
DTSTAMP:20260423T133411Z
UID:6a847869-6d07-4951-aec9-93d50c035a0b
DTSTART;VALUE=DATE:20260501
DTEND;VALUE=DATE:20260502
DESCRIPTION:
LOCATION:
SUMMARY:School Lunch Hero Day
END:VEVENT
BEGIN:VEVENT
DTSTAMP:20260423T133411Z
UID:b37b8252-37c9-4cec-aedf-b782056685f2
DTSTART;VALUE=DATE:20260501
DTEND;VALUE=DATE:20260502
DESCRIPTION:
LOCATION:
SUMMARY:School Principal’s Day
END:VEVENT
BEGIN:VEVENT
DTSTAMP:20260423T133411Z
UID:fd55f97b-2876-40c5-a13c-7fb118c02462
DTSTART:20260504T080000
DTEND:20260508T090000
DESCRIPTION:
LOCATION:
SUMMARY:Teacher Appreciation Week
END:VEVENT
BEGIN:VEVENT
DTSTAMP:20260423T133411Z
UID:9ad45d81-9512-4d3b-ba81-2bad6c84b6b6
DTSTART;VALUE=DATE:20260506
DTEND;VALUE=DATE:20260507
DESCRIPTION:
LOCATION:
SUMMARY:MCAS - Grade 4 Math
END:VEVENT
BEGIN:VEVENT
DTSTAMP:20260423T133411Z
UID:da124c4f-2845-4fa1-827b-440adcc04ed6
DTSTART;VALUE=DATE:20260506
DTEND;VALUE=DATE:20260507
DESCRIPTION:
LOCATION:
SUMMARY:School Nurse Day
END:VEVENT
BEGIN:VEVENT
DTSTAMP:20260423T133411Z
UID:70293692-1633-4cc4-b2a0-bc3fb453c728
DTSTART;VALUE=DATE:20260507
DTEND;VALUE=DATE:20260508
DESCRIPTION:
LOCATION:
SUMMARY:MCAS - Grade 3 Math
END:VEVENT
BEGIN:VEVENT
DTSTAMP:20260423T133411Z
UID:2c995d3e-865d-4223-afcb-16af14b36cf6
DTSTART;VALUE=DATE:20260513
DTEND;VALUE=DATE:20260514
DESCRIPTION:
LOCATION:
SUMMARY:MCAS - Grade 4 Math
END:VEVENT
BEGIN:VEVENT
DTSTAMP:20260423T133411Z
UID:7b51a85f-fb0c-4325-9350-867f6c214b33
DTSTART;VALUE=DATE:20260514
DTEND;VALUE=DATE:20260515
DESCRIPTION:
LOCATION:
SUMMARY:MCAS - Grade 3 Math
END:VEVENT
BEGIN:VEVENT
DTSTAMP:20260423T133411Z
UID:b894cb41-460b-414d-8e57-d61f5b46f357
DTSTART;VALUE=DATE:20260515
DTEND;VALUE=DATE:20260516
DESCRIPTION:
LOCATION:174 Paxton St\, Leicester\, MA 01524\, USA
SUMMARY:Leicester Day Games (Special Olympics)
END:VEVENT
BEGIN:VEVENT
DTSTAMP:20260423T133411Z
UID:01953421-9287-4b6e-a0b6-385f700b1b56
DTSTART;VALUE=DATE:20260518
DTEND;VALUE=DATE:20260519
DESCRIPTION:
LOCATION:
SUMMARY:Speech Pathologist Day
END:VEVENT
BEGIN:VEVENT
DTSTAMP:20260423T133411Z
UID:48179e28-404a-4757-b425-5c0f476af6b0
DTSTART;VALUE=DATE:20260522
DTEND;VALUE=DATE:20260523
DESCRIPTION:
LOCATION:
SUMMARY:Field Trip  - Grade 2 - Ecotarium
END:VEVENT
BEGIN:VEVENT
DTSTAMP:20260423T133411Z
UID:362ce9bf-6616-49ba-a59b-b3afe8f050f9
DTSTART;VALUE=DATE:20260525
DTEND;VALUE=DATE:20260526
DESCRIPTION:
LOCATION:
SUMMARY:Memorial Day - No School
END:VEVENT
BEGIN:VEVENT
DTSTAMP:20260423T133411Z
UID:0de33b3a-0fcc-4f10-881a-927920cca1db
DTSTART;VALUE=DATE:20260527
DTEND;VALUE=DATE:20260528
DESCRIPTION:
LOCATION:
SUMMARY:Unified Olympics
END:VEVENT
BEGIN:VEVENT
DTSTAMP:20260423T133411Z
UID:76c80dfd-bd0e-4957-aee9-a6937c5bb0d3
DTSTART;VALUE=DATE:20260528
DTEND;VALUE=DATE:20260529
DESCRIPTION:<p>K-1  at 9:30</p><p>2-3 at 1:15</p><p>4 at 11:45</p>
LOCATION:
SUMMARY:Spring Concert 
END:VEVENT
BEGIN:VEVENT
DTSTAMP:20260423T133411Z
UID:f907d109-8037-4b9c-87f3-9cf8880e2aa8
DTSTART;VALUE=DATE:20260529
DTEND;VALUE=DATE:20260530
DESCRIPTION:
LOCATION:
SUMMARY:Field Day
END:VEVENT
BEGIN:VEVENT
DTSTAMP:20260423T133411Z
UID:71516b5c-67c2-43fe-bb5b-369f3a773810
DTSTART;VALUE=DATE:20260602
DTEND;VALUE=DATE:20260603
DESCRIPTION:
LOCATION:
SUMMARY:Unified Olympics (Rain Date)
END:VEVENT
BEGIN:VEVENT
DTSTAMP:20260423T133411Z
UID:ce70253d-3261-46b3-9b95-a114de900fa9
DTSTART;VALUE=DATE:20260603
DTEND;VALUE=DATE:20260604
DESCRIPTION:
LOCATION:
SUMMARY:Field Trip  - Grade 3 - Southwick Zoo
END:VEVENT
BEGIN:VEVENT
DTSTAMP:20260423T133411Z
UID:1aa12920-bc2b-4236-872a-3158b7cc63f5
DTSTART;VALUE=DATE:20260604
DTEND;VALUE=DATE:20260605
DESCRIPTION:
LOCATION:
SUMMARY:Field Trip  - Kindergarten - Davis Farmland
END:VEVENT
BEGIN:VEVENT
DTSTAMP:20260423T133411Z
UID:1d446aea-f0e4-4d19-a575-4cc74725c4ce
DTSTART;VALUE=DATE:20260605
DTEND;VALUE=DATE:20260606
DESCRIPTION:
LOCATION:
SUMMARY:Field Day - Rain Date
END:VEVENT
BEGIN:VEVENT
DTSTAMP:20260423T133411Z
UID:77c5f5fd-fa0e-4c50-8e59-b2f6563a46d5
DTSTART;VALUE=DATE:20260608
DTEND;VALUE=DATE:20260609
DESCRIPTION:
LOCATION:
SUMMARY:Field Trip  - Grade 1 - Holyke Children's Museum
END:VEVENT
BEGIN:VEVENT
DTSTAMP:20260423T133411Z
UID:b340cbb4-f359-433e-b43f-0cdc5f8c87c3
DTSTART;VALUE=DATE:20260610
DTEND;VALUE=DATE:20260611
DESCRIPTION:
LOCATION:
SUMMARY:Field Trip  - Grade 4 - Norcross Wildlife
END:VEVENT
BEGIN:VEVENT
DTSTAMP:20260423T133411Z
UID:80241142-760d-40db-95cc-b872865bf2d8
DTSTART;VALUE=DATE:20260611
DTEND;VALUE=DATE:20260612
DESCRIPTION:
LOCATION:
SUMMARY:Field Trip  - Grade 4 - Norcross Wildlife
END:VEVENT
BEGIN:VEVENT
DTSTAMP:20260423T133411Z
UID:c7809be3-6e8f-4e8c-8af7-6959f410d226
DTSTART;VALUE=DATE:20260612
DTEND;VALUE=DATE:20260613
DESCRIPTION:
LOCATION:
SUMMARY:Fourth Grade Fun Day
END:VEVENT
BEGIN:VEVENT
DTSTAMP:20260423T133411Z
UID:d598ae7c-272a-417f-8505-7e77748669ce
DTSTART;VALUE=DATE:20260617
DTEND;VALUE=DATE:20260618
DESCRIPTION:<p></p>
LOCATION:
SUMMARY:Fourth Grade Promotion Ceremony
END:VEVENT
BEGIN:VEVENT
DTSTAMP:20260423T133411Z
UID:993dfa62-6d0a-49f6-a929-bf1872f52e82
DTSTART:20260618T083000
DTEND:20260618T114500
DESCRIPTION:
LOCATION:60 Paxton Rd\, Spencer\, MA 01562\, USA
SUMMARY:Anticipated Last Day - Half Day 
END:VEVENT
BEGIN:VEVENT
DTSTAMP:20260423T133411Z
UID:08b921c8-d454-42e2-ae11-f9253950fcc2
DTSTART:20260619T080000
DTEND:20260619T090000
DESCRIPTION:
LOCATION:
SUMMARY:Juneteenth - No School
END:VEVENT
BEGIN:VEVENT
DTSTAMP:20260423T133411Z
UID:a877df72-aa3e-42f1-ad70-8dbd9c62f552
DTSTART:20260831T080000
DTEND:20260831T090000
DESCRIPTION:
LOCATION:
SUMMARY:First Day of School for Teachers  - Convocation
END:VEVENT
BEGIN:VEVENT
DTSTAMP:20260423T133411Z
UID:856fba18-0766-4b4a-92ed-906393799489
DTSTART;VALUE=DATE:20260901
DTEND;VALUE=DATE:20260902
DESCRIPTION:
LOCATION:
SUMMARY:First Day of School for Students (Grade 1-4)
END:VEVENT
BEGIN:VEVENT
DTSTAMP:20260423T133411Z
UID:9267168c-874c-4ddd-a803-06710c8cb9b5
DTSTART;VALUE=DATE:20260904
DTEND;VALUE=DATE:20260905
DESCRIPTION:
LOCATION:
SUMMARY:No School 
END:VEVENT
BEGIN:VEVENT
DTSTAMP:20260423T133411Z
UID:6e85ad90-ab3d-4054-9e29-66b5e958a1de
DTSTART;VALUE=DATE:20260907
DTEND;VALUE=DATE:20260908
DESCRIPTION:
LOCATION:
SUMMARY:No School - Labor Day
END:VEVENT
BEGIN:VEVENT
DTSTAMP:20260423T133411Z
UID:6e2b02b2-311f-4dd5-ba12-4943cab27436
DTSTART;VALUE=DATE:20260908
DTEND;VALUE=DATE:20260909
DESCRIPTION:
LOCATION:
SUMMARY:First Day of Kindergarten
END:VEVENT
BEGIN:VEVENT
DTSTAMP:20260423T133411Z
UID:5d15d2c8-ab3e-44b4-b429-941bf7835e71
DTSTART;VALUE=DATE:20261009
DTEND;VALUE=DATE:20261010
DESCRIPTION:
LOCATION:
SUMMARY:Full Day PD - No School
END:VEVENT
BEGIN:VEVENT
DTSTAMP:20260423T133411Z
UID:c2848733-4861-4152-8eec-47e43c4c1acf
DTSTART;VALUE=DATE:20261012
DTEND;VALUE=DATE:20261013
DESCRIPTION:
LOCATION:
SUMMARY:Columbus Day - No School
END:VEVENT
BEGIN:VEVENT
DTSTAMP:20260423T133411Z
UID:6802973a-80c5-46be-add8-f4a1db65f3c9
DTSTART;VALUE=DATE:20261111
DTEND;VALUE=DATE:20261112
DESCRIPTION:
LOCATION:
SUMMARY:Veterans Day - No School
END:VEVENT
BEGIN:VEVENT
DTSTAMP:20260423T133411Z
UID:444490b1-bedd-445d-ae86-caa85ef9bf11
DTSTART:20261125T083000
DTEND:20261125T114500
DESCRIPTION:
LOCATION:
SUMMARY:Thanksgiving Recess - Half Day
END:VEVENT
BEGIN:VEVENT
DTSTAMP:20260423T133411Z
UID:e782556e-6a73-4ba2-b07a-aab8f890d976
DTSTART;VALUE=DATE:20261126
DTEND;VALUE=DATE:20261127
DESCRIPTION:
LOCATION:
SUMMARY:Thanksgiving Day - No School
END:VEVENT
BEGIN:VEVENT
DTSTAMP:20260423T133411Z
UID:422b82e5-5904-4085-beeb-269734dc273c
DTSTART;VALUE=DATE:20261127
DTEND;VALUE=DATE:20261128
DESCRIPTION:
LOCATION:
SUMMARY:Thanksgiving Recess - No School 
END:VEVENT
BEGIN:VEVENT
DTSTAMP:20260423T133411Z
UID:c21189a7-17f7-41bc-8dd1-3b8f7b6ddb22
DTSTART:20261211T083000
DTEND:20261211T114500
DESCRIPTION:
LOCATION:
SUMMARY:Half Day  PD 
END:VEVENT
BEGIN:VEVENT
DTSTAMP:20260423T133411Z
UID:b8ec8219-7115-4d9a-a768-734d5b8543d4
DTSTART:20261224T080000
DTEND:20270101T090000
DESCRIPTION:
LOCATION:
SUMMARY:Winter Recess - No School
END:VEVENT
BEGIN:VEVENT
DTSTAMP:20260423T133411Z
UID:04b11145-a20d-4642-b6ae-f0461198df13
DTSTART;VALUE=DATE:20270118
DTEND;VALUE=DATE:20270119
DESCRIPTION:
LOCATION:
SUMMARY:Martin Luther Kind Jr. Day - No School
END:VEVENT
BEGIN:VEVENT
DTSTAMP:20260423T133411Z
UID:1410e4fd-5899-4834-b66a-27d824c8a75b
DTSTART;VALUE=DATE:20270128
DTEND;VALUE=DATE:20270129
DESCRIPTION:
LOCATION:
SUMMARY:Full Day PD - No School
END:VEVENT
BEGIN:VEVENT
DTSTAMP:20260423T133411Z
UID:e1bafc85-845d-4309-a010-6f93fe416d6f
DTSTART:20270215T080000
DTEND:20270219T090000
DESCRIPTION:
LOCATION:
SUMMARY:February Recess - No School
END:VEVENT
BEGIN:VEVENT
DTSTAMP:20260423T133411Z
UID:9b7545d7-993f-4ca0-8b51-729dc93f2f75
DTSTART:20270312T083000
DTEND:20270312T114500
DESCRIPTION:
LOCATION:
SUMMARY:Half Day  PD 
END:VEVENT
BEGIN:VEVENT
DTSTAMP:20260423T133411Z
UID:7e899c20-34df-4ce5-a354-135d69f953db
DTSTART;VALUE=DATE:20270326
DTEND;VALUE=DATE:20270327
DESCRIPTION:
LOCATION:
SUMMARY:Good Friday - No School
END:VEVENT
BEGIN:VEVENT
DTSTAMP:20260423T133411Z
UID:2f7cf6a9-6350-4ff1-b6cc-a93504573476
DTSTART:20270419T080000
DTEND:20270423T090000
DESCRIPTION:
LOCATION:
SUMMARY:April Recess - No School
END:VEVENT
BEGIN:VEVENT
DTSTAMP:20260423T133411Z
UID:0a186542-65eb-4ba7-b017-d51fa7ad045e
DTSTART:20270512T083000
DTEND:20270512T114500
DESCRIPTION:
LOCATION:
SUMMARY:Half Day  PD 
END:VEVENT
BEGIN:VEVENT
DTSTAMP:20260423T133411Z
UID:3af9e916-43bb-420d-bda3-a9518082b99b
DTSTART;VALUE=DATE:20270531
DTEND;VALUE=DATE:20270601
DESCRIPTION:
LOCATION:
SUMMARY:Memorial Day - No School
END:VEVENT
BEGIN:VEVENT
DTSTAMP:20260423T133411Z
UID:f4758069-aace-4f7b-9a65-0a4b1f875318
DTSTART:20270610T083000
DTEND:20270610T114500
DESCRIPTION:
LOCATION:
SUMMARY:Anticipated Last Day - Half Day
END:VEVENT
END:VCALENDAR
