BEGIN:VCALENDAR
VERSION:2.0
PRODID:icalendar-ruby
CALSCALE:GREGORIAN
BEGIN:VTIMEZONE
TZID:America/New_York
BEGIN:DAYLIGHT
DTSTART:20260308T030000
TZOFFSETFROM:-0500
TZOFFSETTO:-0400
RRULE:FREQ=YEARLY;BYDAY=2SU;BYMONTH=3
TZNAME:EDT
END:DAYLIGHT
BEGIN:STANDARD
DTSTART:20261101T010000
TZOFFSETFROM:-0400
TZOFFSETTO:-0500
RRULE:FREQ=YEARLY;BYDAY=1SU;BYMONTH=11
TZNAME:EST
END:STANDARD
END:VTIMEZONE
BEGIN:VEVENT
DTSTAMP:20260423T050511Z
UID:405f81f0-619b-4f79-9528-6b8931942afd
DTSTART;VALUE=DATE:20260424
DTEND;VALUE=DATE:20260425
DESCRIPTION:
LOCATION:
SUMMARY:Early Evacuation Drill (PreK - 12) / Dismissal at 2:30 p.m.
END:VEVENT
BEGIN:VEVENT
DTSTAMP:20260423T050511Z
UID:5d78e697-393f-4118-a6f0-026068f6d2de
DTSTART:20260424T080000
DTEND:20260424T090000
DESCRIPTION:
LOCATION:High School\, Room 313
SUMMARY:Athletic Committee Meeting
END:VEVENT
BEGIN:VEVENT
DTSTAMP:20260423T050511Z
UID:fedc01ba-8e9d-4c99-a614-fbf410decec4
DTSTART:20260424T143000
DTEND:20260424T153000
DESCRIPTION:
LOCATION:
SUMMARY:Early Evacuation Drill - Dismissal
END:VEVENT
BEGIN:VEVENT
DTSTAMP:20260423T050511Z
UID:4c6f32ad-db78-4f20-b19f-3d5506d08c48
DTSTART:20260430T190000
DTEND:20260430T200000
DESCRIPTION:
LOCATION:
SUMMARY:HS Spring Concert - HS Auditorium
END:VEVENT
BEGIN:VEVENT
DTSTAMP:20260423T050511Z
UID:2f14a461-a705-4f8d-8a3d-58c03021ba00
DTSTART;VALUE=DATE:20260501
DTEND;VALUE=DATE:20260502
DESCRIPTION:
LOCATION:
SUMMARY:NYSSMA Solo Festival
END:VEVENT
BEGIN:VEVENT
DTSTAMP:20260423T050511Z
UID:7e679ee6-17fd-4c97-b1d6-2488e15cc208
DTSTART;VALUE=DATE:20260502
DTEND;VALUE=DATE:20260503
DESCRIPTION:
LOCATION:
SUMMARY:NYSSMA Solo Festival
END:VEVENT
BEGIN:VEVENT
DTSTAMP:20260423T050511Z
UID:217d6628-feb6-4b32-94a4-59d50df0067c
DTSTART:20260505T170000
DTEND:20260505T173000
DESCRIPTION:
LOCATION:High School\, Room 313
SUMMARY:CSE/CPSE Committee Meeting
END:VEVENT
BEGIN:VEVENT
DTSTAMP:20260423T050511Z
UID:4b3c115e-530c-45af-aac7-215afab28a6d
DTSTART:20260505T173000
DTEND:20260505T210000
DESCRIPTION:<p><strong>Register in advance for this meeting</strong><span>:
  </span><a target="_blank" rel="noopener noreferrer nofollow" href="https:
 //zoom.us/meeting/register/7_FJjtWCRo6FQf9xV9ZgvQ">https://zoom.us/meeting
 /register/7_FJjtWCRo6FQf9xV9ZgvQ</a></p>
LOCATION:High School Library
SUMMARY:Board of Education Meeting
END:VEVENT
BEGIN:VEVENT
DTSTAMP:20260423T050511Z
UID:623b42db-a683-41e4-bfc3-170d4854e541
DTSTART:20260514T190000
DTEND:20260514T201500
DESCRIPTION:
LOCATION:
SUMMARY:5/6 Band and Chorus Spring Concert - 7pm\,  HS Auditorium
END:VEVENT
BEGIN:VEVENT
DTSTAMP:20260423T050511Z
UID:7aa327e0-3445-4ba8-9cf1-604ca1394ed9
DTSTART;VALUE=DATE:20260515
DTEND;VALUE=DATE:20260516
DESCRIPTION:
LOCATION:
SUMMARY:Asynchronous Learning Day (PreK - 12) / Scoring Day
END:VEVENT
BEGIN:VEVENT
DTSTAMP:20260423T050511Z
UID:61c876c7-bc7e-4096-b4f8-a933bc107e42
DTSTART;VALUE=DATE:20260515
DTEND;VALUE=DATE:20260516
DESCRIPTION:
LOCATION:
SUMMARY:Asynchronous Learning Day/Scoring Day
END:VEVENT
BEGIN:VEVENT
DTSTAMP:20260423T050511Z
UID:6cd126fa-86f9-4287-b21f-9d5d1da9c4cb
DTSTART:20260518T161500
DTEND:20260518T171500
DESCRIPTION:
LOCATION:High School\, Room 313
SUMMARY:Policy Committee Meeting
END:VEVENT
BEGIN:VEVENT
DTSTAMP:20260423T050511Z
UID:d3b1f814-27c0-41a2-b8b3-c0fada9fcae9
DTSTART:20260519T080000
DTEND:20260519T090000
DESCRIPTION:
LOCATION:Information Technology Building
SUMMARY:Information Technology Committee Meeting
END:VEVENT
BEGIN:VEVENT
DTSTAMP:20260423T050511Z
UID:1df1f90c-0126-4448-8d84-b26657068594
DTSTART:20260520T080000
DTEND:20260520T084500
DESCRIPTION:
LOCATION:High School\, Room 313
SUMMARY:Facilities Committee Meeting
END:VEVENT
BEGIN:VEVENT
DTSTAMP:20260423T050511Z
UID:65209a6c-97a1-470c-9d60-e9bf0b3107b1
DTSTART:20260520T084500
DTEND:20260520T093000
DESCRIPTION:
LOCATION:High School\, Room 313
SUMMARY:Transportation Committee Meeting
END:VEVENT
BEGIN:VEVENT
DTSTAMP:20260423T050511Z
UID:4ccdc835-328a-4012-9aaa-802e7df6f3a3
DTSTART:20260520T130000
DTEND:20260520T140000
DESCRIPTION:
LOCATION:High School\, Room 313
SUMMARY:Food Service Committee Meeting
END:VEVENT
BEGIN:VEVENT
DTSTAMP:20260423T050511Z
UID:c1db5964-a31a-420e-9583-5a790a4c63b8
DTSTART;VALUE=DATE:20260525
DTEND;VALUE=DATE:20260526
DESCRIPTION:
LOCATION:
SUMMARY:District/Campus Closed
END:VEVENT
BEGIN:VEVENT
DTSTAMP:20260423T050511Z
UID:d72e3f43-d47b-4770-93f6-1ac673d9f83e
DTSTART;VALUE=DATE:20260525
DTEND;VALUE=DATE:20260526
DESCRIPTION:
LOCATION:
SUMMARY:Memorial Day - No School
END:VEVENT
BEGIN:VEVENT
DTSTAMP:20260423T050511Z
UID:6368b452-3108-4777-9be9-1db7295c83c6
DTSTART;VALUE=DATE:20260525
DTEND;VALUE=DATE:20260526
DESCRIPTION:
LOCATION:
SUMMARY:Memorial Day Parade - Tburg
END:VEVENT
BEGIN:VEVENT
DTSTAMP:20260423T050511Z
UID:727e9f4b-6d3f-4da2-bafc-dfb5452afa99
DTSTART:20260527T190000
DTEND:20260527T203000
DESCRIPTION:
LOCATION:
SUMMARY:7/8 Band and Chorus Spring Concert - 7 pm\, HS Auditorium
END:VEVENT
BEGIN:VEVENT
DTSTAMP:20260423T050511Z
UID:28af5188-44f6-4b40-90ae-68df952ca175
DTSTART:20260529T080000
DTEND:20260529T090000
DESCRIPTION:
LOCATION:High School\, Room 313
SUMMARY:Athletic Committee Meeting
END:VEVENT
BEGIN:VEVENT
DTSTAMP:20260423T050511Z
UID:ffe6d94d-507c-4854-89a3-5d85a7dd9fd0
DTSTART:20260603T190000
DTEND:20260603T200000
DESCRIPTION:
LOCATION:
SUMMARY:3rd & 4th Chorus Concert - ES Auditorium
END:VEVENT
BEGIN:VEVENT
DTSTAMP:20260423T050511Z
UID:37dc34de-7c4a-4a03-b224-9106f6a7dd38
DTSTART:20260604T180000
DTEND:20260604T200000
DESCRIPTION:
LOCATION:
SUMMARY:HS Senior Awards (HS Auditorium)
END:VEVENT
BEGIN:VEVENT
DTSTAMP:20260423T050511Z
UID:8afa0c11-ff8f-498f-873b-f95c68e112f6
DTSTART;VALUE=DATE:20260606
DTEND;VALUE=DATE:20260607
DESCRIPTION:
LOCATION:
SUMMARY:TBURG Porchfest (Modern Bands)
END:VEVENT
BEGIN:VEVENT
DTSTAMP:20260423T050511Z
UID:210c7961-15df-4694-aa2a-0c8840b17dcf
DTSTART:20260608T190000
DTEND:20260608T200000
DESCRIPTION:
LOCATION:
SUMMARY:HS Recital - HS Auditorium
END:VEVENT
BEGIN:VEVENT
DTSTAMP:20260423T050511Z
UID:bd64353c-3e33-436d-864f-6a6593034b67
DTSTART:20260609T190000
DTEND:20260609T200000
DESCRIPTION:
LOCATION:
SUMMARY:HS Jazz Concert - HS Auditorium
END:VEVENT
BEGIN:VEVENT
DTSTAMP:20260423T050511Z
UID:8818e012-c038-44bd-844b-124716332ac2
DTSTART;VALUE=DATE:20260610
DTEND;VALUE=DATE:20260613
DESCRIPTION:
LOCATION:
SUMMARY:8th Grade Washington DC Trip
END:VEVENT
BEGIN:VEVENT
DTSTAMP:20260423T050511Z
UID:8dfa8298-fd22-470e-a77e-a9559a3004ee
DTSTART:20260616T173000
DTEND:20260616T210000
DESCRIPTION:<p><strong>Register in advance for this meeting</strong><span>:
  </span><a target="_blank" rel="noopener noreferrer nofollow" href="https:
 //zoom.us/meeting/register/yezLKyruT7C_dYy6HnS1vw">https://zoom.us/meeting
 /register/yezLKyruT7C_dYy6HnS1vw</a></p>
LOCATION:High School Library
SUMMARY:Board of Education Meeting
END:VEVENT
BEGIN:VEVENT
DTSTAMP:20260423T050511Z
UID:9842b1d1-0764-40d6-bcdb-8deb4a6dac09
DTSTART:20260617T180000
DTEND:20260617T200000
DESCRIPTION:
LOCATION:
SUMMARY:Spring Sports Awards (HS Stadium)
END:VEVENT
BEGIN:VEVENT
DTSTAMP:20260423T050511Z
UID:34abef5b-c0ac-4563-b473-2632b61e099f
DTSTART;VALUE=DATE:20260619
DTEND;VALUE=DATE:20260620
DESCRIPTION:
LOCATION:
SUMMARY:District/Campus Closed
END:VEVENT
BEGIN:VEVENT
DTSTAMP:20260423T050511Z
UID:d1a3441f-8f64-44fd-8c35-e525833d4238
DTSTART;VALUE=DATE:20260624
DTEND;VALUE=DATE:20260626
DESCRIPTION:
LOCATION:
SUMMARY:Early Dismissal (11:30 a.m.) for PreK - Gr 8
END:VEVENT
BEGIN:VEVENT
DTSTAMP:20260423T050511Z
UID:1f8a0354-d55f-4063-ba5d-74c83061c0e9
DTSTART:20260625T190000
DTEND:20260625T210000
DESCRIPTION:
LOCATION:
SUMMARY:Graduation
END:VEVENT
BEGIN:VEVENT
DTSTAMP:20260423T050511Z
UID:c4db0824-3a78-4652-a54e-78fca6b126b8
DTSTART;VALUE=DATE:20260702
DTEND;VALUE=DATE:20260704
DESCRIPTION:
LOCATION:CAMPUS CLOSED
SUMMARY:DISTRICT CLOSED
END:VEVENT
BEGIN:VEVENT
DTSTAMP:20260423T050511Z
UID:bbf763aa-a1c6-4ce6-b464-7ca8ef9840ce
DTSTART:20260727T173000
DTEND:20260727T210000
DESCRIPTION:
LOCATION:High School Library
SUMMARY:Board of Education Meeting
END:VEVENT
BEGIN:VEVENT
DTSTAMP:20260423T050511Z
UID:d05bc1f5-4a66-439c-8015-86f595517d53
DTSTART:20260818T173000
DTEND:20260818T210000
DESCRIPTION:
LOCATION:High School Library
SUMMARY:Board of Education Meeting
END:VEVENT
BEGIN:VEVENT
DTSTAMP:20260423T050511Z
UID:81895b7f-839a-445e-a378-8be7528a1d89
DTSTART:20260915T173000
DTEND:20260915T210000
DESCRIPTION:
LOCATION:High School Library
SUMMARY:Board of Education Meeting
END:VEVENT
BEGIN:VEVENT
DTSTAMP:20260423T050511Z
UID:0433bbb3-06d2-462c-8a89-22486c4b6e5f
DTSTART:20261006T173000
DTEND:20261006T210000
DESCRIPTION:
LOCATION:High School Library
SUMMARY:Board of Education Meeting
END:VEVENT
BEGIN:VEVENT
DTSTAMP:20260423T050511Z
UID:e7a19071-41c7-46e1-955a-094900e45070
DTSTART;VALUE=DATE:20261012
DTEND;VALUE=DATE:20261013
DESCRIPTION:
LOCATION:CAMPUS CLOSED
SUMMARY:DISTRICT CLOSED
END:VEVENT
BEGIN:VEVENT
DTSTAMP:20260423T050511Z
UID:6806231c-db34-4409-930c-bc76b8a73644
DTSTART;VALUE=DATE:20261023
DTEND;VALUE=DATE:20261024
DESCRIPTION:
LOCATION:
SUMMARY:CONFERENCE DAY / NO STUDENTS
END:VEVENT
BEGIN:VEVENT
DTSTAMP:20260423T050511Z
UID:158dbfa5-4329-410f-b1bb-138684411575
DTSTART:20261110T173000
DTEND:20261110T210000
DESCRIPTION:
LOCATION:High School Library
SUMMARY:Board of Education Meeting
END:VEVENT
BEGIN:VEVENT
DTSTAMP:20260423T050511Z
UID:f5a87002-d47b-418c-8ce9-af274db98691
DTSTART;VALUE=DATE:20261111
DTEND;VALUE=DATE:20261112
DESCRIPTION:
LOCATION:CAMPUS CLOSED
SUMMARY:DISTRICT CLOSED
END:VEVENT
BEGIN:VEVENT
DTSTAMP:20260423T050511Z
UID:f965686b-5f9c-4d1d-ba06-b17a2138e4de
DTSTART;VALUE=DATE:20261123
DTEND;VALUE=DATE:20261125
DESCRIPTION:11/23/26 - Family Conference Day (PreK-12)\n11/24/26 - Family C
 onference Day (ES Only)
LOCATION:
SUMMARY:Virtual Learning Day
END:VEVENT
BEGIN:VEVENT
DTSTAMP:20260423T050511Z
UID:0b84f4d3-deda-4545-9b28-3a598e428944
DTSTART;VALUE=DATE:20261125
DTEND;VALUE=DATE:20261130
DESCRIPTION:
LOCATION:CAMPUS CLOSED
SUMMARY:DISTRICT CLOSED
END:VEVENT
BEGIN:VEVENT
DTSTAMP:20260423T050511Z
UID:b302e35d-8a9e-420b-a015-e19bf9895b8d
DTSTART;VALUE=DATE:20261223
DTEND;VALUE=DATE:20270104
DESCRIPTION:
LOCATION:CAMPUS CLOSED
SUMMARY:DISTRICT CLOSED
END:VEVENT
BEGIN:VEVENT
DTSTAMP:20260423T050511Z
UID:8b0df632-5ad1-4fc8-8976-bb0ae04f8cb9
DTSTART:20270112T173000
DTEND:20270112T210000
DESCRIPTION:
LOCATION:High School Library
SUMMARY:Board of Education Meeting
END:VEVENT
BEGIN:VEVENT
DTSTAMP:20260423T050511Z
UID:e119d8d8-5982-4409-86d2-757f6d41df1d
DTSTART;VALUE=DATE:20270115
DTEND;VALUE=DATE:20270116
DESCRIPTION:
LOCATION:
SUMMARY:EARLY DISMISSAL (PreK - 12) at 11:30 a.m.
END:VEVENT
BEGIN:VEVENT
DTSTAMP:20260423T050511Z
UID:6b987f66-b7c6-4007-8369-cfeb9260215d
DTSTART;VALUE=DATE:20270126
DTEND;VALUE=DATE:20270127
DESCRIPTION:
LOCATION:
SUMMARY:NO SCHOOL (Gr 9 - 12) / REGENTS EXAMS
END:VEVENT
BEGIN:VEVENT
DTSTAMP:20260423T050512Z
UID:edd0c3b7-dd25-4f40-8038-0dd7b152ff04
DTSTART;VALUE=DATE:20270129
DTEND;VALUE=DATE:20270130
DESCRIPTION:
LOCATION:
SUMMARY:EARLY DISMISSAL (Gr 9 - 12) at 11:30 a.m. / SCORING
END:VEVENT
BEGIN:VEVENT
DTSTAMP:20260423T050512Z
UID:e206fad7-3bd6-4566-b697-7a338e410e09
DTSTART:20270209T173000
DTEND:20270209T210000
DESCRIPTION:
LOCATION:High School Library
SUMMARY:Board of Education Meeting
END:VEVENT
BEGIN:VEVENT
DTSTAMP:20260423T050512Z
UID:2314e77b-bba2-45ab-8ef0-b91adfefd896
DTSTART;VALUE=DATE:20270215
DTEND;VALUE=DATE:20270217
DESCRIPTION:
LOCATION:CAMPUS CLOSED
SUMMARY:DISTRICT CLOSED
END:VEVENT
BEGIN:VEVENT
DTSTAMP:20260423T050512Z
UID:f41c6b9b-4313-44da-a8e2-f1656b778acc
DTSTART;VALUE=DATE:20270217
DTEND;VALUE=DATE:20270220
DESCRIPTION:
LOCATION:
SUMMARY:NO SCHOOL / STUDENTS DO NOT REPORT
END:VEVENT
BEGIN:VEVENT
DTSTAMP:20260423T050512Z
UID:ca216bea-6e1e-4cea-a154-5bffdf702f6b
DTSTART:20270309T173000
DTEND:20270309T210000
DESCRIPTION:
LOCATION:High School Library
SUMMARY:Board of Education Meeting
END:VEVENT
BEGIN:VEVENT
DTSTAMP:20260423T050512Z
UID:d81fd262-2950-46b5-a268-0403ed1f1529
DTSTART;VALUE=DATE:20270318
DTEND;VALUE=DATE:20270319
DESCRIPTION:
LOCATION:
SUMMARY:EARLY DISMISSAL (PreK - 12) at 11:30 a.m.
END:VEVENT
BEGIN:VEVENT
DTSTAMP:20260423T050512Z
UID:f152b361-eca1-4e68-842c-0a4879315608
DTSTART;VALUE=DATE:20270319
DTEND;VALUE=DATE:20270320
DESCRIPTION:
LOCATION:
SUMMARY:CONFERENCE DAY / NO STUDENTS
END:VEVENT
BEGIN:VEVENT
DTSTAMP:20260423T050512Z
UID:6250ac3b-0911-49fe-9b0c-bfcdb5135048
DTSTART:20270323T173000
DTEND:20270323T210000
DESCRIPTION:
LOCATION:High School Library
SUMMARY:Board of Education Meeting
END:VEVENT
BEGIN:VEVENT
DTSTAMP:20260423T050512Z
UID:82d83618-ab85-4bbb-827e-1e3c60a2b325
DTSTART;VALUE=DATE:20270405
DTEND;VALUE=DATE:20270406
DESCRIPTION:
LOCATION:CAMPUS CLOSED
SUMMARY:DISTRICT CLOSED
END:VEVENT
BEGIN:VEVENT
DTSTAMP:20260423T050512Z
UID:8313e875-ca3c-485e-bb37-1a3c1c95b4e6
DTSTART;VALUE=DATE:20270406
DTEND;VALUE=DATE:20270410
DESCRIPTION:
LOCATION:
SUMMARY:NO SCHOOL / STUDENTS DO NOT REPORT
END:VEVENT
BEGIN:VEVENT
DTSTAMP:20260423T050512Z
UID:90231068-04c5-4cf4-835e-83e0a6c3dc58
DTSTART:20270420T173000
DTEND:20270420T210000
DESCRIPTION:
LOCATION:High School Library
SUMMARY:Board of Education Meeting
END:VEVENT
BEGIN:VEVENT
DTSTAMP:20260423T050512Z
UID:52863cba-bcb4-4d99-9248-bd97b0893cfa
DTSTART;VALUE=DATE:20270423
DTEND;VALUE=DATE:20270424
DESCRIPTION:
LOCATION:
SUMMARY:EARLY EVACUATION DRILL (PreK - Gr 12) / 2:30 PM DISMISSAL
END:VEVENT
BEGIN:VEVENT
DTSTAMP:20260423T050512Z
UID:adb96573-d72b-4839-95f3-085431dab7db
DTSTART:20270504T173000
DTEND:20270504T210000
DESCRIPTION:
LOCATION:High School Library
SUMMARY:Board of Education Meeting / Annual Budget Hearing
END:VEVENT
BEGIN:VEVENT
DTSTAMP:20260423T050512Z
UID:585d0a53-6e3f-40a4-a80f-96266fa0c1a2
DTSTART;VALUE=DATE:20270520
DTEND;VALUE=DATE:20270521
DESCRIPTION:
LOCATION:
SUMMARY:EARLY DISMISSAL (PreK - 12) at 11:30 a.m.
END:VEVENT
BEGIN:VEVENT
DTSTAMP:20260423T050512Z
UID:e999401a-393c-4cad-9e4f-cdbad4410bb2
DTSTART;VALUE=DATE:20270521
DTEND;VALUE=DATE:20270522
DESCRIPTION:
LOCATION:
SUMMARY:VIRTUAL LEARNING DAY
END:VEVENT
BEGIN:VEVENT
DTSTAMP:20260423T050512Z
UID:3982579a-7194-40a0-be5b-9a95fb7aad84
DTSTART;VALUE=DATE:20270531
DTEND;VALUE=DATE:20270601
DESCRIPTION:
LOCATION:CAMPUS CLOSED
SUMMARY:DISTRICT CLOSED
END:VEVENT
BEGIN:VEVENT
DTSTAMP:20260423T050512Z
UID:33bad8a6-b55e-4e96-a99d-9845885ee201
DTSTART:20270608T173000
DTEND:20270608T210000
DESCRIPTION:
LOCATION:High School Library
SUMMARY:Board of Education Meeting
END:VEVENT
BEGIN:VEVENT
DTSTAMP:20260423T050512Z
UID:61bc6442-8d9b-4478-9f39-cc49af215c9d
DTSTART;VALUE=DATE:20270615
DTEND;VALUE=DATE:20270625
DESCRIPTION:
LOCATION:
SUMMARY:NO SCHOOL (Gr 9-12) / REGENTS EXAMS
END:VEVENT
BEGIN:VEVENT
DTSTAMP:20260423T050512Z
UID:cfa77cd1-d8e9-4672-9e30-c81740b514a4
DTSTART;VALUE=DATE:20270618
DTEND;VALUE=DATE:20270619
DESCRIPTION:
LOCATION:CAMPUS CLOSED
SUMMARY:DISTRICT CLOSED
END:VEVENT
BEGIN:VEVENT
DTSTAMP:20260423T050512Z
UID:38557fd8-d7f5-43ba-903e-8e267011a585
DTSTART;VALUE=DATE:20270623
DTEND;VALUE=DATE:20270625
DESCRIPTION:
LOCATION:
SUMMARY:EARLY DISMISSAL (PreK - 12) at 11:30 a.m.
END:VEVENT
BEGIN:VEVENT
DTSTAMP:20260423T050512Z
UID:0766f401-ba9a-416b-95c1-3018a6b1f585
DTSTART;VALUE=DATE:20270624
DTEND;VALUE=DATE:20270625
DESCRIPTION:
LOCATION:
SUMMARY:Last Day of School!
END:VEVENT
END:VCALENDAR
