BEGIN:VCALENDAR
VERSION:2.0
PRODID:icalendar-ruby
CALSCALE:GREGORIAN
BEGIN:VTIMEZONE
TZID:America/Los_Angeles
BEGIN:DAYLIGHT
DTSTART:20260308T030000
TZOFFSETFROM:-0800
TZOFFSETTO:-0700
RRULE:FREQ=YEARLY;BYDAY=2SU;BYMONTH=3
TZNAME:PDT
END:DAYLIGHT
BEGIN:STANDARD
DTSTART:20261101T010000
TZOFFSETFROM:-0700
TZOFFSETTO:-0800
RRULE:FREQ=YEARLY;BYDAY=1SU;BYMONTH=11
TZNAME:PST
END:STANDARD
END:VTIMEZONE
BEGIN:VEVENT
DTSTAMP:20260420T025715Z
UID:161a95d3-aaf1-4f6b-93aa-75206f355891
DTSTART:20260421T060000
DTEND:20260421T213000
DESCRIPTION:
LOCATION:
SUMMARY:Engineering Disneyland Trip 
END:VEVENT
BEGIN:VEVENT
DTSTAMP:20260420T025715Z
UID:5aee38a0-5dae-43e0-a8b5-676596f64f99
DTSTART:20260422T083000
DTEND:20260422T083000
DESCRIPTION:
LOCATION:
SUMMARY:LATE START MORNING
END:VEVENT
BEGIN:VEVENT
DTSTAMP:20260420T025715Z
UID:b8d3f049-744e-413e-bd1a-696e5e02c1b1
DTSTART;VALUE=DATE:20260429
DTEND;VALUE=DATE:20260430
DESCRIPTION:
LOCATION:
SUMMARY:Dress Up as a Teacher Day
END:VEVENT
BEGIN:VEVENT
DTSTAMP:20260420T025715Z
UID:90317e59-728e-4d85-83db-71dc4c49d975
DTSTART:20260430T090000
DTEND:20260430T140000
DESCRIPTION:
LOCATION:
SUMMARY:Sea World Trip Workabilty
END:VEVENT
BEGIN:VEVENT
DTSTAMP:20260420T025715Z
UID:702a0716-1997-4e7c-b1ce-fd8174c857ae
DTSTART:20260529T090000
DTEND:20260529T140000
DESCRIPTION:
LOCATION:
SUMMARY:Ringer's 6th Grade Field Trip
END:VEVENT
BEGIN:VEVENT
DTSTAMP:20260420T025715Z
UID:04e61e5c-2990-4f21-9d5f-660ce3106e0a
DTSTART:20260606T170000
DTEND:20260606T213000
DESCRIPTION:
LOCATION:
SUMMARY:Harbor Cruise
END:VEVENT
BEGIN:VEVENT
DTSTAMP:20260420T025715Z
UID:3c007886-b6ae-422d-8687-822e67b0a5bc
DTSTART:20260610T090000
DTEND:20260610T160000
DESCRIPTION:
LOCATION:
SUMMARY:Tentative Petco Park Field Trip
END:VEVENT
BEGIN:VEVENT
DTSTAMP:20260420T025715Z
UID:086deb86-8f84-4f10-870d-01ecff6539f6
DTSTART:20260611T000000
DTEND:20260611T010000
DESCRIPTION:
LOCATION:
SUMMARY:Last Day of School
END:VEVENT
BEGIN:VEVENT
DTSTAMP:20260420T025715Z
UID:34300790-1ea0-4086-b1a8-62b5c3a23217
DTSTART:20260611T083000
DTEND:20260611T093000
DESCRIPTION:
LOCATION:
SUMMARY:8th Grade Promotion
END:VEVENT
END:VCALENDAR
