BEGIN:VCALENDAR
VERSION:2.0
PRODID:icalendar-ruby
CALSCALE:GREGORIAN
BEGIN:VTIMEZONE
TZID:America/Los_Angeles
BEGIN:DAYLIGHT
DTSTART:20260308T030000
TZOFFSETFROM:-0800
TZOFFSETTO:-0700
RRULE:FREQ=YEARLY;BYDAY=2SU;BYMONTH=3
TZNAME:PDT
END:DAYLIGHT
BEGIN:STANDARD
DTSTART:20261101T010000
TZOFFSETFROM:-0700
TZOFFSETTO:-0800
RRULE:FREQ=YEARLY;BYDAY=1SU;BYMONTH=11
TZNAME:PST
END:STANDARD
END:VTIMEZONE
BEGIN:VEVENT
DTSTAMP:20260419T185638Z
UID:9de096bf-f792-4a38-b716-947205e1e050
DTSTART:20260422T120000
DTEND:20260422T124500
DESCRIPTION:
LOCATION:
SUMMARY:Nanny Goat Play Brown/Irick MPR
END:VEVENT
BEGIN:VEVENT
DTSTAMP:20260419T185638Z
UID:bcfec501-5ff1-4331-9120-34cf04c18afb
DTSTART:20260508T091500
DTEND:20260508T094500
DESCRIPTION:
LOCATION:
SUMMARY:Coffee\, Connect & Community
END:VEVENT
END:VCALENDAR
