BEGIN:VCALENDAR
VERSION:2.0
PRODID:icalendar-ruby
CALSCALE:GREGORIAN
BEGIN:VTIMEZONE
TZID:America/Los_Angeles
BEGIN:DAYLIGHT
DTSTART:20260308T030000
TZOFFSETFROM:-0800
TZOFFSETTO:-0700
RRULE:FREQ=YEARLY;BYDAY=2SU;BYMONTH=3
TZNAME:PDT
END:DAYLIGHT
BEGIN:STANDARD
DTSTART:20261101T010000
TZOFFSETFROM:-0700
TZOFFSETTO:-0800
RRULE:FREQ=YEARLY;BYDAY=1SU;BYMONTH=11
TZNAME:PST
END:STANDARD
END:VTIMEZONE
BEGIN:VEVENT
DTSTAMP:20260420T000342Z
UID:dbd73e98-642a-4c81-a9a9-5a3e8995225c
DTSTART;VALUE=DATE:20260422
DTEND;VALUE=DATE:20260423
DESCRIPTION:
LOCATION:
SUMMARY:Teacher Collaboration Day - Early Release 2:07pm
END:VEVENT
BEGIN:VEVENT
DTSTAMP:20260420T000342Z
UID:a8c4b43f-f02a-4b30-a6d8-eb51be14f66b
DTSTART:20260422T143000
DTEND:20260422T153000
DESCRIPTION:
LOCATION:
SUMMARY:1st Grade Orientation
END:VEVENT
BEGIN:VEVENT
DTSTAMP:20260420T000342Z
UID:db94741f-c73e-47ca-b237-a89c4efe7538
DTSTART;VALUE=DATE:20260427
DTEND;VALUE=DATE:20260502
DESCRIPTION:
LOCATION:
SUMMARY:Coin Wars
END:VEVENT
BEGIN:VEVENT
DTSTAMP:20260420T000342Z
UID:31e9e8b9-d08a-40ef-a981-2c6a0114e1d4
DTSTART:20260501T110000
DTEND:20260501T133000
DESCRIPTION:
LOCATION:
SUMMARY:Lunch On The Field
END:VEVENT
BEGIN:VEVENT
DTSTAMP:20260420T000342Z
UID:96c79528-8695-46c2-9126-f114b1bf9033
DTSTART;VALUE=DATE:20260506
DTEND;VALUE=DATE:20260507
DESCRIPTION:
LOCATION:
SUMMARY:Teacher Collaboration Day - Early Release 2:07pm
END:VEVENT
BEGIN:VEVENT
DTSTAMP:20260420T000342Z
UID:40081dfa-3070-4a9a-b811-8b562e0ef7bb
DTSTART:20260514T133000
DTEND:20260514T150000
DESCRIPTION:
LOCATION:
SUMMARY:3rd Grade Biomes Perfomance
END:VEVENT
BEGIN:VEVENT
DTSTAMP:20260420T000342Z
UID:04430a9e-335b-4500-929b-fd1616581caa
DTSTART;VALUE=DATE:20260520
DTEND;VALUE=DATE:20260521
DESCRIPTION:
LOCATION:
SUMMARY:Teacher Collaboration Day - Early Release 2:07pm
END:VEVENT
BEGIN:VEVENT
DTSTAMP:20260420T000342Z
UID:495e7532-9236-458a-bef3-45e2e42d1caa
DTSTART;VALUE=DATE:20260521
DTEND;VALUE=DATE:20260522
DESCRIPTION:
LOCATION:
SUMMARY:4th and 5th Grade Play at JMMS
END:VEVENT
BEGIN:VEVENT
DTSTAMP:20260420T000342Z
UID:86e48d88-32ea-4095-9246-cb61eaf30c1f
DTSTART;VALUE=DATE:20260525
DTEND;VALUE=DATE:20260526
DESCRIPTION:
LOCATION:
SUMMARY:Memorial Day - All Schools and Departments Closed
END:VEVENT
BEGIN:VEVENT
DTSTAMP:20260420T000342Z
UID:671b27be-1e30-4cee-a25a-a669457e4aff
DTSTART:20260529T113000
DTEND:20260529T123000
DESCRIPTION:
LOCATION:
SUMMARY:4th Grade Performance
END:VEVENT
BEGIN:VEVENT
DTSTAMP:20260420T000342Z
UID:94c8f1a8-5759-4a23-aea0-8c873255a37f
DTSTART:20260529T170000
DTEND:20260529T190000
DESCRIPTION:
LOCATION:
SUMMARY:Summer Kick Off Party
END:VEVENT
BEGIN:VEVENT
DTSTAMP:20260420T000342Z
UID:d821400a-95c6-44ad-aecb-e41b2f3f12fb
DTSTART;VALUE=DATE:20260603
DTEND;VALUE=DATE:20260604
DESCRIPTION:
LOCATION:
SUMMARY:Teacher Collaboration Day - Early Release 2:07pm
END:VEVENT
BEGIN:VEVENT
DTSTAMP:20260420T000342Z
UID:9d2ccc50-9a75-4e7a-839e-ec9f32dd2fb2
DTSTART;VALUE=DATE:20260605
DTEND;VALUE=DATE:20260606
DESCRIPTION:
LOCATION:
SUMMARY:5th Grade Fun & Eagle Send Off
END:VEVENT
BEGIN:VEVENT
DTSTAMP:20260420T000342Z
UID:8045cdf1-e2a9-44bf-a58f-92607bc51d7e
DTSTART:20260610T100000
DTEND:20260610T110000
DESCRIPTION:
LOCATION:
SUMMARY:5th Grade Promotion at JMMS
END:VEVENT
BEGIN:VEVENT
DTSTAMP:20260420T000342Z
UID:46d56d50-96e8-432d-914c-e1d8a48915f1
DTSTART;VALUE=DATE:20260611
DTEND;VALUE=DATE:20260612
DESCRIPTION:
LOCATION:
SUMMARY:Last Day of School - Students Released at 12:57pm
END:VEVENT
END:VCALENDAR
