BEGIN:VCALENDAR
VERSION:2.0
PRODID:icalendar-ruby
CALSCALE:GREGORIAN
BEGIN:VTIMEZONE
TZID:America/Chicago
BEGIN:DAYLIGHT
DTSTART:20260308T030000
TZOFFSETFROM:-0600
TZOFFSETTO:-0500
RRULE:FREQ=YEARLY;BYDAY=2SU;BYMONTH=3
TZNAME:CDT
END:DAYLIGHT
BEGIN:STANDARD
DTSTART:20261101T010000
TZOFFSETFROM:-0500
TZOFFSETTO:-0600
RRULE:FREQ=YEARLY;BYDAY=1SU;BYMONTH=11
TZNAME:CST
END:STANDARD
END:VTIMEZONE
BEGIN:VEVENT
DTSTAMP:20260422T193435Z
UID:418688ac-2ea9-43ba-9971-b51e8e83b4da
DTSTART;VALUE=DATE:20260427
DTEND;VALUE=DATE:20260429
DESCRIPTION:
LOCATION:
SUMMARY:Wall Hawk Golf- Jimmy Clay (Austin) State
END:VEVENT
BEGIN:VEVENT
DTSTAMP:20260422T193435Z
UID:eb15911b-0dbb-4766-8363-8a5ef2722469
DTSTART;VALUE=DATE:20260501
DTEND;VALUE=DATE:20260503
DESCRIPTION:
LOCATION:
SUMMARY:WHS Track- Regional Meet at ACU
END:VEVENT
BEGIN:VEVENT
DTSTAMP:20260422T193435Z
UID:78e2f1a7-5248-43cc-88b3-6e190a4a735e
DTSTART;VALUE=DATE:20260507
DTEND;VALUE=DATE:20260509
DESCRIPTION:
LOCATION:
SUMMARY:WHS Tennis- State Tournament 
END:VEVENT
BEGIN:VEVENT
DTSTAMP:20260422T193435Z
UID:1e18658d-5973-4312-b6b0-a8980fb32085
DTSTART;VALUE=DATE:20260514
DTEND;VALUE=DATE:20260515
DESCRIPTION:
LOCATION:
SUMMARY:WHS Track- State Meet
END:VEVENT
END:VCALENDAR
