BEGIN:VCALENDAR
VERSION:2.0
PRODID:icalendar-ruby
CALSCALE:GREGORIAN
BEGIN:VTIMEZONE
TZID:America/Chicago
BEGIN:DAYLIGHT
DTSTART:20260308T030000
TZOFFSETFROM:-0600
TZOFFSETTO:-0500
RRULE:FREQ=YEARLY;BYDAY=2SU;BYMONTH=3
TZNAME:CDT
END:DAYLIGHT
BEGIN:STANDARD
DTSTART:20261101T010000
TZOFFSETFROM:-0500
TZOFFSETTO:-0600
RRULE:FREQ=YEARLY;BYDAY=1SU;BYMONTH=11
TZNAME:CST
END:STANDARD
END:VTIMEZONE
BEGIN:VEVENT
DTSTAMP:20260422T034830Z
UID:17604373-b47b-47dc-b902-5cecc675d86a
DTSTART:20260421T081500
DTEND:20260421T121500
DESCRIPTION:Students who take Algebra I\, Geometry\, and Biology along with
  students in Grades 7-10 will take state-required ATLAS Summative tests in
  Reading\, Writing\, Math\, and Science. Parents are asked to limit absenc
 es on these days by rescheduling appointments if possible.
LOCATION:
SUMMARY:ATLAS Assessment\, Grade 7-10 Summative Tests
END:VEVENT
BEGIN:VEVENT
DTSTAMP:20260422T034830Z
UID:8267af67-4ce6-4673-ba1a-526f4343a5c4
DTSTART:20260421T083000
DTEND:20260421T103000
DESCRIPTION:
LOCATION:
SUMMARY:ATLAS Assessment\, K-2 Summative
END:VEVENT
BEGIN:VEVENT
DTSTAMP:20260422T034830Z
UID:6e0f9fc7-bad1-4412-88e6-41690513d794
DTSTART:20260421T163000
DTEND:20260421T173000
DESCRIPTION:
LOCATION:
SUMMARY:Baseball @ Quitman (V/JV)
END:VEVENT
BEGIN:VEVENT
DTSTAMP:20260422T034830Z
UID:13e6f46d-d6c1-46ef-a6de-325f18d7766b
DTSTART:20260421T163000
DTEND:20260421T173000
DESCRIPTION:
LOCATION:
SUMMARY:Softball @ Cave City (V/JV) 
END:VEVENT
BEGIN:VEVENT
DTSTAMP:20260422T034830Z
UID:90d2fe70-0e88-48d1-b47b-6b25a606da4e
DTSTART:20260422T081500
DTEND:20260422T121500
DESCRIPTION:Students who take Algebra I\, Geometry\, and Biology along with
  students in Grades 7-10 will take state-required ATLAS Summative tests in
  Reading\, Writing\, Math\, and Science. Parents are asked to limit absenc
 es on these days by rescheduling appointments if possible.
LOCATION:
SUMMARY:ATLAS Assessment\, Grade 7-10 Summative Tests
END:VEVENT
BEGIN:VEVENT
DTSTAMP:20260422T034830Z
UID:c9f115c7-c2fc-45a1-9114-ac9a7a286942
DTSTART:20260422T083000
DTEND:20260422T103000
DESCRIPTION:
LOCATION:
SUMMARY:ATLAS Assessment\, K-2 Summative
END:VEVENT
BEGIN:VEVENT
DTSTAMP:20260422T034830Z
UID:a659e3ff-0a8a-45cb-b156-f635a3d93540
DTSTART:20260423T163000
DTEND:20260423T173000
DESCRIPTION:
LOCATION:
SUMMARY:Softball Home vs Morrilton Sr Day
END:VEVENT
BEGIN:VEVENT
DTSTAMP:20260422T034830Z
UID:a0b8c104-1a4f-48b8-86d5-e394c20ba248
DTSTART:20260423T170000
DTEND:20260423T180000
DESCRIPTION:
LOCATION:
SUMMARY:Baseball @ Rose Bud (V)
END:VEVENT
BEGIN:VEVENT
DTSTAMP:20260422T034830Z
UID:4fbf1bcb-8908-4bd0-a9a8-4d290d83b8ce
DTSTART:20260424T160000
DTEND:20260424T170000
DESCRIPTION:
LOCATION:
SUMMARY:Baseball Home vs Midland (V/JV)
END:VEVENT
BEGIN:VEVENT
DTSTAMP:20260422T034830Z
UID:c59e3edf-03b0-4e9b-aaf2-fdf847c88858
DTSTART;VALUE=DATE:20260425
DTEND;VALUE=DATE:20260426
DESCRIPTION:
LOCATION:
SUMMARY:BETA Golf Tournament @ Mtn. Ranch 
END:VEVENT
BEGIN:VEVENT
DTSTAMP:20260422T034830Z
UID:5aff99bf-0136-4b33-ab28-50386f5590ab
DTSTART:20260427T081500
DTEND:20260427T101500
DESCRIPTION:Link for parent information includes practice tests:<br><a href
 ="https://www.google.com/url?q=https://atlasportal.org/families.html&amp\;
 sa=D&amp\;source=calendar&amp\;ust=1765637690415167&amp\;usg=AOvVaw0ko6doD
 rKMpGVoQMqYAhR_" target="_blank">https://atlasportal.org/families.html</a>
LOCATION:
SUMMARY:ATLAS Assessment\, Grade 3-6 Summative 
END:VEVENT
BEGIN:VEVENT
DTSTAMP:20260422T034830Z
UID:9e731cfb-9934-4dd3-9560-d4c503512af8
DTSTART:20260427T160000
DTEND:20260427T170000
DESCRIPTION:
LOCATION:
SUMMARY:Baseball Home vs Scranton (SR DAY) (V/JV)
END:VEVENT
BEGIN:VEVENT
DTSTAMP:20260422T034830Z
UID:84fd3720-6786-4fd0-9b85-e4d228c726e0
DTSTART:20260428T081500
DTEND:20260428T101500
DESCRIPTION:Link for parent information includes practice tests:<br><a href
 ="https://www.google.com/url?q=https://atlasportal.org/families.html&amp\;
 sa=D&amp\;source=calendar&amp\;ust=1765637690415167&amp\;usg=AOvVaw0ko6doD
 rKMpGVoQMqYAhR_" target="_blank">https://atlasportal.org/families.html</a>
LOCATION:
SUMMARY:ATLAS Assessment\, Grade 3-6 Summative 
END:VEVENT
BEGIN:VEVENT
DTSTAMP:20260422T034830Z
UID:941affde-6c6b-4759-aa40-737cee6d04ec
DTSTART:20260429T081500
DTEND:20260429T101500
DESCRIPTION:Link for parent information includes practice tests:<br><a href
 ="https://www.google.com/url?q=https://atlasportal.org/families.html&amp\;
 sa=D&amp\;source=calendar&amp\;ust=1765637690415167&amp\;usg=AOvVaw0ko6doD
 rKMpGVoQMqYAhR_" target="_blank">https://atlasportal.org/families.html</a>
LOCATION:
SUMMARY:ATLAS Assessment\, Grade 3-6 Summative 
END:VEVENT
BEGIN:VEVENT
DTSTAMP:20260422T034830Z
UID:f8d41a2a-0b64-4f3f-bd3f-6c248f94fead
DTSTART;VALUE=DATE:20260430
DTEND;VALUE=DATE:20260501
DESCRIPTION:
LOCATION:
SUMMARY:District Softball/Baseball
END:VEVENT
BEGIN:VEVENT
DTSTAMP:20260422T034830Z
UID:414575bd-70ce-452c-b713-b555d308a46c
DTSTART:20260430T081500
DTEND:20260430T101500
DESCRIPTION:Link for parent information includes practice tests:<br><a href
 ="https://www.google.com/url?q=https://atlasportal.org/families.html&amp\;
 sa=D&amp\;source=calendar&amp\;ust=1765637690415167&amp\;usg=AOvVaw0ko6doD
 rKMpGVoQMqYAhR_" target="_blank">https://atlasportal.org/families.html</a>
LOCATION:
SUMMARY:ATLAS Assessment\, Grade 3-6 Summative 
END:VEVENT
BEGIN:VEVENT
DTSTAMP:20260422T034830Z
UID:8326c120-e518-4e69-98bb-0941afa1c09f
DTSTART:20260501T081500
DTEND:20260501T101500
DESCRIPTION:Link for parent information includes practice tests:<br><a href
 ="https://www.google.com/url?q=https://atlasportal.org/families.html&amp\;
 sa=D&amp\;source=calendar&amp\;ust=1765637690415167&amp\;usg=AOvVaw0ko6doD
 rKMpGVoQMqYAhR_" target="_blank">https://atlasportal.org/families.html</a>
LOCATION:
SUMMARY:ATLAS Assessment\, Grade 3-6 Summative 
END:VEVENT
BEGIN:VEVENT
DTSTAMP:20260422T034830Z
UID:23614bea-a569-47c6-8cf5-7b1db2ee1ec0
DTSTART:20260501T160000
DTEND:20260501T170000
DESCRIPTION:
LOCATION:
SUMMARY:Softball vs Clinton Home
END:VEVENT
BEGIN:VEVENT
DTSTAMP:20260422T034830Z
UID:b8ea0635-1331-42cd-b160-c50892b1f111
DTSTART:20260506T080000
DTEND:20260506T123000
DESCRIPTION:
LOCATION:
SUMMARY:AP English Literature and Composition exam
END:VEVENT
BEGIN:VEVENT
DTSTAMP:20260422T034830Z
UID:61dd3888-4c8a-4f5c-86b4-9d878ecc0c19
DTSTART;VALUE=DATE:20260507
DTEND;VALUE=DATE:20260508
DESCRIPTION:
LOCATION:
SUMMARY:Regional Softball/Baseball
END:VEVENT
BEGIN:VEVENT
DTSTAMP:20260422T034830Z
UID:2e5edac1-5bb4-46c7-906d-54650e756ee8
DTSTART;VALUE=DATE:20260508
DTEND;VALUE=DATE:20260509
DESCRIPTION:
LOCATION:
SUMMARY:Regional Softball/Baseball
END:VEVENT
BEGIN:VEVENT
DTSTAMP:20260422T034830Z
UID:1d98fdee-ff47-4b80-814c-91a165081aa2
DTSTART:20260508T080000
DTEND:20260508T123000
DESCRIPTION:
LOCATION:
SUMMARY:AP United States History exam
END:VEVENT
BEGIN:VEVENT
DTSTAMP:20260422T034830Z
UID:1d0ff741-ca01-4187-a18f-58068f688c0d
DTSTART:20260508T190000
DTEND:20260508T200000
DESCRIPTION:Doors of the Arena will open to the public at 7 pm
LOCATION:West Side High School\, 7295 Greers Ferry Rd\, Greers Ferry\, AR 7
 2067\, USA
SUMMARY:West Side High School Graduation
END:VEVENT
BEGIN:VEVENT
DTSTAMP:20260422T034830Z
UID:27a590dd-4b52-4a8e-82e1-fcf3ae04396e
DTSTART;VALUE=DATE:20260509
DTEND;VALUE=DATE:20260510
DESCRIPTION:
LOCATION:
SUMMARY:Regional Softball/Baseball
END:VEVENT
BEGIN:VEVENT
DTSTAMP:20260422T034830Z
UID:24e6c90a-0994-4bdf-a2cc-f9481f119714
DTSTART:20260513T080000
DTEND:20260513T123000
DESCRIPTION:
LOCATION:
SUMMARY:AP English Language and Composition exam
END:VEVENT
BEGIN:VEVENT
DTSTAMP:20260422T034830Z
UID:dddd824c-201e-4ef2-a7ac-3015a7cc9888
DTSTART;VALUE=DATE:20260514
DTEND;VALUE=DATE:20260515
DESCRIPTION:
LOCATION:
SUMMARY:State Softball/Baseball
END:VEVENT
BEGIN:VEVENT
DTSTAMP:20260422T034830Z
UID:ec41077c-9f56-453a-a895-b3a7e9d46c4b
DTSTART;VALUE=DATE:20260515
DTEND;VALUE=DATE:20260516
DESCRIPTION:
LOCATION:
SUMMARY:State Softball/Baseball
END:VEVENT
BEGIN:VEVENT
DTSTAMP:20260422T034830Z
UID:b5837512-fe96-4646-999f-45a89d30d4fc
DTSTART;VALUE=DATE:20260516
DTEND;VALUE=DATE:20260517
DESCRIPTION:
LOCATION:
SUMMARY:State Softball/Baseball
END:VEVENT
BEGIN:VEVENT
DTSTAMP:20260422T034830Z
UID:ed23c260-1d8e-4906-b8be-9d49100b12bb
DTSTART;VALUE=DATE:20260518
DTEND;VALUE=DATE:20260519
DESCRIPTION:This day makes up a student attendance day missed earlier in th
 e year.\n\nSee school events listed in the West Side app
LOCATION:
SUMMARY:School Attendance Day
END:VEVENT
BEGIN:VEVENT
DTSTAMP:20260422T034830Z
UID:c764ca90-cb2f-44fc-83ba-33e0f17b0e8d
DTSTART:20260518T180000
DTEND:20260518T200000
DESCRIPTION:Public ceremony noting the accomplishments of West Side athlete
 s in all sports in grades 7-12.
LOCATION:
SUMMARY:Athletic Awards Ceremony in Cafeteria
END:VEVENT
BEGIN:VEVENT
DTSTAMP:20260422T034830Z
UID:c76d4883-3a2e-4ff7-b11b-421b7593aa6c
DTSTART:20260518T180000
DTEND:20260518T193000
DESCRIPTION:
LOCATION:
SUMMARY:Regular School Board Meeting
END:VEVENT
BEGIN:VEVENT
DTSTAMP:20260422T034830Z
UID:587b1a6c-3fe7-4323-9c99-5317e8129dbc
DTSTART;VALUE=DATE:20260519
DTEND;VALUE=DATE:20260520
DESCRIPTION:This day makes up a half of an attendance day missed earlier in
  the year.\n\nSee school events listed in the West Side app
LOCATION:
SUMMARY:Last Day of School (Day 169)
END:VEVENT
BEGIN:VEVENT
DTSTAMP:20260422T034830Z
UID:efa34a62-dde3-479f-97e5-92b1251b9d2e
DTSTART:20260519T103000
DTEND:20260519T110000
DESCRIPTION:This day makes up a half of an attendance day missed earlier in
  the year.
LOCATION:
SUMMARY:Last Day Dismissal @ 11:30 am
END:VEVENT
BEGIN:VEVENT
DTSTAMP:20260422T034830Z
UID:b4cacaea-dddb-4411-aeb2-d148cfb42c19
DTSTART;VALUE=DATE:20260520
DTEND;VALUE=DATE:20260521
DESCRIPTION:See school events listed in the West Side App or @ <a href="ht
 tps://www.westsideeagles.org/events"><u>https://www.westsideeagles.org/eve
 nts</u></a>
LOCATION:
SUMMARY:Makeup Day (if necessary)
END:VEVENT
BEGIN:VEVENT
DTSTAMP:20260422T034830Z
UID:cbbf7a8a-b998-4108-83fd-44e021f13648
DTSTART;VALUE=DATE:20260521
DTEND;VALUE=DATE:20260522
DESCRIPTION:See school events listed in the West Side App or @ <a href="ht
 tps://www.westsideeagles.org/events"><u>https://www.westsideeagles.org/eve
 nts</u></a>
LOCATION:
SUMMARY:Makeup Day (if necessary)
END:VEVENT
BEGIN:VEVENT
DTSTAMP:20260422T034830Z
UID:e0806c47-e662-4d1c-80aa-0cfab592f7a9
DTSTART;VALUE=DATE:20260522
DTEND;VALUE=DATE:20260523
DESCRIPTION:See school events listed in the West Side App or @ <a href="ht
 tps://www.westsideeagles.org/events"><u>https://www.westsideeagles.org/eve
 nts</u></a>
LOCATION:
SUMMARY:Makeup Day (if necessary)
END:VEVENT
BEGIN:VEVENT
DTSTAMP:20260422T034830Z
UID:30a949f2-005a-440c-814e-eab0e5bda326
DTSTART;VALUE=DATE:20260525
DTEND;VALUE=DATE:20260526
DESCRIPTION:See school events listed in the West Side App or @ <a href="ht
 tps://www.westsideeagles.org/events"><u>https://www.westsideeagles.org/eve
 nts</u></a>
LOCATION:
SUMMARY:No School (Memorial Day Holiday)
END:VEVENT
BEGIN:VEVENT
DTSTAMP:20260422T034830Z
UID:e7cf57d2-da28-486a-8b8c-a893ac31f874
DTSTART:20260615T180000
DTEND:20260615T193000
DESCRIPTION:
LOCATION:
SUMMARY:Regular School Board Meeting
END:VEVENT
END:VCALENDAR
