BEGIN:VCALENDAR
VERSION:2.0
PRODID:icalendar-ruby
CALSCALE:GREGORIAN
BEGIN:VTIMEZONE
TZID:America/New_York
BEGIN:DAYLIGHT
DTSTART:20260308T030000
TZOFFSETFROM:-0500
TZOFFSETTO:-0400
RRULE:FREQ=YEARLY;BYDAY=2SU;BYMONTH=3
TZNAME:EDT
END:DAYLIGHT
BEGIN:STANDARD
DTSTART:20261101T010000
TZOFFSETFROM:-0400
TZOFFSETTO:-0500
RRULE:FREQ=YEARLY;BYDAY=1SU;BYMONTH=11
TZNAME:EST
END:STANDARD
END:VTIMEZONE
BEGIN:VEVENT
DTSTAMP:20260426T035523Z
UID:ffafbd96-97c8-4c44-af71-0e07581bc837
DTSTART;VALUE=DATE:20260505
DTEND;VALUE=DATE:20260506
DESCRIPTION:
LOCATION:
SUMMARY:BMX show
END:VEVENT
BEGIN:VEVENT
DTSTAMP:20260426T035523Z
UID:78f15f98-1791-4809-8a32-e0058a423ef1
DTSTART:20260507T090000
DTEND:20260507T121500
DESCRIPTION:
LOCATION:
SUMMARY:1/2 Day of School
END:VEVENT
BEGIN:VEVENT
DTSTAMP:20260426T035523Z
UID:dc97488c-386a-4a28-931c-7f34bd9c0d81
DTSTART:20260507T123000
DTEND:20260507T153000
DESCRIPTION:
LOCATION:
SUMMARY:1/2 Day of Teachers' Professional Development
END:VEVENT
BEGIN:VEVENT
DTSTAMP:20260426T035523Z
UID:25c87923-1216-4952-bd2f-24d9b8ddc873
DTSTART;VALUE=DATE:20260521
DTEND;VALUE=DATE:20260522
DESCRIPTION:<p>Raindate if needed to reschedule due to the weather.</p>
LOCATION:
SUMMARY:Field Day (Rain date)
END:VEVENT
BEGIN:VEVENT
DTSTAMP:20260426T035523Z
UID:46960fbd-a9c7-413b-bc56-d67737ea54c0
DTSTART;VALUE=DATE:20260522
DTEND;VALUE=DATE:20260523
DESCRIPTION:<p>Raindate: 5/21/26.</p>
LOCATION:
SUMMARY:Field Day!!!
END:VEVENT
BEGIN:VEVENT
DTSTAMP:20260426T035523Z
UID:0a333172-de23-47bb-bb2f-17514134e824
DTSTART;VALUE=DATE:20260525
DTEND;VALUE=DATE:20260526
DESCRIPTION:
LOCATION:
SUMMARY:No School: Memorial Day
END:VEVENT
BEGIN:VEVENT
DTSTAMP:20260426T035523Z
UID:24ee5ed4-a4fb-4a44-b570-c25a5aaeec95
DTSTART;VALUE=DATE:20260619
DTEND;VALUE=DATE:20260620
DESCRIPTION:
LOCATION:
SUMMARY:No School: Juneteenth
END:VEVENT
BEGIN:VEVENT
DTSTAMP:20260426T035523Z
UID:2201acec-f3c0-491e-8053-2e463c1406ef
DTSTART:20260624T090000
DTEND:20260624T121500
DESCRIPTION:<p>Last day of school as of 2/23/26\, after three snow days. Th
 is date is subject to change.</p>
LOCATION:
SUMMARY:Last Day of School\; Half Day
END:VEVENT
END:VCALENDAR
