BEGIN:VCALENDAR
VERSION:2.0
PRODID:icalendar-ruby
CALSCALE:GREGORIAN
BEGIN:VTIMEZONE
TZID:America/New_York
BEGIN:DAYLIGHT
DTSTART:20260308T030000
TZOFFSETFROM:-0500
TZOFFSETTO:-0400
RRULE:FREQ=YEARLY;BYDAY=2SU;BYMONTH=3
TZNAME:EDT
END:DAYLIGHT
BEGIN:STANDARD
DTSTART:20261101T010000
TZOFFSETFROM:-0400
TZOFFSETTO:-0500
RRULE:FREQ=YEARLY;BYDAY=1SU;BYMONTH=11
TZNAME:EST
END:STANDARD
END:VTIMEZONE
BEGIN:VEVENT
DTSTAMP:20260419T131613Z
UID:75d21066-1577-4fbd-b31f-3ac38a674d8a
DTSTART;VALUE=DATE:20260420
DTEND;VALUE=DATE:20260425
DESCRIPTION:
LOCATION:
SUMMARY:NO SCHOOL: April Vacation
END:VEVENT
BEGIN:VEVENT
DTSTAMP:20260419T131613Z
UID:28ff8aff-876c-4ed8-a889-2c5de353edf8
DTSTART;VALUE=DATE:20260428
DTEND;VALUE=DATE:20260430
DESCRIPTION:More information to come
LOCATION:
SUMMARY:Kindergarten Screening
END:VEVENT
BEGIN:VEVENT
DTSTAMP:20260419T131613Z
UID:3f1107b2-df54-4308-8f51-f878896352f1
DTSTART;VALUE=DATE:20260507
DTEND;VALUE=DATE:20260508
DESCRIPTION:
LOCATION:
SUMMARY:Half Day: Staff Professional Development
END:VEVENT
BEGIN:VEVENT
DTSTAMP:20260419T131613Z
UID:f5be6905-da8f-41d8-83ca-e926332a0b9a
DTSTART;VALUE=DATE:20260511
DTEND;VALUE=DATE:20260512
DESCRIPTION:Meeting starts at 5:30 pm
LOCATION:James Clark School Library
SUMMARY:PTO Meeting
END:VEVENT
BEGIN:VEVENT
DTSTAMP:20260419T131613Z
UID:9574835f-f6e9-4e52-abfb-f7912e23d9df
DTSTART;VALUE=DATE:20260525
DTEND;VALUE=DATE:20260526
DESCRIPTION:
LOCATION:
SUMMARY:NO SCHOOL: Memorial Day
END:VEVENT
BEGIN:VEVENT
DTSTAMP:20260419T131613Z
UID:8d29a159-8e7b-412b-93f4-4aa77b6b185a
DTSTART;VALUE=DATE:20260608
DTEND;VALUE=DATE:20260609
DESCRIPTION:Meeting starts at 5:30 pm
LOCATION:James Clark School Library
SUMMARY:PTO Meeting
END:VEVENT
BEGIN:VEVENT
DTSTAMP:20260419T131613Z
UID:c5d3e74f-1f75-40b3-bc07-53b823a033ea
DTSTART;VALUE=DATE:20260612
DTEND;VALUE=DATE:20260613
DESCRIPTION:
LOCATION:
SUMMARY:Field Day 
END:VEVENT
END:VCALENDAR
