BEGIN:VCALENDAR
VERSION:2.0
PRODID:icalendar-ruby
CALSCALE:GREGORIAN
BEGIN:VTIMEZONE
TZID:America/New_York
BEGIN:DAYLIGHT
DTSTART:20260308T030000
TZOFFSETFROM:-0500
TZOFFSETTO:-0400
RRULE:FREQ=YEARLY;BYDAY=2SU;BYMONTH=3
TZNAME:EDT
END:DAYLIGHT
BEGIN:STANDARD
DTSTART:20261101T010000
TZOFFSETFROM:-0400
TZOFFSETTO:-0500
RRULE:FREQ=YEARLY;BYDAY=1SU;BYMONTH=11
TZNAME:EST
END:STANDARD
END:VTIMEZONE
BEGIN:VEVENT
DTSTAMP:20260425T121542Z
UID:b7d94485-350c-4fc9-9d8c-4cdf6d7794bf
DTSTART:20260506T180000
DTEND:20260506T190000
DESCRIPTION:
LOCATION:Staff Room
SUMMARY:PTO Meeting
END:VEVENT
BEGIN:VEVENT
DTSTAMP:20260425T121542Z
UID:791a1217-4d80-4219-8836-c1d264047025
DTSTART:20260507T082000
DTEND:20260507T115000
DESCRIPTION:
LOCATION:
SUMMARY:Early Release - District PD
END:VEVENT
BEGIN:VEVENT
DTSTAMP:20260425T121542Z
UID:65f67844-c78a-429f-894a-49f376a8b51a
DTSTART;VALUE=DATE:20260512
DTEND;VALUE=DATE:20260514
DESCRIPTION:
LOCATION:
SUMMARY:MCAS - Math - 3rd & 4th Grade
END:VEVENT
BEGIN:VEVENT
DTSTAMP:20260425T121542Z
UID:af73239e-1141-4387-b343-379ea0fec3f9
DTSTART;VALUE=DATE:20260525
DTEND;VALUE=DATE:20260526
DESCRIPTION:
LOCATION:
SUMMARY:Memorial Day - No School
END:VEVENT
BEGIN:VEVENT
DTSTAMP:20260425T121542Z
UID:dc253f7a-fe99-4ceb-8482-8b00b2a41e72
DTSTART:20260603T180000
DTEND:20260603T190000
DESCRIPTION:
LOCATION:Staff Room
SUMMARY:PTO Meeting
END:VEVENT
BEGIN:VEVENT
DTSTAMP:20260425T121542Z
UID:ce1fb014-f28f-4001-82c1-650b2e4045dd
DTSTART;VALUE=DATE:20260619
DTEND;VALUE=DATE:20260620
DESCRIPTION:
LOCATION:
SUMMARY:Juneteenth - No School
END:VEVENT
BEGIN:VEVENT
DTSTAMP:20260425T121542Z
UID:aecb8b0e-735b-435b-a708-e895e10a507b
DTSTART:20260624T083000
DTEND:20260624T115000
DESCRIPTION:Last day of school after 3 snow days - this date is subject to 
 change
LOCATION:
SUMMARY:Last Day of School - Early Release
END:VEVENT
END:VCALENDAR
