BEGIN:VCALENDAR
VERSION:2.0
PRODID:icalendar-ruby
CALSCALE:GREGORIAN
BEGIN:VTIMEZONE
TZID:America/New_York
BEGIN:DAYLIGHT
DTSTART:20260308T030000
TZOFFSETFROM:-0500
TZOFFSETTO:-0400
RRULE:FREQ=YEARLY;BYDAY=2SU;BYMONTH=3
TZNAME:EDT
END:DAYLIGHT
BEGIN:STANDARD
DTSTART:20261101T010000
TZOFFSETFROM:-0400
TZOFFSETTO:-0500
RRULE:FREQ=YEARLY;BYDAY=1SU;BYMONTH=11
TZNAME:EST
END:STANDARD
END:VTIMEZONE
BEGIN:VEVENT
DTSTAMP:20260425T010437Z
UID:1f32b1f4-ad3f-4a84-b22b-f114946b62b4
DTSTART;VALUE=DATE:20260420
DTEND;VALUE=DATE:20260425
DESCRIPTION:
LOCATION:
SUMMARY:April Break - No School
END:VEVENT
BEGIN:VEVENT
DTSTAMP:20260425T010437Z
UID:6fff705e-f68e-4e0b-b5de-476461ff8122
DTSTART;VALUE=DATE:20260429
DTEND;VALUE=DATE:20260430
DESCRIPTION:
LOCATION:
SUMMARY:MCAS 5th Gr. Science #1
END:VEVENT
BEGIN:VEVENT
DTSTAMP:20260425T010437Z
UID:31a9c308-ad3f-4617-96a9-25501d0cea94
DTSTART:20260429T180000
DTEND:20260429T190000
DESCRIPTION:
LOCATION:
SUMMARY:Incoming 5th gr. Parent Orientation - Auditroium
END:VEVENT
BEGIN:VEVENT
DTSTAMP:20260425T010437Z
UID:6e8f741c-9d8b-42f1-b098-67739ee6a4b0
DTSTART;VALUE=DATE:20260430
DTEND;VALUE=DATE:20260501
DESCRIPTION:
LOCATION:
SUMMARY:MCAS 5th Gr. Science #2
END:VEVENT
BEGIN:VEVENT
DTSTAMP:20260425T010437Z
UID:b39c3938-5e8e-41fd-9b8f-7be7d22d93a6
DTSTART:20260430T071500
DTEND:20260430T082000
DESCRIPTION:<p></p>
LOCATION:
SUMMARY:5th Gr. Band Rehearsal 
END:VEVENT
BEGIN:VEVENT
DTSTAMP:20260425T010437Z
UID:853dc00a-7124-4653-a7b1-3248f170fddb
DTSTART;VALUE=DATE:20260504
DTEND;VALUE=DATE:20260509
DESCRIPTION:
LOCATION:
SUMMARY:Teacher Appreciation Week
END:VEVENT
BEGIN:VEVENT
DTSTAMP:20260425T010437Z
UID:3f0fef3d-d201-4651-9554-38d6c6182ab9
DTSTART:20260507T083000
DTEND:20260507T115000
DESCRIPTION:
LOCATION:
SUMMARY:Half Day PD/ Half Day for Students
END:VEVENT
BEGIN:VEVENT
DTSTAMP:20260425T010437Z
UID:b1a99e7d-5c3e-44c0-acaa-2defa9365c3e
DTSTART;VALUE=DATE:20260512
DTEND;VALUE=DATE:20260513
DESCRIPTION:
LOCATION:
SUMMARY:MCAS 5th Gr. Math #1
END:VEVENT
BEGIN:VEVENT
DTSTAMP:20260425T010437Z
UID:84be74fb-56f8-410c-909d-757ff346bec9
DTSTART;VALUE=DATE:20260513
DTEND;VALUE=DATE:20260514
DESCRIPTION:
LOCATION:
SUMMARY:MCAS 5th Gr. Math #2
END:VEVENT
BEGIN:VEVENT
DTSTAMP:20260425T010437Z
UID:0a71f851-aa9e-486c-91f7-3a8b67c9ea2b
DTSTART:20260513T190000
DTEND:20260513T200000
DESCRIPTION:
LOCATION:
SUMMARY:ChorusTime - AJHS
END:VEVENT
BEGIN:VEVENT
DTSTAMP:20260425T010437Z
UID:2cf8d72a-af24-4101-938a-209279072890
DTSTART;VALUE=DATE:20260514
DTEND;VALUE=DATE:20260515
DESCRIPTION:
LOCATION:
SUMMARY:MCAS 6th Gr. Math #1
END:VEVENT
BEGIN:VEVENT
DTSTAMP:20260425T010437Z
UID:deca1eb9-6c4c-4eb1-aed1-2e3b5b80b08b
DTSTART:20260514T180000
DTEND:20260514T200000
DESCRIPTION:
LOCATION:
SUMMARY:PTO Family Art Night
END:VEVENT
BEGIN:VEVENT
DTSTAMP:20260425T010437Z
UID:9d8834b0-5658-47b2-8481-880bc1b40cfb
DTSTART;VALUE=DATE:20260515
DTEND;VALUE=DATE:20260516
DESCRIPTION:
LOCATION:
SUMMARY:MCAS 6th Gr. Math #2
END:VEVENT
BEGIN:VEVENT
DTSTAMP:20260425T010437Z
UID:aa4f3965-463c-42cc-9f76-cd43554d83a2
DTSTART:20260516T120000
DTEND:20260516T160000
DESCRIPTION:<p>Rain date - May 17th</p>
LOCATION:School Street Spray Park\, 418 Corey St\, Agawam\, MA 01001\, USA
SUMMARY:6th Annual Multicultural Festival
END:VEVENT
BEGIN:VEVENT
DTSTAMP:20260425T010437Z
UID:979bd4c8-f48a-4f2a-95c5-99cd8b60becb
DTSTART;VALUE=DATE:20260525
DTEND;VALUE=DATE:20260526
DESCRIPTION:
LOCATION:
SUMMARY:Memorial Day/ No School
END:VEVENT
BEGIN:VEVENT
DTSTAMP:20260425T010437Z
UID:42dae29a-332a-4b65-8527-46b0ae6ff30d
DTSTART:20260527T180000
DTEND:20260527T203000
DESCRIPTION:
LOCATION:
SUMMARY:Chorus Spring Concert  - AJHS
END:VEVENT
BEGIN:VEVENT
DTSTAMP:20260425T010437Z
UID:075578c6-9472-4bb0-91e8-b63e94ce922e
DTSTART:20260618T130000
DTEND:20260618T140000
DESCRIPTION:
LOCATION:
SUMMARY:Yearbook Distribution 
END:VEVENT
BEGIN:VEVENT
DTSTAMP:20260425T010437Z
UID:9f5fb55f-e550-4d72-8850-e8296d31b3d8
DTSTART;VALUE=DATE:20260619
DTEND;VALUE=DATE:20260620
DESCRIPTION:
LOCATION:
SUMMARY:Juneteenth/No School
END:VEVENT
BEGIN:VEVENT
DTSTAMP:20260425T010437Z
UID:58286092-20c4-47c6-a78d-107bfbd7d926
DTSTART:20260624T083000
DTEND:20260624T115000
DESCRIPTION:
LOCATION:
SUMMARY:Last Day of School/ Half Day 
END:VEVENT
END:VCALENDAR
