BEGIN:VCALENDAR
VERSION:2.0
PRODID:icalendar-ruby
CALSCALE:GREGORIAN
BEGIN:VTIMEZONE
TZID:America/New_York
BEGIN:DAYLIGHT
DTSTART:20260308T030000
TZOFFSETFROM:-0500
TZOFFSETTO:-0400
RRULE:FREQ=YEARLY;BYDAY=2SU;BYMONTH=3
TZNAME:EDT
END:DAYLIGHT
BEGIN:STANDARD
DTSTART:20261101T010000
TZOFFSETFROM:-0400
TZOFFSETTO:-0500
RRULE:FREQ=YEARLY;BYDAY=1SU;BYMONTH=11
TZNAME:EST
END:STANDARD
END:VTIMEZONE
BEGIN:VEVENT
DTSTAMP:20260425T131622Z
UID:4761bdca-0d7c-4fa3-ad3e-5cea58e14b59
DTSTART;VALUE=DATE:20260428
DTEND;VALUE=DATE:20260429
DESCRIPTION:
LOCATION:
SUMMARY:Transportation Employee Appreciation Day
END:VEVENT
BEGIN:VEVENT
DTSTAMP:20260425T131622Z
UID:662dfc22-e407-4dcc-89f0-b868b47f3f7a
DTSTART:20260429T080000
DTEND:20260429T140000
DESCRIPTION:
LOCATION:coleman elementary michiga
SUMMARY:Wednesday Early Release
END:VEVENT
BEGIN:VEVENT
DTSTAMP:20260425T131622Z
UID:79310860-7e9c-4535-b9d5-7b681e5dfdb0
DTSTART;VALUE=DATE:20260430
DTEND;VALUE=DATE:20260502
DESCRIPTION:
LOCATION:Mystic Lake\, Garfield Township\, MI 48632\, USA
SUMMARY:6th grade Mystic Lake trip
END:VEVENT
BEGIN:VEVENT
DTSTAMP:20260425T131622Z
UID:af73c311-e34a-446e-a86d-89aa8909722f
DTSTART;VALUE=DATE:20260501
DTEND;VALUE=DATE:20260502
DESCRIPTION:
LOCATION:
SUMMARY:Food Service Employee Appreciation Day
END:VEVENT
BEGIN:VEVENT
DTSTAMP:20260425T131622Z
UID:5d53f377-1ddc-4362-92cb-ff737e42fa8c
DTSTART;VALUE=DATE:20260505
DTEND;VALUE=DATE:20260506
DESCRIPTION:<p>Give Local Midland is a 24-hour online giving campaign for l
 ocal nonprofit endowment funds. The Midland Area Community Foundation host
 s the event to help raise money and awareness for more than 80 Midland Cou
 nty nonprofits who do incredible and inspiring work in our community. Join
  us on May 5th! Click the link below to donate to the school district\, on
 ly on May 5th!</p><p><a target="_blank" rel="noopener noreferrer nofollow"
  href="https://www.givelocalmidland.org/organizations/coleman-community-sc
 hools">https://www.givelocalmidland.org/organizations/coleman-community-sc
 hools</a></p>
LOCATION:
SUMMARY:Give Local Midland
END:VEVENT
BEGIN:VEVENT
DTSTAMP:20260425T131622Z
UID:aeb8a311-0bc7-45d1-b04a-dfb16da03944
DTSTART;VALUE=DATE:20260505
DTEND;VALUE=DATE:20260506
DESCRIPTION:
LOCATION:
SUMMARY:Teacher Appreciation Day
END:VEVENT
BEGIN:VEVENT
DTSTAMP:20260425T131622Z
UID:9578cd4a-6646-4929-9d8d-2f329b2f1125
DTSTART;VALUE=DATE:20260506
DTEND;VALUE=DATE:20260507
DESCRIPTION:
LOCATION:
SUMMARY:School Nurse/Health Clinic Staff Appreciation Day
END:VEVENT
BEGIN:VEVENT
DTSTAMP:20260425T131622Z
UID:f659f5ac-0878-4fe8-95f8-60925ae76df8
DTSTART:20260506T080000
DTEND:20260506T140000
DESCRIPTION:
LOCATION:coleman elementary michiga
SUMMARY:Wednesday Early Release
END:VEVENT
BEGIN:VEVENT
DTSTAMP:20260425T131622Z
UID:8774b7ac-481e-4e99-9723-372042ab5df2
DTSTART;VALUE=DATE:20260507
DTEND;VALUE=DATE:20260508
DESCRIPTION:
LOCATION:Coleman Elementary School\, 1010 E Washington St\, Coleman\, MI 48
 618\, USA
SUMMARY:Kindergarten Roundup
END:VEVENT
BEGIN:VEVENT
DTSTAMP:20260425T131622Z
UID:5e607a25-7d0e-4e66-b79c-13840c5a8241
DTSTART:20260507T082000
DTEND:20260507T144500
DESCRIPTION:
LOCATION:4951 N Lewis Rd\, Coleman\, MI 48618\, USA
SUMMARY:Blood Drive
END:VEVENT
BEGIN:VEVENT
DTSTAMP:20260425T131622Z
UID:56428bcd-d85a-420a-851b-afffd12ab88f
DTSTART;VALUE=DATE:20260508
DTEND;VALUE=DATE:20260509
DESCRIPTION:
LOCATION:Coleman Jr/Sr High School\, 4951 N Lewis Rd\, Coleman\, MI 48618\,
  USA
SUMMARY:Drive Your Tractor to School Day
END:VEVENT
BEGIN:VEVENT
DTSTAMP:20260425T131622Z
UID:9b06b557-c3f5-4c8e-9b0f-1480966cec0b
DTSTART:20260509T090000
DTEND:20260509T120000
DESCRIPTION:
LOCATION:Coleman Agriscience Building\, Coleman Schools Dr\, Coleman\, MI 4
 8618\, USA
SUMMARY:Agriscience Flower Sale/Open House
END:VEVENT
BEGIN:VEVENT
DTSTAMP:20260425T131622Z
UID:de61788e-1d5f-4ab2-8624-e17ffe69c1ff
DTSTART:20260511T173000
DTEND:20260511T173000
DESCRIPTION:
LOCATION:1010 E Washington St\, Coleman\, MI 48618\, USA
SUMMARY:PTO Meeting
END:VEVENT
BEGIN:VEVENT
DTSTAMP:20260425T131622Z
UID:9e03e2d1-c24e-4b3e-8943-d5b65516b2dc
DTSTART:20260512T170000
DTEND:20260512T170000
DESCRIPTION:
LOCATION:Coleman Jr/Sr High School\, 4951 N Lewis Rd\, Coleman\, MI 48618\,
  USA
SUMMARY:Elementary Spring Music Program - K-2 5:00\; 3-6 6:00
END:VEVENT
BEGIN:VEVENT
DTSTAMP:20260425T131622Z
UID:ac35cd55-1f63-47fb-8b91-a29eeaccdd2b
DTSTART:20260513T080000
DTEND:20260513T113000
DESCRIPTION:
LOCATION:1010 E Washington St\, Coleman\, MI 48618\, USA
SUMMARY:Half School Day - Students only\; Staff PD Day
END:VEVENT
BEGIN:VEVENT
DTSTAMP:20260425T131622Z
UID:9307f2d0-8bba-421b-a22f-d194d1779946
DTSTART:20260515T120000
DTEND:20260515T150000
DESCRIPTION:<p>Join us as we celebrate our student leaders and show off all
  they have accomplished this year! Enjoy a family picnic beginning at noon
 \, our habit showcase at 1:00 pm\, and our last Habit Huddle parade and ce
 remony at 1:30 pm on the track.</p><p>Familes\, please bring your own lunc
 h for the picnic. Coleman Elementary students will have lunch provided.</p
 ><p>For more information\, contact Sandy Winslow at <a target="_blank" rel
 ="noopener noreferrer nofollow" href="mailto:swinslow@colemanschools.net" 
 relative-link="">swinslow@colemanschools.net</a></p>
LOCATION:1010 E Washington St\, Coleman\, MI 48618\, USA
SUMMARY:Leadership Day
END:VEVENT
BEGIN:VEVENT
DTSTAMP:20260425T131622Z
UID:a2c7fc40-c9b6-40cd-b0ea-e539b10780dd
DTSTART:20260517T140000
DTEND:20260517T140000
DESCRIPTION:
LOCATION:4951 N Lewis Rd\, Coleman\, MI 48618\, USA
SUMMARY:Class of 2026 Graduation
END:VEVENT
BEGIN:VEVENT
DTSTAMP:20260425T131622Z
UID:3d783e67-fbd8-44ce-a6ad-8f115e7566d2
DTSTART:20260518T180000
DTEND:20260518T180000
DESCRIPTION:6:00 - budget meeting\; 6:30 - regular meeting
LOCATION:Coleman Schools Administration Office\, 4823 Coleman Schools Dr\, 
 Coleman\, MI 48618\, USA
SUMMARY:Board of Education Meeting
END:VEVENT
BEGIN:VEVENT
DTSTAMP:20260425T131622Z
UID:76c0bc41-dfca-4b1b-9467-69fef25cfad2
DTSTART:20260520T080000
DTEND:20260520T113000
DESCRIPTION:
LOCATION:1010 E Washington St\, Coleman\, MI 48618\, USA
SUMMARY:Wednesday Early Release
END:VEVENT
BEGIN:VEVENT
DTSTAMP:20260425T131622Z
UID:b3531872-c508-4c05-bbcc-51f7361d5a42
DTSTART;VALUE=DATE:20260525
DTEND;VALUE=DATE:20260526
DESCRIPTION:
LOCATION:1010 E Washington St\, Coleman\, MI 48618\, USA
SUMMARY:No School - Memorial Day
END:VEVENT
BEGIN:VEVENT
DTSTAMP:20260425T131622Z
UID:ce4bd7e5-e6b3-41f6-b064-19422b941891
DTSTART:20260527T080000
DTEND:20260527T113000
DESCRIPTION:
LOCATION:1010 E Washington St\, Coleman\, MI 48618\, USA
SUMMARY:Wednesday Early Release
END:VEVENT
BEGIN:VEVENT
DTSTAMP:20260425T131622Z
UID:e0ba414c-3b95-4ede-98d0-ebb1640efc3b
DTSTART:20260528T080000
DTEND:20260528T113000
DESCRIPTION:
LOCATION:1010 E Washington St\, Coleman\, MI 48618\, USA
SUMMARY:Half School Day - Students only\; Staff Work Day
END:VEVENT
BEGIN:VEVENT
DTSTAMP:20260425T131622Z
UID:6d618c33-b3a1-42a8-80f2-fecc1cbf6639
DTSTART:20260528T183000
DTEND:20260528T183000
DESCRIPTION:
LOCATION:Coleman Elementary School\, 1010 E Washington St\, Coleman\, MI 48
 618\, USA
SUMMARY:6th Grade Completion Ceremony
END:VEVENT
BEGIN:VEVENT
DTSTAMP:20260425T131622Z
UID:03aaabab-eb52-47a9-8a15-fe8ab8b6f520
DTSTART;VALUE=DATE:20260529
DTEND;VALUE=DATE:20260530
DESCRIPTION:
LOCATION:1010 E Washington St\, Coleman\, MI 48618\, USA
SUMMARY:Last School Day/ End MP 4/Sem 2
END:VEVENT
BEGIN:VEVENT
DTSTAMP:20260425T131622Z
UID:91204cf4-93a1-495c-bab8-624c9e6e1f5f
DTSTART:20260529T080000
DTEND:20260529T113000
DESCRIPTION:
LOCATION:1010 E Washington St\, Coleman\, MI 48618\, USA
SUMMARY:Half School Day - Students only\; Staff Work Day
END:VEVENT
BEGIN:VEVENT
DTSTAMP:20260425T131622Z
UID:49e873a6-9df1-463b-9562-942dbaa9ab3e
DTSTART:20260529T190000
DTEND:20260529T190000
DESCRIPTION:
LOCATION:Coleman Elementary School\, 1010 E Washington St\, Coleman\, MI 48
 618\, USA
SUMMARY:Outdoor Movie Night - Elementary PTO
END:VEVENT
BEGIN:VEVENT
DTSTAMP:20260425T131622Z
UID:8e6edf23-9fd5-4008-9cd1-e0375faad5e0
DTSTART:20260601T080000
DTEND:20260601T150000
DESCRIPTION:
LOCATION:1010 E Washington St\, Coleman\, MI 48618\, USA
SUMMARY:Tentative Make Up Day
END:VEVENT
BEGIN:VEVENT
DTSTAMP:20260425T131622Z
UID:9a6eea80-3ffa-40fc-bd1c-5875d5184efc
DTSTART:20260615T183000
DTEND:20260615T183000
DESCRIPTION:
LOCATION:Coleman Schools Administration Office\, 4823 Coleman Schools Dr\, 
 Coleman\, MI 48618\, USA
SUMMARY:Board of Education Meeting
END:VEVENT
BEGIN:VEVENT
DTSTAMP:20260425T131622Z
UID:30a2e6eb-aef4-4c27-8d75-d616bdc25fb3
DTSTART:20260720T183000
DTEND:20260720T183000
DESCRIPTION:
LOCATION:Coleman Schools Administration Office\, 4823 Coleman Schools Dr\, 
 Coleman\, MI 48618\, USA
SUMMARY:Board of Education Meeting
END:VEVENT
BEGIN:VEVENT
DTSTAMP:20260425T131622Z
UID:4fa8e336-fe02-47e1-ab93-419f4857b956
DTSTART:20260817T183000
DTEND:20260817T183000
DESCRIPTION:
LOCATION:Coleman Schools Administration Office\, 4823 Coleman Schools Dr\, 
 Coleman\, MI 48618\, USA
SUMMARY:Board of Education Meeting
END:VEVENT
BEGIN:VEVENT
DTSTAMP:20260425T131622Z
UID:e95aaf87-07c8-4265-9a10-f73edbaeb3d0
DTSTART:20260921T183000
DTEND:20260921T183000
DESCRIPTION:
LOCATION:4951 N Lewis Rd\, Coleman\, MI 48618\, USA
SUMMARY:Board of Education Meeting
END:VEVENT
BEGIN:VEVENT
DTSTAMP:20260425T131622Z
UID:e6174f88-9b34-4bf5-865d-0a01c9ce8fd0
DTSTART:20261019T183000
DTEND:20261019T183000
DESCRIPTION:
LOCATION:4951 N Lewis Rd\, Coleman\, MI 48618\, USA
SUMMARY:Board of Education Meeting
END:VEVENT
BEGIN:VEVENT
DTSTAMP:20260425T131622Z
UID:50ac76d5-248f-4a36-8b0c-7e3959d3a9be
DTSTART:20261116T183000
DTEND:20261116T183000
DESCRIPTION:
LOCATION:4951 N Lewis Rd\, Coleman\, MI 48618\, USA
SUMMARY:Board of Education Meeting
END:VEVENT
BEGIN:VEVENT
DTSTAMP:20260425T131622Z
UID:1014b28d-257b-4774-85fb-2f034625bbcd
DTSTART:20261221T173000
DTEND:20261221T173000
DESCRIPTION:
LOCATION:4951 N Lewis Rd\, Coleman\, MI 48618\, USA
SUMMARY:Board of Education Meeting
END:VEVENT
END:VCALENDAR
