BEGIN:VCALENDAR
VERSION:2.0
PRODID:icalendar-ruby
CALSCALE:GREGORIAN
BEGIN:VTIMEZONE
TZID:America/Chicago
BEGIN:DAYLIGHT
DTSTART:20260308T030000
TZOFFSETFROM:-0600
TZOFFSETTO:-0500
RRULE:FREQ=YEARLY;BYDAY=2SU;BYMONTH=3
TZNAME:CDT
END:DAYLIGHT
BEGIN:STANDARD
DTSTART:20261101T010000
TZOFFSETFROM:-0500
TZOFFSETTO:-0600
RRULE:FREQ=YEARLY;BYDAY=1SU;BYMONTH=11
TZNAME:CST
END:STANDARD
END:VTIMEZONE
BEGIN:VEVENT
DTSTAMP:20260419T204409Z
UID:18bf2ee8-acd7-4880-a1c8-c049e01e8872
DTSTART;VALUE=DATE:20260421
DTEND;VALUE=DATE:20260423
DESCRIPTION:
LOCATION:
SUMMARY:ATLAS Summative
END:VEVENT
BEGIN:VEVENT
DTSTAMP:20260419T204409Z
UID:b4345be1-dcbf-4886-9598-673b85ea6d57
DTSTART;VALUE=DATE:20260428
DTEND;VALUE=DATE:20260430
DESCRIPTION:
LOCATION:
SUMMARY:ATLAS Summative
END:VEVENT
BEGIN:VEVENT
DTSTAMP:20260419T204409Z
UID:cb754947-1735-4b2f-8d58-cdc5e9bd04b7
DTSTART;VALUE=DATE:20260501
DTEND;VALUE=DATE:20260502
DESCRIPTION:
LOCATION:
SUMMARY:BJHS Color Run
END:VEVENT
BEGIN:VEVENT
DTSTAMP:20260419T204409Z
UID:ac6b593d-1ddf-4761-87e2-4eb528458f15
DTSTART:20260505T080000
DTEND:20260505T120000
DESCRIPTION:
LOCATION:
SUMMARY:AP Human Geography Test
END:VEVENT
BEGIN:VEVENT
DTSTAMP:20260419T204409Z
UID:0fc0082c-b38d-431c-a389-237c5b2f7eb6
DTSTART:20260511T124500
DTEND:20260511T200000
DESCRIPTION:
LOCATION:
SUMMARY:Choir - BJHS Student Cabaret @ BJHS Black Box (Applicable Students)
END:VEVENT
BEGIN:VEVENT
DTSTAMP:20260419T204409Z
UID:0feb7b1b-9746-4104-a478-940337d62bc7
DTSTART;VALUE=DATE:20260512
DTEND;VALUE=DATE:20260513
DESCRIPTION:
LOCATION:
SUMMARY:Fishing Derby
END:VEVENT
BEGIN:VEVENT
DTSTAMP:20260419T204409Z
UID:af3dd3b1-cd17-4ed0-8239-0f9b31ac7161
DTSTART:20260512T180000
DTEND:20260512T200000
DESCRIPTION:
LOCATION:
SUMMARY:Choir - BJHS Spring Concert @ BHS Love Auditorium (All Choirs)
END:VEVENT
BEGIN:VEVENT
DTSTAMP:20260419T204409Z
UID:39b3fa35-b010-49ce-9ff2-4e1326e80e30
DTSTART:20260514T120000
DTEND:20260514T153000
DESCRIPTION:
LOCATION:
SUMMARY:AP Comp Sci Principles
END:VEVENT
BEGIN:VEVENT
DTSTAMP:20260419T204409Z
UID:784f844e-7812-4f97-bdfa-2c160e76d5bd
DTSTART:20260514T180000
DTEND:20260514T200000
DESCRIPTION:
LOCATION:
SUMMARY:Band 8th & 9th - Spring Band Concert @ Love Auditorium HS Campus
END:VEVENT
BEGIN:VEVENT
DTSTAMP:20260419T204409Z
UID:c8fa73d9-43d5-4507-b294-c0d35ea5404c
DTSTART;VALUE=DATE:20260522
DTEND;VALUE=DATE:20260523
DESCRIPTION:
LOCATION:
SUMMARY:Last Day for Students
END:VEVENT
BEGIN:VEVENT
DTSTAMP:20260419T204409Z
UID:6e6f47c2-cc94-48f9-b35e-87f959691d44
DTSTART:20260806T130000
DTEND:20260806T140000
DESCRIPTION:
LOCATION:
SUMMARY:Band 8th / BJHS OPEN HOUSE - Bring Band Fees ($60) in Envelope with
  Student Name
END:VEVENT
BEGIN:VEVENT
DTSTAMP:20260419T204409Z
UID:f391dd34-5278-4c7a-a78f-522064ccee9b
DTSTART:20260812T074500
DTEND:20260812T084500
DESCRIPTION:
LOCATION:
SUMMARY:Band / First Day of School (Bring Your Instrument / Binder)
END:VEVENT
BEGIN:VEVENT
DTSTAMP:20260419T204409Z
UID:d350ec29-4b9f-4569-a8db-7d59c43ffac3
DTSTART:20260917T170000
DTEND:20260917T183000
DESCRIPTION:
LOCATION:
SUMMARY:Band 8th /  8FB @ Everett Field / Wear Uniform Blue vs Conway
END:VEVENT
BEGIN:VEVENT
DTSTAMP:20260419T204409Z
UID:bbca261f-65ec-4d8c-bc2c-670315add309
DTSTART:20261001T184000
DTEND:20261001T204000
DESCRIPTION:
LOCATION:
SUMMARY:Band / FB Hornet Bowl @ Everett Field / Wear Uniform
END:VEVENT
BEGIN:VEVENT
DTSTAMP:20260419T204409Z
UID:ad866b3f-7d82-456b-b611-ad2f2f1e0e6f
DTSTART:20261008T171500
DTEND:20261008T191500
DESCRIPTION:
LOCATION:
SUMMARY:Band 8th / 8FB @ Everett Field / Wear Uniform / White vs Benton
END:VEVENT
BEGIN:VEVENT
DTSTAMP:20260419T204409Z
UID:bd2fe15b-dc42-4126-9216-aaa929b94be6
DTSTART:20261021T090000
DTEND:20261021T100000
DESCRIPTION:
LOCATION:
SUMMARY:Band 8th / Legacy Showcase / Everett Hornet Stadium
END:VEVENT
BEGIN:VEVENT
DTSTAMP:20260419T204409Z
UID:0c3db953-f415-4eb3-9a4a-b3746baa83f1
DTSTART:20261102T153000
DTEND:20261102T161500
DESCRIPTION:
LOCATION:
SUMMARY:Band 8th / *All Region Classes - T-Bone\, Euph\, Tuba\, Perc
END:VEVENT
BEGIN:VEVENT
DTSTAMP:20260419T204409Z
UID:2145671e-1794-4d61-a260-0d1cc4ff298f
DTSTART:20261103T151500
DTEND:20261103T161500
DESCRIPTION:
LOCATION:
SUMMARY:Band 8th / Fundraiser - Afterschool in Cafe (Bring Phone)
END:VEVENT
BEGIN:VEVENT
DTSTAMP:20260419T204409Z
UID:8db9901f-964d-4c42-af6b-0aa61f13ed3f
DTSTART:20261105T080000
DTEND:20261105T090000
DESCRIPTION:
LOCATION:
SUMMARY:Band 8th / Band Pictures / Wear Black Pants/Black Shoes/Band Polo /
  During Students' Class Time
END:VEVENT
BEGIN:VEVENT
DTSTAMP:20260419T204409Z
UID:8fed7512-cc44-4659-b0cb-f845e9e9549b
DTSTART:20261109T080000
DTEND:20261109T151500
DESCRIPTION:
LOCATION:
SUMMARY:Band 8th / All Region Jazz Auditions - All Day
END:VEVENT
BEGIN:VEVENT
DTSTAMP:20260419T204409Z
UID:05a6fe6e-7a11-462e-a263-d6f84f6519e5
DTSTART:20261110T080000
DTEND:20261110T090000
DESCRIPTION:
LOCATION:
SUMMARY:Band 8th / Step Up Meeting for New Instrument - BJHS Bandroom (Sign
  Up)
END:VEVENT
BEGIN:VEVENT
DTSTAMP:20260419T204409Z
UID:63401aea-3357-4bdf-a63a-6606edc30191
DTSTART:20261110T153000
DTEND:20261110T161500
DESCRIPTION:
LOCATION:
SUMMARY:Band 8th / *All Region Classes / T-bone\, Euph\, Tuba\, Perc
END:VEVENT
BEGIN:VEVENT
DTSTAMP:20260419T204409Z
UID:e2b2051d-de99-4809-a7ae-3b6bad70b4eb
DTSTART:20261112T153000
DTEND:20261112T170000
DESCRIPTION:
LOCATION:
SUMMARY: Band 8th / *All Region Classes / Clarinet\, Sax\, Trumpet (3:30-4:
 15) Flute\, Bass Clarinet\, Horn (4:15-5:00)
END:VEVENT
BEGIN:VEVENT
DTSTAMP:20260419T204409Z
UID:4c2612f0-d920-444f-ad59-a2650ae0c9ad
DTSTART:20261113T080000
DTEND:20261113T150000
DESCRIPTION:
LOCATION:
SUMMARY:Band 8th / All Region Jazz Clinic (continues on Saturday)
END:VEVENT
BEGIN:VEVENT
DTSTAMP:20260419T204409Z
UID:433926f3-9e17-426c-8924-b027762dc387
DTSTART:20261114T080000
DTEND:20261114T150000
DESCRIPTION:
LOCATION:
SUMMARY:Band 8th / All Region Jazz Clinic (continues on Saturday)
END:VEVENT
BEGIN:VEVENT
DTSTAMP:20260419T204409Z
UID:d92a553b-167b-44e2-b906-69c49c43d39c
DTSTART:20261117T153000
DTEND:20261117T161500
DESCRIPTION:
LOCATION:
SUMMARY:Band 8th / *All Region Classes - T-Bone\, Euph\, Tuba\, Perc
END:VEVENT
BEGIN:VEVENT
DTSTAMP:20260419T204409Z
UID:86e6c245-ae7a-43c8-80b9-2ea56456083a
DTSTART:20261119T153000
DTEND:20261119T163000
DESCRIPTION:
LOCATION:
SUMMARY:Band 8th / *All Region Classes - Clarinet\, Sax\, Trumpet
END:VEVENT
BEGIN:VEVENT
DTSTAMP:20260419T204409Z
UID:0c89cec9-b92a-4146-af05-fbac3b9313f7
DTSTART:20261119T161500
DTEND:20261119T170000
DESCRIPTION:
LOCATION:
SUMMARY:Band 8th / *All Region Classes - Flute\, Bass Clarinet\, Horn
END:VEVENT
BEGIN:VEVENT
DTSTAMP:20260419T204409Z
UID:07320d19-44a8-48d1-a9b9-35ac264d19b9
DTSTART:20261201T153000
DTEND:20261201T161500
DESCRIPTION:
LOCATION:
SUMMARY:Band 8th / *All Region Classes - T-bone\, Euph\, Tuba\, Perc
END:VEVENT
BEGIN:VEVENT
DTSTAMP:20260419T204409Z
UID:469127ba-3a17-4866-9cb8-70b6deae6737
DTSTART:20261203T153000
DTEND:20261203T161500
DESCRIPTION:
LOCATION:
SUMMARY:Band 8th / *All Region Classes - Clarinet\, Sax\, Trumpet
END:VEVENT
BEGIN:VEVENT
DTSTAMP:20260419T204409Z
UID:d3745837-6bf7-4d9e-a068-ede1115c59b6
DTSTART:20261203T161500
DTEND:20261203T170000
DESCRIPTION:
LOCATION:
SUMMARY:Band 8th / *All Region Classes - Bass\, Clarinet\, Horn
END:VEVENT
BEGIN:VEVENT
DTSTAMP:20260419T204409Z
UID:c681068b-b2c5-4ed6-8366-89b9f10caf60
DTSTART:20261207T183000
DTEND:20261207T193000
DESCRIPTION:
LOCATION:
SUMMARY:Band 8th / Christmas Jazz Band @ Love Auditorium HS Campus
END:VEVENT
BEGIN:VEVENT
DTSTAMP:20260419T204409Z
UID:c17e622b-bc2f-4f88-86bd-c7e33a133815
DTSTART:20261208T180000
DTEND:20261208T200000
DESCRIPTION:
LOCATION:
SUMMARY:Band 8th / Christmas Band Concert @ Love Auditorium HS Campus
END:VEVENT
BEGIN:VEVENT
DTSTAMP:20260419T204409Z
UID:6a750fe5-389b-42b7-9fe0-870fd567be42
DTSTART:20261210T153000
DTEND:20261210T161500
DESCRIPTION:
LOCATION:
SUMMARY:Band 8th / *All Region Classes - Clarinet\, Sax\, Trumpet
END:VEVENT
BEGIN:VEVENT
DTSTAMP:20260419T204409Z
UID:f70221c3-6a0e-46d5-908a-4e3d791818ca
DTSTART:20261210T161500
DTEND:20261210T170000
DESCRIPTION:
LOCATION:
SUMMARY:Band 8th / *All Region Classes - Flute\, Bass Clarinet\, Horn
END:VEVENT
BEGIN:VEVENT
DTSTAMP:20260419T204409Z
UID:e7cbef50-2a29-48d8-bdd7-49649e1a6403
DTSTART:20261212T070000
DTEND:20261212T173000
DESCRIPTION:
LOCATION:
SUMMARY:Band 8th / *All Region Tryouts @ Robinson Middle School
END:VEVENT
BEGIN:VEVENT
DTSTAMP:20260419T204409Z
UID:9605f14e-44bd-49b5-9615-09527ef39c49
DTSTART:20270223T190000
DTEND:20270223T200000
DESCRIPTION:
LOCATION:
SUMMARY:Band 8th / PreAssessment concert @ LOVE Auditorium HS Campus
END:VEVENT
BEGIN:VEVENT
DTSTAMP:20260419T204409Z
UID:9a647ea2-c982-4c8d-afd8-761e4e937b1b
DTSTART:20270311T090000
DTEND:20270311T100000
DESCRIPTION:
LOCATION:
SUMMARY:Band 8th / Region Concert Assessment @ Bryant HS / Time is TBA
END:VEVENT
BEGIN:VEVENT
DTSTAMP:20260419T204409Z
UID:65499d7c-fbe2-4d09-b3ea-acd388c215f2
DTSTART:20270312T090000
DTEND:20270312T100000
DESCRIPTION:
LOCATION:
SUMMARY:Band 8th / Region Concert Assessment @ Bryant HS / Time is TBA
END:VEVENT
BEGIN:VEVENT
DTSTAMP:20260419T204409Z
UID:3ce2d9d2-2483-456a-9dca-ed03ebb584af
DTSTART:20270513T180000
DTEND:20270513T200000
DESCRIPTION:
LOCATION:
SUMMARY:Band 8th / Spring Band Concert @ Love Auditorium High School Campus
END:VEVENT
END:VCALENDAR
