BEGIN:VCALENDAR
VERSION:2.0
PRODID:icalendar-ruby
CALSCALE:GREGORIAN
BEGIN:VTIMEZONE
TZID:America/New_York
BEGIN:DAYLIGHT
DTSTART:20260308T030000
TZOFFSETFROM:-0500
TZOFFSETTO:-0400
RRULE:FREQ=YEARLY;BYDAY=2SU;BYMONTH=3
TZNAME:EDT
END:DAYLIGHT
BEGIN:STANDARD
DTSTART:20261101T010000
TZOFFSETFROM:-0400
TZOFFSETTO:-0500
RRULE:FREQ=YEARLY;BYDAY=1SU;BYMONTH=11
TZNAME:EST
END:STANDARD
END:VTIMEZONE
BEGIN:VEVENT
DTSTAMP:20260422T084851Z
UID:d253ff00-6f83-4bba-9a19-a15146e4333c
DTSTART;VALUE=DATE:20260422
DTEND;VALUE=DATE:20260423
DESCRIPTION:
LOCATION:
SUMMARY:Gr\, 3\, 4\, & 5 ILEARN testing (Gr. 3: ELA & Math\; Gr. 4: ELA\, M
 ath\, SC\; Gr. 5: ELA\, Math\, SS)
END:VEVENT
BEGIN:VEVENT
DTSTAMP:20260422T084851Z
UID:2b2d7acf-2bd5-419a-a667-29cc93456358
DTSTART:20260422T150000
DTEND:20260422T150000
DESCRIPTION:
LOCATION:
SUMMARY:Early release
END:VEVENT
BEGIN:VEVENT
DTSTAMP:20260422T084851Z
UID:1d6d6ff5-a758-4a1b-b21e-dfdd2bde99e3
DTSTART;VALUE=DATE:20260423
DTEND;VALUE=DATE:20260424
DESCRIPTION:
LOCATION:
SUMMARY:Gr\, 3\, 4\, & 5 ILEARN testing (Gr. 3: ELA & Math\; Gr. 4: ELA\, M
 ath\, SC\; Gr. 5: ELA\, Math\, SS)
END:VEVENT
BEGIN:VEVENT
DTSTAMP:20260422T084851Z
UID:95125b23-4c2e-49d3-8e5c-81213295a36c
DTSTART;VALUE=DATE:20260424
DTEND;VALUE=DATE:20260425
DESCRIPTION:<p><span>“Baseball &amp\; Softball Spirit Day” - Students a
 re welcome to wear their baseball and softball jerseys if they are playing
  travel\, rec\, or their favorite team this spring!</span></p>
LOCATION:120 Center St\, Whiteland\, IN 46184\, USA
SUMMARY:Baseball & Softball Spirit Day
END:VEVENT
BEGIN:VEVENT
DTSTAMP:20260422T084851Z
UID:8c503f92-0dea-4e78-a204-475e21a03176
DTSTART;VALUE=DATE:20260424
DTEND;VALUE=DATE:20260425
DESCRIPTION:
LOCATION:
SUMMARY:Gr\, 3\, 4\, & 5 ILEARN testing (Gr. 3: ELA & Math\; Gr. 4: ELA\, M
 ath\, SC\; Gr. 5: ELA\, Math\, SS)
END:VEVENT
BEGIN:VEVENT
DTSTAMP:20260422T084851Z
UID:bb1e8f1b-306a-4fee-ab4d-ac137792f6ec
DTSTART;VALUE=DATE:20260427
DTEND;VALUE=DATE:20260428
DESCRIPTION:
LOCATION:
SUMMARY:Gr\, 3\, 4\, & 5 ILEARN testing (Gr. 3: ELA & Math\; Gr. 4: ELA\, M
 ath\, SC\; Gr. 5: ELA\, Math\, SS)
END:VEVENT
BEGIN:VEVENT
DTSTAMP:20260422T084851Z
UID:026134c8-569b-46a9-b412-a6d79fe0206e
DTSTART;VALUE=DATE:20260427
DTEND;VALUE=DATE:20260502
DESCRIPTION:
LOCATION:
SUMMARY:Spring Book Fair Week
END:VEVENT
BEGIN:VEVENT
DTSTAMP:20260422T084851Z
UID:d990a30c-36db-414f-a8f8-5fe50b2954d6
DTSTART:20260427T080000
DTEND:20260427T084500
DESCRIPTION:<p><span>April Book Club from 8:00 - 8:50 AM. &nbsp\;This meeti
 ng will be for all grades and we will be reading the book entitled "Scribb
 le Stones" by Diane Alber and painting rocks to place in our WES garden.&n
 bsp\; Drop-off will be in the WES car line beginning at 7:55 AM.&nbsp\; If
  your children attend Honey Grove\, they may still participate\, just let 
 Honey Grove that they will be attending book club.&nbsp\; Please sign up i
 f your child plans to attend at the link below.&nbsp\; </span><a target="_
 blank" rel="noopener noreferrer nofollow" href="https://email-link.parents
 quare.com/ls/click?upn=u001.GRtUL4A0KmqqG52D3lnYZ2LL0LZtK5hR4a3li2ISf2ObJ-
 2Fj0aJDKoxR7GJJL0CaF-kcO_XXI36e-2B80Sf1gmRYbvcbs49AS1gzCiFINU9QiFeXq799NH6
 tYhdvuwZKBqJ1W-2B90IoSZSj4J3bBe-2FKpmU9-2F74UImc-2FvXSM5yJvGkrEff12jo2wFDN
 G6360MSWqraxWgX-2FgGVyFuBM-2FPnUvMl76nQCPN1rDv8BSM-2Fl9CFEkIcfjBD5ULv79Zbx
 6l0xPnbaq2d-2B-2BJraewabrVMI-2BXDUaRDcRwtmXnafAADzmVmxS1-2Buoma2ypiI4W-2BP
 QexpEO-2Br8fspQKv-2FvCMg4-2FRbLqvQXVefg-3D-3D"><span>April Book Club Link&
 nbsp\;</span></a></p>
LOCATION:
SUMMARY:April Book Club
END:VEVENT
BEGIN:VEVENT
DTSTAMP:20260422T084851Z
UID:256804b4-b0c3-449c-b368-81a33682c5f0
DTSTART;VALUE=DATE:20260428
DTEND;VALUE=DATE:20260429
DESCRIPTION:
LOCATION:
SUMMARY:Gr\, 3\, 4\, & 5 ILEARN testing (Gr. 3: ELA & Math\; Gr. 4: ELA\, M
 ath\, SC\; Gr. 5: ELA\, Math\, SS)
END:VEVENT
BEGIN:VEVENT
DTSTAMP:20260422T084851Z
UID:4daaeb6c-618b-4bf7-83c4-3667108cce5d
DTSTART;VALUE=DATE:20260429
DTEND;VALUE=DATE:20260430
DESCRIPTION:
LOCATION:
SUMMARY:Gr\, 3\, 4\, & 5 ILEARN testing (Gr. 3: ELA & Math\; Gr. 4: ELA\, M
 ath\, SC\; Gr. 5: ELA\, Math\, SS)
END:VEVENT
BEGIN:VEVENT
DTSTAMP:20260422T084851Z
UID:442b9088-f1f3-49cb-b5b1-d6acebe8b1ea
DTSTART:20260429T083000
DTEND:20260429T120000
DESCRIPTION:
LOCATION:
SUMMARY:Skilled Trade Fair
END:VEVENT
BEGIN:VEVENT
DTSTAMP:20260422T084851Z
UID:73bf9ea6-d102-4d74-ac40-1763f20b363d
DTSTART:20260429T150000
DTEND:20260429T150000
DESCRIPTION:
LOCATION:
SUMMARY:Early release
END:VEVENT
BEGIN:VEVENT
DTSTAMP:20260422T084851Z
UID:2aefa93f-c49a-40e5-b70a-51cfda20601d
DTSTART;VALUE=DATE:20260430
DTEND;VALUE=DATE:20260501
DESCRIPTION:
LOCATION:
SUMMARY:Gr\, 3\, 4\, & 5 ILEARN testing (Gr. 3: ELA & Math\; Gr. 4: ELA\, M
 ath\, SC\; Gr. 5: ELA\, Math\, SS)
END:VEVENT
BEGIN:VEVENT
DTSTAMP:20260422T084851Z
UID:21237d49-17df-451b-918b-621805f3742b
DTSTART:20260430T170000
DTEND:20260430T183000
DESCRIPTION:
LOCATION:
SUMMARY:Art Show & Book Fair
END:VEVENT
BEGIN:VEVENT
DTSTAMP:20260422T084851Z
UID:c1823c01-d7d6-495f-8d51-7645f20e855a
DTSTART:20260430T180000
DTEND:20260430T200000
DESCRIPTION:
LOCATION:Glenn Ray
SUMMARY:Academic & Department Awards
END:VEVENT
BEGIN:VEVENT
DTSTAMP:20260422T084851Z
UID:fb90ad42-4d38-42a3-b327-9e48ec3f3bc9
DTSTART:20260430T183000
DTEND:20260430T193000
DESCRIPTION:
LOCATION:
SUMMARY:1st Grade Music Program
END:VEVENT
BEGIN:VEVENT
DTSTAMP:20260422T084851Z
UID:ee8d60ff-576c-4e2a-a415-2bfbc07b75c6
DTSTART;VALUE=DATE:20260501
DTEND;VALUE=DATE:20260502
DESCRIPTION:<p><span>Book Fair Information: </span><a target="_blank" rel="
 noopener noreferrer nofollow" href="https://bookfairs.scholastic.com/bf/wh
 itelandelementaryschool3"><span>https://bookfairs.scholastic.com/bf/whitel
 andelementaryschool3</span></a><span>&nbsp\;</span></p>
LOCATION:
SUMMARY:Book Fair opens
END:VEVENT
BEGIN:VEVENT
DTSTAMP:20260422T084851Z
UID:97b275f8-1710-465d-b92d-c85c7748c878
DTSTART;VALUE=DATE:20260501
DTEND;VALUE=DATE:20260502
DESCRIPTION:
LOCATION:
SUMMARY:Gr\, 3\, 4\, & 5 ILEARN testing (Gr. 3: ELA & Math\; Gr. 4: ELA\, M
 ath\, SC\; Gr. 5: ELA\, Math\, SS)
END:VEVENT
BEGIN:VEVENT
DTSTAMP:20260422T084851Z
UID:ea81a135-7139-4a1d-a808-717b87f79446
DTSTART;VALUE=DATE:20260501
DTEND;VALUE=DATE:20260502
DESCRIPTION:
LOCATION:
SUMMARY:Kona Ice Truck at WES
END:VEVENT
BEGIN:VEVENT
DTSTAMP:20260422T084851Z
UID:8f6f4663-a88c-4558-86dc-312c691dded8
DTSTART;VALUE=DATE:20260504
DTEND;VALUE=DATE:20260509
DESCRIPTION:
LOCATION:
SUMMARY:Teacher Appreciation Week
END:VEVENT
BEGIN:VEVENT
DTSTAMP:20260422T084851Z
UID:72794ab1-8f4c-4394-9e96-9354c7a78320
DTSTART;VALUE=DATE:20260504
DTEND;VALUE=DATE:20260505
DESCRIPTION:
LOCATION:
SUMMARY:Gr\, 3\, 4\, & 5 ILEARN testing (Gr. 3: ELA & Math\; Gr. 4: ELA\, M
 ath\, SC\; Gr. 5: ELA\, Math\, SS)
END:VEVENT
BEGIN:VEVENT
DTSTAMP:20260422T084851Z
UID:2598514b-9f07-438f-857b-0aae2dedd585
DTSTART;VALUE=DATE:20260504
DTEND;VALUE=DATE:20260509
DESCRIPTION:
LOCATION:
SUMMARY:PTO's Staff Appreciation Week!
END:VEVENT
BEGIN:VEVENT
DTSTAMP:20260422T084851Z
UID:03370510-f919-4ff2-9cef-54381da15100
DTSTART;VALUE=DATE:20260505
DTEND;VALUE=DATE:20260506
DESCRIPTION:
LOCATION:
SUMMARY:Gr\, 3\, 4\, & 5 ILEARN testing (Gr. 3: ELA & Math\; Gr. 4: ELA\, M
 ath\, SC\; Gr. 5: ELA\, Math\, SS)
END:VEVENT
BEGIN:VEVENT
DTSTAMP:20260422T084851Z
UID:bafb4784-47a8-4cd7-a296-41fea279acc2
DTSTART:20260505T074500
DTEND:20260505T083000
DESCRIPTION:
LOCATION:
SUMMARY:Breakfast Buddies
END:VEVENT
BEGIN:VEVENT
DTSTAMP:20260422T084851Z
UID:4e11d608-1a32-4579-8141-2491431c9e0c
DTSTART;VALUE=DATE:20260506
DTEND;VALUE=DATE:20260507
DESCRIPTION:
LOCATION:
SUMMARY:Gr\, 3\, 4\, & 5 ILEARN testing (Gr. 3: ELA & Math\; Gr. 4: ELA\, M
 ath\, SC\; Gr. 5: ELA\, Math\, SS)
END:VEVENT
BEGIN:VEVENT
DTSTAMP:20260422T084851Z
UID:2bf42f31-a894-4161-927a-95d56153d17d
DTSTART:20260506T150000
DTEND:20260506T150000
DESCRIPTION:
LOCATION:
SUMMARY:Early release
END:VEVENT
BEGIN:VEVENT
DTSTAMP:20260422T084851Z
UID:6565fe51-d2bf-4fdc-934e-03fda8b9b882
DTSTART;VALUE=DATE:20260507
DTEND;VALUE=DATE:20260508
DESCRIPTION:
LOCATION:
SUMMARY:Gr\, 3\, 4\, & 5 ILEARN testing (Gr. 3: ELA & Math\; Gr. 4: ELA\, M
 ath\, SC\; Gr. 5: ELA\, Math\, SS)
END:VEVENT
BEGIN:VEVENT
DTSTAMP:20260422T084851Z
UID:9e2e1eff-85dd-47ff-9ec9-14cf8960c60a
DTSTART:20260507T100000
DTEND:20260507T190000
DESCRIPTION:
LOCATION:
SUMMARY:2026-2027 Registration Day
END:VEVENT
BEGIN:VEVENT
DTSTAMP:20260422T084851Z
UID:5d6efa80-e456-4737-ab91-e2df7fd26004
DTSTART:20260507T173000
DTEND:20260507T193000
DESCRIPTION:
LOCATION:
SUMMARY:Book Fair
END:VEVENT
BEGIN:VEVENT
DTSTAMP:20260422T084851Z
UID:873f3c2a-5c80-4bfb-833d-60bfac58ef48
DTSTART:20260507T173000
DTEND:20260507T193000
DESCRIPTION:
LOCATION:
SUMMARY:Fine Arts Night
END:VEVENT
BEGIN:VEVENT
DTSTAMP:20260422T084851Z
UID:1156b090-5cf0-4df4-b1a8-10d85b2f47c5
DTSTART:20260507T180000
DTEND:20260507T190000
DESCRIPTION:
LOCATION:
SUMMARY:Gr. 1 Music Program
END:VEVENT
BEGIN:VEVENT
DTSTAMP:20260422T084851Z
UID:f17956f3-4a11-42db-a02f-2f826a80569b
DTSTART:20260507T180000
DTEND:20260507T200000
DESCRIPTION:
LOCATION:
SUMMARY:Scholars' Banquet
END:VEVENT
BEGIN:VEVENT
DTSTAMP:20260422T084851Z
UID:78765347-8172-480b-a21e-ad60ed73bfff
DTSTART:20260507T193000
DTEND:20260507T200000
DESCRIPTION:<p>A new recognition program where our Warrior tribe celebrates
  growth\, grit\, and greatness\; by invite only.</p>
LOCATION:
SUMMARY:Circle of Scholars
END:VEVENT
BEGIN:VEVENT
DTSTAMP:20260422T084851Z
UID:e6bb63d6-11c0-4f8c-8bab-5db496574ffa
DTSTART;VALUE=DATE:20260508
DTEND;VALUE=DATE:20260509
DESCRIPTION:
LOCATION:
SUMMARY:Gr\, 3\, 4\, & 5 ILEARN testing (Gr. 3: ELA & Math\; Gr. 4: ELA\, M
 ath\, SC\; Gr. 5: ELA\, Math\, SS)
END:VEVENT
BEGIN:VEVENT
DTSTAMP:20260422T084851Z
UID:d191c375-f739-453a-85bb-873ff785f47b
DTSTART:20260508T100000
DTEND:20260508T103000
DESCRIPTION:
LOCATION:
SUMMARY:Kindergarten Special Person Day
END:VEVENT
BEGIN:VEVENT
DTSTAMP:20260422T084851Z
UID:9d128a65-6f2c-464a-afc5-32bf5b232551
DTSTART:20260508T170000
DTEND:20260508T200000
DESCRIPTION:
LOCATION:
SUMMARY:RCES Carnival
END:VEVENT
BEGIN:VEVENT
DTSTAMP:20260422T084851Z
UID:9622699b-d1ae-4b39-96bf-aefd01bf98f1
DTSTART:20260509T193000
DTEND:20260509T230000
DESCRIPTION:
LOCATION:The Crane Bay Event Center\, 551 W Merrill St\, Indianapolis\, IN 
 46225\, USA
SUMMARY:Prom
END:VEVENT
BEGIN:VEVENT
DTSTAMP:20260422T084851Z
UID:c04d6cd8-a530-471d-b681-1912a72a8515
DTSTART:20260511T180000
DTEND:20260511T200000
DESCRIPTION:<p><span><strong>CPMS &amp\; WCHS Annual Physical Night</strong
 > from 6:00-8:00 p.m. at Clark-Pleasant Middle School - All incoming 6th g
 raders will need to be registered in Final Forms (directions attached as w
 ell) and have an updated athletic physical in order to participate in Summ
 er activities</span></p><ol><li><p><a target="_blank" rel="noopener norefe
 rrer nofollow" href="https://drive.google.com/file/d/14Q5zBzZztWWbXrtj4Vh_
 z1a91ZSmr31E/view?usp=sharing"><span>Physical Night Flyer.pdf</span></a></
 p></li><li><p><a target="_blank" rel="noopener noreferrer nofollow" href="
 https://drive.google.com/file/d/1g8Cy9YZ08RrdBDCvHAhIh1IslbAcNarj/view?usp
 =sharing"><span>Parent Playbook - Clark-Pleasant.pdf</span></a><span> - Al
 l gr. 6-12 parents need to sign up for Final Forms if you have a child tha
 t might be interested in playing a sport for CPMS or WCHS.&nbsp\;</span></
 p></li></ol>
LOCATION:
SUMMARY:Annual Physical Night
END:VEVENT
BEGIN:VEVENT
DTSTAMP:20260422T084851Z
UID:d01a42c0-98ab-4dcb-8e41-c883dcb7b253
DTSTART:20260511T190000
DTEND:20260511T210000
DESCRIPTION:
LOCATION:
SUMMARY:WCHS Graduation Awards
END:VEVENT
BEGIN:VEVENT
DTSTAMP:20260422T084851Z
UID:36a3bd97-3446-4891-b3cd-1f6244d13e24
DTSTART:20260513T150000
DTEND:20260513T150000
DESCRIPTION:
LOCATION:
SUMMARY:Early release
END:VEVENT
BEGIN:VEVENT
DTSTAMP:20260422T084851Z
UID:f9629ca6-1ba8-4b58-8253-13bca506f14c
DTSTART:20260514T180000
DTEND:20260514T190000
DESCRIPTION:
LOCATION:
SUMMARY:Gr. 4 Program and Wax Museum
END:VEVENT
BEGIN:VEVENT
DTSTAMP:20260422T084851Z
UID:2cffdce7-ab92-4271-8d91-c10a0968024e
DTSTART:20260514T183000
DTEND:20260514T193000
DESCRIPTION:
LOCATION:
SUMMARY:5th Grade Music Program
END:VEVENT
BEGIN:VEVENT
DTSTAMP:20260422T084851Z
UID:50e2bbd1-868d-4e92-8de8-5d0a14f0e7a9
DTSTART:20260518T180000
DTEND:20260518T190000
DESCRIPTION:
LOCATION:50 Center St\, Whiteland\, IN 46184\, USA
SUMMARY:School  Board Meeting Executive Session
END:VEVENT
BEGIN:VEVENT
DTSTAMP:20260422T084851Z
UID:d7ab5ca9-ce67-4917-bd9e-62ee1ee4b055
DTSTART:20260518T190000
DTEND:20260518T210000
DESCRIPTION:
LOCATION:50 Center St\, Whiteland\, IN 46184\, USA
SUMMARY:School Board Meeting
END:VEVENT
BEGIN:VEVENT
DTSTAMP:20260422T084851Z
UID:38e7256e-b93c-46f4-8c19-68753ee9f45e
DTSTART:20260519T190000
DTEND:20260519T210000
DESCRIPTION:<p>Special Event hosted by Clark-Pleasant Education Foundation 
 where graduating Seniors thank CPCSC employees who have made a difference 
 in their lives. Refreshments will be served and invitations will be sent o
 ut in advance.</p>
LOCATION:50 Center St\, Whiteland\, IN 46184\, USA
SUMMARY:Legacy Awards
END:VEVENT
BEGIN:VEVENT
DTSTAMP:20260422T084851Z
UID:f5f6a08f-b17b-4fd6-b632-202379e186c8
DTSTART:20260520T150000
DTEND:20260520T150000
DESCRIPTION:
LOCATION:
SUMMARY:Early release
END:VEVENT
BEGIN:VEVENT
DTSTAMP:20260422T084851Z
UID:ad9f7ec5-2002-44c2-a29b-cd67a926fe7d
DTSTART:20260521T190000
DTEND:20260521T203000
DESCRIPTION:
LOCATION:glenn Ray
SUMMARY:CPA Graduation
END:VEVENT
BEGIN:VEVENT
DTSTAMP:20260422T084851Z
UID:d8d20197-a27e-43c7-a4c5-a75c4cadf168
DTSTART;VALUE=DATE:20260522
DTEND;VALUE=DATE:20260523
DESCRIPTION:<p>Career Fair: 9:30-1:30</p><p>WW Raffle - Awards given to stu
 dents around 1:30</p><p>Talent Show begins @ 2:30 </p>
LOCATION:
SUMMARY:Career Fair\, WW Raffle\, Talent Show
END:VEVENT
BEGIN:VEVENT
DTSTAMP:20260422T084851Z
UID:001fdaa8-4227-40f2-820a-e594dffe57cb
DTSTART;VALUE=DATE:20260522
DTEND;VALUE=DATE:20260523
DESCRIPTION:
LOCATION:
SUMMARY:Field Day
END:VEVENT
BEGIN:VEVENT
DTSTAMP:20260422T084851Z
UID:630eefae-7e69-415c-abe4-335a50ea1723
DTSTART;VALUE=DATE:20260525
DTEND;VALUE=DATE:20260526
DESCRIPTION:
LOCATION:
SUMMARY:Memorial Day - No School
END:VEVENT
BEGIN:VEVENT
DTSTAMP:20260422T084851Z
UID:4a0a4db1-9319-4061-a795-59b3031480a5
DTSTART;VALUE=DATE:20260525
DTEND;VALUE=DATE:20260526
DESCRIPTION:
LOCATION:
SUMMARY:No school in observance of Memorial Day
END:VEVENT
BEGIN:VEVENT
DTSTAMP:20260422T084851Z
UID:2ec3001f-35a9-4b85-8e9b-91033cf686e0
DTSTART;VALUE=DATE:20260526
DTEND;VALUE=DATE:20260527
DESCRIPTION:
LOCATION:
SUMMARY:Field Day Rain Date
END:VEVENT
BEGIN:VEVENT
DTSTAMP:20260422T084851Z
UID:6786c663-1cd0-4bea-9daa-092e4cb90a3d
DTSTART;VALUE=DATE:20260526
DTEND;VALUE=DATE:20260527
DESCRIPTION:
LOCATION:
SUMMARY:Field Day - Rain or Shine!
END:VEVENT
BEGIN:VEVENT
DTSTAMP:20260422T084851Z
UID:40dbef30-5af9-4f52-87ef-3442c32fb458
DTSTART:20260527T150000
DTEND:20260527T150000
DESCRIPTION:
LOCATION:
SUMMARY:Early release
END:VEVENT
BEGIN:VEVENT
DTSTAMP:20260422T084851Z
UID:0610890b-06dd-4d44-8762-ddeea7f51592
DTSTART;VALUE=DATE:20260528
DTEND;VALUE=DATE:20260529
DESCRIPTION:
LOCATION:
SUMMARY:Last Day of School for Students
END:VEVENT
BEGIN:VEVENT
DTSTAMP:20260422T084851Z
UID:b02f5434-5bf6-4356-bdb3-2210196afbae
DTSTART;VALUE=DATE:20260528
DTEND;VALUE=DATE:20260529
DESCRIPTION:<p><span>Last Student Day - “A Day with the Stars of Whitelan
 d Elementary” Grade Level Awards Programs in Gym</span></p><ul><li><p><s
 pan>9:30 = Gr. 3&nbsp\;</span></p></li><li><p><span>10:30 = Gr. 2&nbsp\;</
 span></p></li><li><p><span>11:30 = Gr. 4&nbsp\;</span></p></li><li><p><spa
 n>12:30 = Kindergarten</span></p><ul><li><p><span>Kindergarten will sing t
 wo songs as a part of their end of year program</span></p></li></ul></li><
 li><p><span>12:30 = Pre-Kindergarten Program in Room 203</span></p></li><l
 i><p><span>1:30 = Gr. 1</span></p></li><li><p><span>2:30 = Gr. 5</span></p
 ><ul><li><p><span>Gr. 5 will sing one song as a “final performance” fo
 r elementary school&nbsp\;</span></p></li></ul></li><li><p><span>3:30 = Gr
 . 5 “Final Walk at WES” - Goodbye to elementary and hello to CPMS!</sp
 an></p></li></ul>
LOCATION:
SUMMARY:Grade Level Awards Program\; Last Day of School!
END:VEVENT
BEGIN:VEVENT
DTSTAMP:20260422T084851Z
UID:b270e273-6023-4619-826c-937aac20c138
DTSTART;VALUE=DATE:20260529
DTEND;VALUE=DATE:20260530
DESCRIPTION:
LOCATION:
SUMMARY:Teacher Work Day - No Students
END:VEVENT
BEGIN:VEVENT
DTSTAMP:20260422T084851Z
UID:5a7601ac-e9a3-4342-9e7c-e79b32331cce
DTSTART;VALUE=DATE:20260529
DTEND;VALUE=DATE:20260530
DESCRIPTION:
LOCATION:
SUMMARY:Graduation Practice
END:VEVENT
BEGIN:VEVENT
DTSTAMP:20260422T084851Z
UID:251cd1a8-1933-49e9-98fd-1fbe2f547a7f
DTSTART;VALUE=DATE:20260530
DTEND;VALUE=DATE:20260531
DESCRIPTION:
LOCATION:
SUMMARY:Graduation
END:VEVENT
BEGIN:VEVENT
DTSTAMP:20260422T084851Z
UID:20c01fae-aa83-4a24-814e-4a487f0b7680
DTSTART:20260603T150000
DTEND:20260603T150000
DESCRIPTION:
LOCATION:
SUMMARY:Early release
END:VEVENT
BEGIN:VEVENT
DTSTAMP:20260422T084851Z
UID:999a1839-a741-4de2-addc-ef3a14f8874b
DTSTART:20260610T150000
DTEND:20260610T150000
DESCRIPTION:
LOCATION:
SUMMARY:Early release
END:VEVENT
BEGIN:VEVENT
DTSTAMP:20260422T084851Z
UID:bf5b5d38-73b4-4034-94f0-add62c572cd3
DTSTART:20260615T180000
DTEND:20260615T190000
DESCRIPTION:
LOCATION:50 Center St\, Whiteland\, IN 46184\, USA
SUMMARY:School  Board Meeting Executive Session
END:VEVENT
BEGIN:VEVENT
DTSTAMP:20260422T084851Z
UID:32cb93dc-e248-46ea-86e5-103f56fbc41b
DTSTART:20260615T190000
DTEND:20260615T210000
DESCRIPTION:
LOCATION:50 Center St\, Whiteland\, IN 46184\, USA
SUMMARY:School Board Meeting
END:VEVENT
BEGIN:VEVENT
DTSTAMP:20260422T084851Z
UID:51f9781e-0377-40c4-ac9d-9b04b178acbc
DTSTART:20260617T150000
DTEND:20260617T150000
DESCRIPTION:
LOCATION:
SUMMARY:Early release
END:VEVENT
BEGIN:VEVENT
DTSTAMP:20260422T084851Z
UID:d4fa5862-b9d9-44e4-9d86-0d0ec1604f65
DTSTART:20260624T150000
DTEND:20260624T150000
DESCRIPTION:
LOCATION:
SUMMARY:Early release
END:VEVENT
BEGIN:VEVENT
DTSTAMP:20260422T084851Z
UID:efe98973-9ae0-477b-bf6a-1c8897ab8bf9
DTSTART:20260701T150000
DTEND:20260701T150000
DESCRIPTION:
LOCATION:
SUMMARY:Early release
END:VEVENT
BEGIN:VEVENT
DTSTAMP:20260422T084851Z
UID:cd9dbe53-9980-4c0e-b0e4-11fcd1d91e13
DTSTART:20260708T150000
DTEND:20260708T150000
DESCRIPTION:
LOCATION:
SUMMARY:Early release
END:VEVENT
BEGIN:VEVENT
DTSTAMP:20260422T084851Z
UID:30238e5c-4deb-44ad-8d94-bd6da6020686
DTSTART:20260715T150000
DTEND:20260715T150000
DESCRIPTION:
LOCATION:
SUMMARY:Early release
END:VEVENT
BEGIN:VEVENT
DTSTAMP:20260422T084851Z
UID:903a6377-081c-45a3-a802-9cb3560ae22d
DTSTART:20260720T180000
DTEND:20260720T190000
DESCRIPTION:
LOCATION:50 Center St\, Whiteland\, IN 46184\, USA
SUMMARY:School  Board Meeting Executive Session
END:VEVENT
BEGIN:VEVENT
DTSTAMP:20260422T084851Z
UID:ee987a5c-e32a-477c-8fe0-09e667dfa46b
DTSTART:20260720T190000
DTEND:20260720T210000
DESCRIPTION:
LOCATION:50 Center St\, Whiteland\, IN 46184\, USA
SUMMARY:School Board Meeting
END:VEVENT
BEGIN:VEVENT
DTSTAMP:20260422T084851Z
UID:44cb4481-d379-456f-8114-b272c7400da7
DTSTART:20260722T150000
DTEND:20260722T150000
DESCRIPTION:
LOCATION:
SUMMARY:Early release
END:VEVENT
BEGIN:VEVENT
DTSTAMP:20260422T084851Z
UID:b9e5daec-9875-4e0e-bbfb-342b4b240dda
DTSTART:20260729T150000
DTEND:20260729T150000
DESCRIPTION:
LOCATION:
SUMMARY:Early release
END:VEVENT
BEGIN:VEVENT
DTSTAMP:20260422T084851Z
UID:fc9540a5-8326-41d5-a88b-a8992f5740ae
DTSTART:20260817T180000
DTEND:20260817T190000
DESCRIPTION:
LOCATION:50 Center St\, Whiteland\, IN 46184\, USA
SUMMARY:School  Board Meeting Executive Session
END:VEVENT
BEGIN:VEVENT
DTSTAMP:20260422T084851Z
UID:e0275c7e-2440-4f93-935f-fdc1d525d4d9
DTSTART:20260817T190000
DTEND:20260817T210000
DESCRIPTION:
LOCATION:50 Center St\, Whiteland\, IN 46184\, USA
SUMMARY:School Board Meeting
END:VEVENT
BEGIN:VEVENT
DTSTAMP:20260422T084851Z
UID:f4542fb8-04f7-4d67-92a1-10ff640786ed
DTSTART:20260921T180000
DTEND:20260921T190000
DESCRIPTION:
LOCATION:50 Center St\, Whiteland\, IN 46184\, USA
SUMMARY:School  Board Meeting Executive Session
END:VEVENT
BEGIN:VEVENT
DTSTAMP:20260422T084851Z
UID:490ed6a7-3877-407c-8d80-1e339ba52504
DTSTART:20260921T190000
DTEND:20260921T210000
DESCRIPTION:
LOCATION:50 Center St\, Whiteland\, IN 46184\, USA
SUMMARY:School Board Meeting
END:VEVENT
BEGIN:VEVENT
DTSTAMP:20260422T084851Z
UID:0092825a-6fed-4d2a-8c05-5f93531a8566
DTSTART:20261019T180000
DTEND:20261019T190000
DESCRIPTION:
LOCATION:50 Center St\, Whiteland\, IN 46184\, USA
SUMMARY:School  Board Meeting Executive Session
END:VEVENT
BEGIN:VEVENT
DTSTAMP:20260422T084851Z
UID:6e6a385a-385f-457d-bbd1-141b66dfdd8b
DTSTART:20261019T190000
DTEND:20261019T210000
DESCRIPTION:
LOCATION:50 Center St\, Whiteland\, IN 46184\, USA
SUMMARY:School Board Meeting
END:VEVENT
BEGIN:VEVENT
DTSTAMP:20260422T084851Z
UID:d17007a3-b2b4-4216-9d39-fec9a78e715d
DTSTART:20261116T180000
DTEND:20261116T190000
DESCRIPTION:
LOCATION:50 Center St\, Whiteland\, IN 46184\, USA
SUMMARY:School  Board Meeting Executive Session
END:VEVENT
BEGIN:VEVENT
DTSTAMP:20260422T084851Z
UID:12fba410-5a73-4aa1-816d-41cf22cf8553
DTSTART:20261116T190000
DTEND:20261116T210000
DESCRIPTION:
LOCATION:50 Center St\, Whiteland\, IN 46184\, USA
SUMMARY:School Board Meeting
END:VEVENT
BEGIN:VEVENT
DTSTAMP:20260422T084851Z
UID:1debcfbc-8a75-4fc4-8cbf-1e8e74a0900b
DTSTART:20261214T180000
DTEND:20261214T190000
DESCRIPTION:
LOCATION:50 Center St\, Whiteland\, IN 46184\, USA
SUMMARY:School  Board Meeting Executive Session
END:VEVENT
BEGIN:VEVENT
DTSTAMP:20260422T084851Z
UID:0a9f0cf9-e5c9-4eb1-96b8-2acd142fb741
DTSTART:20261214T190000
DTEND:20261214T210000
DESCRIPTION:
LOCATION:50 Center St\, Whiteland\, IN 46184\, USA
SUMMARY:School Board Meeting
END:VEVENT
END:VCALENDAR
