BEGIN:VCALENDAR
VERSION:2.0
PRODID:icalendar-ruby
CALSCALE:GREGORIAN
BEGIN:VTIMEZONE
TZID:America/New_York
BEGIN:DAYLIGHT
DTSTART:20260308T030000
TZOFFSETFROM:-0500
TZOFFSETTO:-0400
RRULE:FREQ=YEARLY;BYDAY=2SU;BYMONTH=3
TZNAME:EDT
END:DAYLIGHT
BEGIN:STANDARD
DTSTART:20261101T010000
TZOFFSETFROM:-0400
TZOFFSETTO:-0500
RRULE:FREQ=YEARLY;BYDAY=1SU;BYMONTH=11
TZNAME:EST
END:STANDARD
END:VTIMEZONE
BEGIN:VEVENT
DTSTAMP:20260425T224515Z
UID:ea1e9d28-f6f7-432e-9dce-499e8de75e09
DTSTART:20260428T180000
DTEND:20260428T190000
DESCRIPTION:<p>Location: Patrick A. Torre Administration Building – Confe
 rence Room\, 4207 Route 516\, Matawan\, NJ 07747.&nbsp\; The purpose of th
 e meeting is to discuss food services/operations issues related to the dis
 trict. The public is invited to attend. Formal action will not be taken. <
 a target="_blank" rel="noopener noreferrer nofollow" href="https://aptg.co
 /Xh5Bdd" relative-link="">Click here for agenda</a></p>
LOCATION:
SUMMARY:Food Services/Operations Committee Metting
END:VEVENT
BEGIN:VEVENT
DTSTAMP:20260425T224515Z
UID:9c3fd74d-8c41-4c80-9c90-d569cebac35c
DTSTART:20260430T180000
DTEND:20260430T190000
DESCRIPTION:<p>Location: Patrick A. Torre Administration Building – Confe
 rence Room\, 4207 Route 516\, Matawan\, NJ 07747.  The purpose of the mee
 ting is to discuss curriculum/special education/student life issues relate
 d to the district. The public is invited to attend. Formal action will not
  be taken.</p>
LOCATION:
SUMMARY:Student Services Committee Meeting
END:VEVENT
BEGIN:VEVENT
DTSTAMP:20260425T224515Z
UID:5f6c1580-39b2-44a6-af57-cbdb8e509196
DTSTART:20260430T183000
DTEND:20260430T203000
DESCRIPTION:
LOCATION:OBHS Main Auditorium
SUMMARY:District Orchestra Festival
END:VEVENT
BEGIN:VEVENT
DTSTAMP:20260425T224515Z
UID:a6694e15-f6f0-4326-a0eb-f5e7fc0f03bc
DTSTART:20260501T183000
DTEND:20260501T203000
DESCRIPTION:
LOCATION:OBHS Main Auditorium
SUMMARY:District Band Festival
END:VEVENT
BEGIN:VEVENT
DTSTAMP:20260425T224515Z
UID:dd0e833f-af92-4293-8d23-46f6d9e9fe61
DTSTART:20260503T150000
DTEND:20260503T160000
DESCRIPTION:<p><span>Tickets on sale now!&nbsp\;Come watch your&nbsp\;princ
 ipals\, administrators\, and staff take the court&nbsp\;on&nbsp\;Team UKni
 ghted!&nbsp\; Wear your shirts to show your support! </span></p><p><span>W
 hen: May 3\, 2026</span><br><span>Time: 3:00 PM</span><br><span>Get your t
 ickets here:&nbsp\;</span><a target="_blank" rel="noopener noreferrer nofo
 llow" href="https://harlemwizardsinabox.com/game/event/matawannj05-03-26-0
 3-00pm/">https://harlemwizardsinabox.com/game/event/matawannj05-03-26-03-0
 0pm/</a></p>
LOCATION:Old Bridge High School 4207 County Rd 516\, Matawan\, NJ 07747\, U
 SA
SUMMARY:Old Bridge Uknighted vs. The Harlem Wizards Game
END:VEVENT
BEGIN:VEVENT
DTSTAMP:20260425T224515Z
UID:855e19d5-0f3e-4dbf-9c4b-340b05befdc6
DTSTART:20260504T083000
DTEND:20260508T140000
DESCRIPTION:<p><span>💜🐾 Carl Sandburg Middle School Teacher Appreciat
 ion Week is coming up May 4–8! 🐾🖤</span></p><p><span>Our incredibl
 e <strong>Cougar staff</strong> deserves to be celebrated\, and we need yo
 ur help to make it extra special! The PTA is so grateful for everything ou
 r teachers and staff do each day 💜</span></p><p><span>We’re collectin
 g snacks and treats to keep them fueled and feeling the love all week long
 !</span></p><p><span>👉 Please consider purchasing an item from our Amaz
 on wishlist and have it shipped directly to us by <strong>Friday\, May 1</
 strong>.</span></p><p><span>🔗 </span><a target="_blank" rel="noopener n
 oreferrer nofollow" href="https://www.amazon.com/hz/wishlist/ls/15N966Z6T4
 K1V?ref_=wl_share"><span>https://www.amazon.com/hz/wishlist/ls/15N966Z6T4K
 1V?ref_=wl_share</span></a></p><p><span>Every contribution—big or small
 —makes a difference. Let’s show our Cougar pride and appreciation! 
 🐾💜🖤</span></p><p><span>Thank you for supporting our amazing Carl 
 Sandburg Middle School staff!</span></p><p><span>Don't want to buy from Am
 azon\, email </span><a target="_blank" rel="noopener noreferrer nofollow" 
 href="mailto:obsandburgpta@gmail.com"><span>obsandburgpta@gmail.com</span>
 </a><span> to set up a time to deliver your donations</span></p><p><span>W
 ant to make a cash donation go here </span><a target="_blank" rel="noopene
 r noreferrer nofollow" href="https://csmspta.givebacks.com/shop/items/977c
 c81a4890e1"><span>https://csmspta.givebacks.com/shop/items/977cc81a4890e1<
 /span></a></p>
LOCATION:
SUMMARY:Carl Sandbur Middle School Teacher Appreciation Week May 4 - 8
END:VEVENT
BEGIN:VEVENT
DTSTAMP:20260425T224515Z
UID:80162fb1-cb7b-48bb-b1d5-de34f59b2776
DTSTART:20260505T190000
DTEND:20260505T200000
DESCRIPTION:<p>The Board of Education has scheduled a public hearing on the
  2026/2027 SY budget for Tuesday\, May 5\, 2026 at 7:00 pm. The public hea
 ring will be held in person at the Old Bridge High School – Main Cafeter
 ia (square section)\, 4209 Route 516\, Matawan\, NJ 07747. The Board of Ed
 ucation will present the budget to the public and accept comment on the 20
 26-2027 SY budget presentation. The public is invited to attend. Formal ac
 tion will not be taken.</p>
LOCATION:
SUMMARY:PUBLIC HEARING
END:VEVENT
BEGIN:VEVENT
DTSTAMP:20260425T224515Z
UID:323a39b4-77dd-4213-a4ee-0726dc702b1f
DTSTART:20260506T190000
DTEND:20260506T200000
DESCRIPTION:<p><span>DATE: Wednesday\, May 6\, 2026</span><br><span>TIME: 7
 pm-8pm</span><br><span>LOCATION: Virtual Workshop</span><br><span>PRESENTE
 RS: Rachel O'Neill\, Graziella Brunie and Cheryl Berkuta </span><br><br><s
 pan>Join the Old Bridge Instructional Coaches for a comprehensive virtual 
 workshop focused on strategies to prevent the summer slide in math\, ELA\,
  social studies\, and science. In this workshop\, you will gain practical 
 tips and resources to support students while also discovering community-ba
 sed opportunities to enhance their learning experiences.   </span><a targe
 t="_blank" rel="noopener noreferrer nofollow" href="https://events.teams.m
 icrosoft.com/event/0d819db4-d4b0-40e6-8369-d49eda9fd68a@2682b2ed-5db9-4331
 -8e0f-c334c6b92168" relative-link=""><span>Register here</span></a></p>
LOCATION:
SUMMARY:Family Academy Night Workshop - Preventing the Summer Slide
END:VEVENT
BEGIN:VEVENT
DTSTAMP:20260425T224515Z
UID:fdf975df-5074-43b5-8e82-5559d78d66cd
DTSTART:20260507T180000
DTEND:20260507T190000
DESCRIPTION:<p>Location: Patrick A. Torre Administration Building – Confe
 rence Room\, 4207 Route 516\, Matawan\, NJ 07747.&nbsp\; The purpose of th
 e meeting is to discuss Governance (Policy\, Internal Board Procedures) is
 sues related to the district. The public is invited to attend. Formal acti
 on will not be taken.</p>
LOCATION:
SUMMARY:Governance Committee Meeting
END:VEVENT
BEGIN:VEVENT
DTSTAMP:20260425T224515Z
UID:572fe021-1b36-4b83-95c4-d553d422d48d
DTSTART:20260507T183000
DTEND:20260507T193000
DESCRIPTION:
LOCATION:2 Old Matawan Rd\, Old Bridge\, NJ 08857\, USA
SUMMARY:Challenge Program Grade 3 Showcase 6:30pm Miller
END:VEVENT
BEGIN:VEVENT
DTSTAMP:20260425T224515Z
UID:64092bfd-a2fa-43cf-b12f-c14dea87fd4d
DTSTART:20260507T190000
DTEND:20260507T210000
DESCRIPTION:
LOCATION:Auditorium
SUMMARY:CSMS Spring Choir Concert (TBC)
END:VEVENT
BEGIN:VEVENT
DTSTAMP:20260425T224515Z
UID:dc833a0e-201c-4b11-be5a-e99a2910163b
DTSTART:20260511T190000
DTEND:20260511T210000
DESCRIPTION:<p>Ms. Nee</p>
LOCATION:Auditorium
SUMMARY:CSMS Spring Instrumental Concert
END:VEVENT
BEGIN:VEVENT
DTSTAMP:20260425T224515Z
UID:898a7503-1611-47b9-a8af-3ebe1b85aa92
DTSTART:20260512T180000
DTEND:20260512T190000
DESCRIPTION:<p>A special meeting has been scheduled for a Board Workshop on
  Thursday\, May 12\, 2026 at 6:00 pm the Administration Building Conferenc
 e Room\, 4207 Route 516\, Matawan\, NJ 07747. The purpose of the workshop 
 is for the Board to work towards board certification through NJSBA’s Boa
 rd Member Academy.<span>  </span>The Board will meet in closed executive 
 session.<span>  </span>Maryann Friedman from NJSBA will be in attendance.
 <span>  </span>The public is excluded.<span>  </span>Formal action will 
 not be taken.</p>
LOCATION:
SUMMARY:Special Meeting NJSBA Certification - Closed Executive Session
END:VEVENT
BEGIN:VEVENT
DTSTAMP:20260425T224515Z
UID:344ce657-9e98-4421-84ef-8c95960ac88c
DTSTART:20260512T190000
DTEND:20260512T200000
DESCRIPTION:<p>Attend In Person: OLD BRIDGE H.S. – MAIN CAFETERIA - View 
 Meeting: Old Bridge Public Schools YouTube channel. </p>
LOCATION:
SUMMARY:BOE AGENDA SESSION
END:VEVENT
BEGIN:VEVENT
DTSTAMP:20260425T224515Z
UID:514a1256-059a-4721-89f3-45170c004dd8
DTSTART:20260513T183000
DTEND:20260513T193000
DESCRIPTION:<p><a target="_blank" rel="noopener noreferrer nofollow" href="
 https://aptg.co/2nQjf2" relative-link="">CSMS Incoming 6th Grade Parent Or
 ientation Letter 2026</a></p>
LOCATION:Auditorium
SUMMARY:CSMS Incoming 6th Grade Parent Orientation 
END:VEVENT
BEGIN:VEVENT
DTSTAMP:20260425T224515Z
UID:b2010bc9-fde7-42df-9b21-208ba29a72a1
DTSTART:20260513T193000
DTEND:20260513T203000
DESCRIPTION:
LOCATION:Auditorium
SUMMARY:CSMS PTA Meeting
END:VEVENT
BEGIN:VEVENT
DTSTAMP:20260425T224515Z
UID:f0340ef3-cdb7-4c09-a7d0-b903b00bb577
DTSTART:20260514T183000
DTEND:20260514T193000
DESCRIPTION:
LOCATION:2 Old Matawan Rd\, Old Bridge\, NJ 08857\, USA
SUMMARY:Challenge Program Grade 4 Showcase 6:30pm Miller
END:VEVENT
BEGIN:VEVENT
DTSTAMP:20260425T224515Z
UID:7cc8e96f-6709-49b5-b3b4-1e56339f0e34
DTSTART:20260514T183000
DTEND:20260514T193000
DESCRIPTION:
LOCATION:Glenn School\, 185 Cindy St\, Old Bridge\, NJ 08857\, USA
SUMMARY:SEPTA MEETING
END:VEVENT
BEGIN:VEVENT
DTSTAMP:20260425T224515Z
UID:2e3f5362-0283-49b8-b887-03649847d7d7
DTSTART:20260515T090000
DTEND:20260515T143000
DESCRIPTION:<p>Mrs. Bracken</p>
LOCATION:
SUMMARY:CSMS Civil War Day 
END:VEVENT
BEGIN:VEVENT
DTSTAMP:20260425T224515Z
UID:f89bfd8d-3b9e-42ca-93b2-518347438a74
DTSTART:20260518T083000
DTEND:20260518T143000
DESCRIPTION:<p><a target="_blank" rel="noopener noreferrer nofollow" href="
 https://aptg.co/XmKzLp" relative-link="">CSMS NJSLA Assessment 2026</a></p
 >
LOCATION:
SUMMARY:CSMS NJSLA Assessment Grade 8 Science (Units 1 &2)
END:VEVENT
BEGIN:VEVENT
DTSTAMP:20260425T224515Z
UID:459737c9-c394-45b7-bc86-f44ab3ecef7e
DTSTART:20260519T083000
DTEND:20260519T143000
DESCRIPTION:<p><a target="_blank" rel="noopener noreferrer nofollow" href="
 https://aptg.co/XmKzLp" relative-link="">CSMS NJSLA Assessment 2026</a></p
 >
LOCATION:
SUMMARY:CSMS NJSLA Assessment Grade 8  Science (Units 3 & 4)
END:VEVENT
BEGIN:VEVENT
DTSTAMP:20260425T224515Z
UID:e3cf45b5-88ca-4e84-bc81-8a4fe41dc102
DTSTART:20260519T190000
DTEND:20260519T200000
DESCRIPTION:<p><span>Attend In Person: OLD BRIDGE H.S. – MAIN AUDITORIUM
  - View Meeting: Old Bridge Public Schools YouTube channel\, Cablevision C
 hannel 118\, Verizon Fios Channel 24 </span></p>
LOCATION:
SUMMARY:BOE REGULAR MEETING
END:VEVENT
BEGIN:VEVENT
DTSTAMP:20260425T224515Z
UID:97adf942-1521-4a40-a940-0b36f3de9042
DTSTART:20260520T083000
DTEND:20260520T121500
DESCRIPTION:<p><a target="_blank" rel="noopener noreferrer nofollow" href="
 https://aptg.co/XmKzLp" relative-link="">CSMS NJSLA Assessment 2026</a></p
 >
LOCATION:
SUMMARY:CSMS NJSLA Assessment Grades 6-8 (Mathematics) Early Dismissal Toda
 y
END:VEVENT
BEGIN:VEVENT
DTSTAMP:20260425T224515Z
UID:9efc6650-232f-4acf-a419-a2be578a75f6
DTSTART:20260521T083000
DTEND:20260521T121500
DESCRIPTION:<p><a target="_blank" rel="noopener noreferrer nofollow" href="
 https://aptg.co/XmKzLp" relative-link="">CSMS NJSLA Assessment 2026</a></p
 >
LOCATION:
SUMMARY:CSMS NJSLA Assessment Grades 6-8  (ELA Reading) Early Dismissal
END:VEVENT
BEGIN:VEVENT
DTSTAMP:20260425T224515Z
UID:d73e396b-5541-435b-adc5-1d488b539d5a
DTSTART:20260521T183000
DTEND:20260521T193000
DESCRIPTION:
LOCATION:2 Old Matawan Rd\, Old Bridge\, NJ 08857\, USA
SUMMARY:Challenge Program Grade 5 Showcase 6:30pm Miller
END:VEVENT
BEGIN:VEVENT
DTSTAMP:20260425T224515Z
UID:914d3aa6-a1a7-41d4-9b8a-7965f5040bd4
DTSTART;VALUE=DATE:20260522
DTEND;VALUE=DATE:20260523
DESCRIPTION:<p><strong>PRESCHOOL HOURS</strong><br>Early Dismissal (AM) - 8
 :50 am – 10:50 am<br>Early Dismissal (PM) - 11:15 am – 1:15 pm<br>Earl
 y Dismissal - Full Day - 8:50 am – 12:15 pm</p><p><strong>TUITION PRESCH
 OOL HOURS</strong><br>Early Dismissal (AM) - 8:50 am – 10:50 am<br>Early
  Dismissal (PM) - 11:15 am – 1:15 pm<br>Early Dismissal - Full Day - 8:5
 0 am – 1:15 pm</p><p><strong>ELEMENTARY HOURS (Grades K-5)</strong><br>8
 :50 am – 1:15 pm (lunch will be served)</p><p><strong>MIDDLE SCHOOL HOUR
 S (Grades 6-8)</strong><br>8:10 am – 12:20 pm (lunch will be served)</p>
 <p><strong>HIGH SCHOOL HOURS (Grades 9-12)</strong><br>7:35 am – 11:35 a
 m (lunch will NOT be served)</p>
LOCATION:
SUMMARY:EARLY DISMISSAL - MEMORIAL DAY
END:VEVENT
BEGIN:VEVENT
DTSTAMP:20260425T224515Z
UID:ca274739-5ce7-48f1-a15d-455d1ecf5c41
DTSTART:20260522T083000
DTEND:20260522T121500
DESCRIPTION:<p><a target="_blank" rel="noopener noreferrer nofollow" href="
 https://aptg.co/XmKzLp" relative-link="">CSMS NJSLA Assessment 2026</a></p
 >
LOCATION:
SUMMARY:CSMS NJSLA  Assessment  Grades 6-8 (ELA Writing) Early Dismissal
END:VEVENT
BEGIN:VEVENT
DTSTAMP:20260425T224515Z
UID:cc9a8016-eafe-4b3f-8a11-569bbc21ec71
DTSTART;VALUE=DATE:20260525
DTEND;VALUE=DATE:20260526
DESCRIPTION:
LOCATION:
SUMMARY:CSMS School Closed Memorial  Day
END:VEVENT
BEGIN:VEVENT
DTSTAMP:20260425T224515Z
UID:a866bc50-6e07-428f-831c-c8681f1fdb8a
DTSTART;VALUE=DATE:20260525
DTEND;VALUE=DATE:20260526
DESCRIPTION:
LOCATION:
SUMMARY:SCHOOL CLOSED - MEMORIAL DAY
END:VEVENT
BEGIN:VEVENT
DTSTAMP:20260425T224515Z
UID:cdfaecf1-699d-41f3-b5d4-3152e7c4df1d
DTSTART:20260526T083000
DTEND:20260526T140000
DESCRIPTION:
LOCATION:
SUMMARY:CSMS NJSLA Make-up Testing
END:VEVENT
BEGIN:VEVENT
DTSTAMP:20260425T224515Z
UID:40bf17aa-5c38-49c8-8e47-ca039324a196
DTSTART;VALUE=DATE:20260527
DTEND;VALUE=DATE:20260528
DESCRIPTION:<p><strong>PRESCHOOL HOURS</strong><br>Early Dismissal (AM) - 8
 :50 am – 10:50 am<br>Early Dismissal (PM) - 11:15 am – 1:15 pm<br>Earl
 y Dismissal - Full Day - 8:50 am – 12:15 pm</p><p><strong>TUITION PRESCH
 OOL HOURS</strong><br>Early Dismissal (AM) - 8:50 am – 10:50 am<br>Early
  Dismissal (PM) - 11:15 am – 1:15 pm<br>Early Dismissal - Full Day - 8:5
 0 am – 1:15 pm</p><p><strong>ELEMENTARY HOURS (Grades K-5)</strong><br>8
 :50 am – 1:15 pm (lunch will be served)</p><p><strong>MIDDLE SCHOOL HOUR
 S (Grades 6-8)</strong><br>8:10 am – 12:20 pm (lunch will be served)</p>
 <p><strong>HIGH SCHOOL HOURS (Grades 9-12)</strong><br>7:35 am – 11:35 a
 m (lunch will NOT be served)</p>
LOCATION:
SUMMARY:EARLY DISMISSAL - PLC DAY
END:VEVENT
BEGIN:VEVENT
DTSTAMP:20260425T224515Z
UID:c8031997-7242-4dc0-9187-6c58ed72cf11
DTSTART:20260527T080000
DTEND:20260527T121500
DESCRIPTION:
LOCATION:
SUMMARY:CSMS Early Dismissal for Students
END:VEVENT
BEGIN:VEVENT
DTSTAMP:20260425T224515Z
UID:3eca3518-fab5-4aee-a8f9-e91c7df0c3eb
DTSTART:20260527T083000
DTEND:20260527T120000
DESCRIPTION:
LOCATION:
SUMMARY:CSMS NJSLA Make-up Testing
END:VEVENT
BEGIN:VEVENT
DTSTAMP:20260425T224515Z
UID:5c20b79c-4b78-4968-bc9a-544d050fb686
DTSTART:20260528T083000
DTEND:20260528T140000
DESCRIPTION:
LOCATION:
SUMMARY:CSMS NJSLA Make-up Testing
END:VEVENT
BEGIN:VEVENT
DTSTAMP:20260425T224515Z
UID:3b7225c7-e302-491a-b09c-2ae042fac5da
DTSTART:20260529T083000
DTEND:20260529T140000
DESCRIPTION:
LOCATION:
SUMMARY:CSMS NJSLA Make-up Testing
END:VEVENT
BEGIN:VEVENT
DTSTAMP:20260425T224515Z
UID:37727691-ba4a-4754-bca2-54c53b03d04e
DTSTART;VALUE=DATE:20260602
DTEND;VALUE=DATE:20260603
DESCRIPTION:
LOCATION:
SUMMARY:CSMS School Closed for Students
END:VEVENT
BEGIN:VEVENT
DTSTAMP:20260425T224515Z
UID:099a9ee6-dd87-4bf0-bdbe-b7f8ec0079a1
DTSTART;VALUE=DATE:20260602
DTEND;VALUE=DATE:20260603
DESCRIPTION:
LOCATION:
SUMMARY:SCHOOL CLOSED FOR STUDENTS ONLY - STAFF IN-SERVICE
END:VEVENT
BEGIN:VEVENT
DTSTAMP:20260425T224515Z
UID:ccde6297-4375-410f-88b5-6a09ef493005
DTSTART:20260602T073000
DTEND:20260604T180000
DESCRIPTION:<p>Information to follow.</p>
LOCATION:TBD
SUMMARY:CSMS REACH Trip
END:VEVENT
BEGIN:VEVENT
DTSTAMP:20260425T224515Z
UID:dad90ab7-1b91-4383-b015-e5f539f6646d
DTSTART:20260608T180000
DTEND:20260608T210000
DESCRIPTION:<p>Information to follow.</p>
LOCATION:1550 US-9\, Old Bridge\, NJ 08857\, USA
SUMMARY:CSMS 8th Grade Dance
END:VEVENT
BEGIN:VEVENT
DTSTAMP:20260425T224515Z
UID:96e92119-e0ad-4b0e-8fb1-be4eb0efa533
DTSTART:20260609T190000
DTEND:20260609T200000
DESCRIPTION:<p>Attend In Person: OLD BRIDGE H.S. – MAIN CAFETERIA - View 
 Meeting: Old Bridge Public Schools YouTube channel. </p>
LOCATION:
SUMMARY:BOE AGENDA SESSION
END:VEVENT
BEGIN:VEVENT
DTSTAMP:20260425T224515Z
UID:317136a2-6079-4106-bb19-138a72f59075
DTSTART:20260610T190000
DTEND:20260610T203000
DESCRIPTION:
LOCATION:67 Old Amboy Rd\, Old Bridge\, NJ 08857\, USA
SUMMARY:CSMS Student of the Year Dinner 
END:VEVENT
BEGIN:VEVENT
DTSTAMP:20260425T224515Z
UID:301bd3bd-4e9a-49a8-966f-236d133a5281
DTSTART:20260611T103000
DTEND:20260611T170000
DESCRIPTION:<p><a target="_blank" rel="noopener noreferrer nofollow" href="
 https://aptg.co/-ZhH4k" relative-link="">8th Grade Trip 2026</a></p>
LOCATION:140 Gordons Corner Rd\, Manalapan Township\, NJ 07726\, USA
SUMMARY:CSMS 8th Grade Field Trip to Ivy League
END:VEVENT
BEGIN:VEVENT
DTSTAMP:20260425T224515Z
UID:72253bcf-d942-4332-a934-046a136926fd
DTSTART:20260611T180000
DTEND:20260611T190000
DESCRIPTION:<p>Location: Patrick A. Torre Administration Building – Confe
 rence Room\, 4207 Route 516\, Matawan\, NJ 07747.  The purpose of the mee
 ting is to discuss finance/shared services/long range &amp\; strategic pla
 nning issues related to the district. The public is invited to attend. For
 mal action will not be taken.</p>
LOCATION:
SUMMARY:Finance and Planning Committee Meeting
END:VEVENT
BEGIN:VEVENT
DTSTAMP:20260425T224515Z
UID:376ba918-1d53-42e0-9b04-e3765f891af2
DTSTART:20260616T080000
DTEND:20260616T121500
DESCRIPTION:<p>Pending confirmation of 8th Grade Graduation Date.</p>
LOCATION:
SUMMARY:CSMS Early Dismissal for Students 
END:VEVENT
BEGIN:VEVENT
DTSTAMP:20260425T224515Z
UID:a40028ba-be13-43bc-bcb9-9a8208cd0cf2
DTSTART:20260616T190000
DTEND:20260616T210000
DESCRIPTION:<p>Information to follow.</p><p>Graduating students should arri
 ve by 6:00 PM.</p>
LOCATION:765 Newman Springs Rd\, Lincroft\, NJ 07738\, USA
SUMMARY: CSMS 8th Grade Graduation 
END:VEVENT
BEGIN:VEVENT
DTSTAMP:20260425T224515Z
UID:32e3ccd4-5128-4756-86a1-e74e9ab5ca0a
DTSTART;VALUE=DATE:20260619
DTEND;VALUE=DATE:20260620
DESCRIPTION:<p><strong>PRESCHOOL HOURS</strong><br>Early Dismissal (AM) - 8
 :50 am – 10:50 am<br>Early Dismissal (PM) - 11:15 am – 1:15 pm<br>Earl
 y Dismissal - Full Day - 8:50 am – 12:15 pm</p><p><strong>TUITION PRESCH
 OOL HOURS</strong><br>Early Dismissal (AM) - 8:50 am – 10:50 am<br>Early
  Dismissal (PM) - 11:15 am – 1:15 pm<br>Early Dismissal - Full Day - 8:5
 0 am – 1:15 pm</p><p><strong>ELEMENTARY HOURS (Grades K-5)</strong><br>8
 :50 am – 1:15 pm (lunch will be served)</p><p><strong>MIDDLE SCHOOL HOUR
 S (Grades 6-8)</strong><br>8:10 am – 12:20 pm (lunch will be served)</p>
 <p><strong>HIGH SCHOOL HOURS (Grades 9-12)</strong><br>7:35 am – 11:35 a
 m (lunch will NOT be served)</p>
LOCATION:
SUMMARY:EARLY DISMISSAL - LAST DAY OF SCHOOL
END:VEVENT
BEGIN:VEVENT
DTSTAMP:20260425T224515Z
UID:b8c2b6b1-bc64-4762-8ee6-3aa06394d710
DTSTART:20260619T080000
DTEND:20260619T121500
DESCRIPTION:
LOCATION:
SUMMARY:CSMS Last Day of School Early Dismissal
END:VEVENT
BEGIN:VEVENT
DTSTAMP:20260425T224515Z
UID:dce80160-3ac1-463b-a668-c1fd181f7db7
DTSTART:20260623T190000
DTEND:20260623T200000
DESCRIPTION:<p>Attend In Person: OLD BRIDGE H.S. – MAIN CAFETERIA View M
 eeting: Old Bridge Public Schools YouTube channel\, Cablevision Channel 11
 8\, Verizon Fios Channel 24 </p>
LOCATION:
SUMMARY:BOE REGULAR MEETING
END:VEVENT
END:VCALENDAR
