BEGIN:VCALENDAR
VERSION:2.0
PRODID:icalendar-ruby
CALSCALE:GREGORIAN
BEGIN:VTIMEZONE
TZID:America/New_York
BEGIN:DAYLIGHT
DTSTART:20260308T030000
TZOFFSETFROM:-0500
TZOFFSETTO:-0400
RRULE:FREQ=YEARLY;BYDAY=2SU;BYMONTH=3
TZNAME:EDT
END:DAYLIGHT
BEGIN:STANDARD
DTSTART:20261101T010000
TZOFFSETFROM:-0400
TZOFFSETTO:-0500
RRULE:FREQ=YEARLY;BYDAY=1SU;BYMONTH=11
TZNAME:EST
END:STANDARD
END:VTIMEZONE
BEGIN:VEVENT
DTSTAMP:20260420T112004Z
UID:3489ac56-b9f2-4188-9b2d-cefcbe196a0b
DTSTART;VALUE=DATE:20260420
DTEND;VALUE=DATE:20260421
DESCRIPTION:
LOCATION:
SUMMARY:Memorial - Earth Week - wear blue
END:VEVENT
BEGIN:VEVENT
DTSTAMP:20260420T112004Z
UID:bbb8592f-c6c6-4273-a374-94d8015b76cd
DTSTART:20260420T190000
DTEND:20260420T200000
DESCRIPTION:<p>Steps to Success: Navigating the Next Grade with Confidence.
  To register for meeting click here: <a target="_blank" rel="noopener nore
 ferrer nofollow" href="https://tinyurl.com/OBSEPAG420" relative-link="">ht
 tps://tinyurl.com/OBSEPAG420</a> - <a target="_blank" rel="noopener norefe
 rrer nofollow" href="https://aptg.co/3F2sZ7" relative-link="">Click here f
 or more information</a></p><p></p><p></p>
LOCATION:Zoom
SUMMARY:Special Education Parent Advisory Group (SEPAG) Meeting
END:VEVENT
BEGIN:VEVENT
DTSTAMP:20260420T112004Z
UID:8c18d82c-f5fb-41f2-a359-4f4934171544
DTSTART;VALUE=DATE:20260421
DTEND;VALUE=DATE:20260422
DESCRIPTION:
LOCATION:
SUMMARY:Memorial - Earth Week - wear Camo
END:VEVENT
BEGIN:VEVENT
DTSTAMP:20260420T112004Z
UID:c502879e-fb77-45f1-aaed-5cad998d0b74
DTSTART:20260421T190000
DTEND:20260421T200000
DESCRIPTION:<p>Attend In Person: OLD BRIDGE H.S. – MAIN CAFETERIA - View
  Meeting: Old Bridge Public Schools YouTube channel\, Cablevision Channel 
 118\, Verizon Fios Channel 24 </p>
LOCATION:
SUMMARY:BOE REGULAR MEETING
END:VEVENT
BEGIN:VEVENT
DTSTAMP:20260420T112004Z
UID:4e8794ce-a6ba-41bf-95c1-9827ecabc788
DTSTART;VALUE=DATE:20260422
DTEND;VALUE=DATE:20260423
DESCRIPTION:
LOCATION:
SUMMARY:Memorial - Earth Week - wear Green
END:VEVENT
BEGIN:VEVENT
DTSTAMP:20260420T112004Z
UID:758db87c-2bf2-4276-b935-653e8c1b378b
DTSTART;VALUE=DATE:20260422
DTEND;VALUE=DATE:20260423
DESCRIPTION:
LOCATION:
SUMMARY:Memorial Fabulous Friday - Earth Day
END:VEVENT
BEGIN:VEVENT
DTSTAMP:20260420T112004Z
UID:b835ae94-e10b-4593-a05e-50af6e7c665a
DTSTART;VALUE=DATE:20260423
DTEND;VALUE=DATE:20260424
DESCRIPTION:
LOCATION:
SUMMARY:Memorial - Earth Week - wear animal print
END:VEVENT
BEGIN:VEVENT
DTSTAMP:20260420T112004Z
UID:75e7a52e-956f-4611-8913-af91fd5134e8
DTSTART;VALUE=DATE:20260423
DTEND;VALUE=DATE:20260424
DESCRIPTION:
LOCATION:
SUMMARY:Memorial - Take your child to work day
END:VEVENT
BEGIN:VEVENT
DTSTAMP:20260420T112004Z
UID:c1e7c860-f50b-45e5-94d7-ffb2f5c843be
DTSTART:20260423T180000
DTEND:20260423T200000
DESCRIPTION:<p>See flyer to RSVP - <a target="_blank" rel="noopener norefer
 rer nofollow" href="https://aptg.co/vLgQ5N" relative-link="">Old Bridge Ro
 oted in Culture Presents "Our World on Stage" 2026</a></p>
LOCATION:Old Bridge High School\, 4209 Route 516\, Matawan\, NJ - Auditoriu
 m and Gym
SUMMARY:Old Bridge Rooted in Culture Presents "Our World on Stage" 2026
END:VEVENT
BEGIN:VEVENT
DTSTAMP:20260420T112004Z
UID:25e474fb-ec90-4d52-9a06-d4596cb0a271
DTSTART;VALUE=DATE:20260424
DTEND;VALUE=DATE:20260425
DESCRIPTION:
LOCATION:
SUMMARY:Memorial - Earth Week - wear neon colors
END:VEVENT
BEGIN:VEVENT
DTSTAMP:20260420T112004Z
UID:9db8137d-6a33-453f-9adf-c57cf23da88f
DTSTART;VALUE=DATE:20260424
DTEND;VALUE=DATE:20260425
DESCRIPTION:<p><a target="_blank" rel="noopener noreferrer nofollow" href="
 https://aptg.co/K4yPLv">https://aptg.co/K4yPLv</a></p>
LOCATION:
SUMMARY:Memorial - Last Day to Purchase yearbook
END:VEVENT
BEGIN:VEVENT
DTSTAMP:20260420T112004Z
UID:e53c7784-230c-429a-b744-34fed1a6208e
DTSTART:20260427T100000
DTEND:20260427T110000
DESCRIPTION:
LOCATION:
SUMMARY:Memorial - Instrumental Concert
END:VEVENT
BEGIN:VEVENT
DTSTAMP:20260420T112004Z
UID:6fe38874-917e-4f41-b77b-3b65e14d1fba
DTSTART:20260428T180000
DTEND:20260428T190000
DESCRIPTION:<p>Location: Patrick A. Torre Administration Building – Confe
 rence Room\, 4207 Route 516\, Matawan\, NJ 07747.  The purpose of the mee
 ting is to discuss food services/operations issues related to the district
 . The public is invited to attend. Formal action will not be taken.</p>
LOCATION:
SUMMARY:Food Services/Operations Committee Metting
END:VEVENT
BEGIN:VEVENT
DTSTAMP:20260420T112004Z
UID:325ce7c6-d59e-489b-b1bd-41f2cddeaf6a
DTSTART:20260430T180000
DTEND:20260430T190000
DESCRIPTION:<p>Location: Patrick A. Torre Administration Building – Confe
 rence Room\, 4207 Route 516\, Matawan\, NJ 07747.  The purpose of the mee
 ting is to discuss curriculum/special education/student life issues relate
 d to the district. The public is invited to attend. Formal action will not
  be taken.</p>
LOCATION:
SUMMARY:Student Services Committee Meeting
END:VEVENT
BEGIN:VEVENT
DTSTAMP:20260420T112004Z
UID:780589af-49cf-484b-b705-82573c3ee971
DTSTART:20260430T183000
DTEND:20260430T203000
DESCRIPTION:
LOCATION:OBHS Main Auditorium
SUMMARY:District Orchestra Festival
END:VEVENT
BEGIN:VEVENT
DTSTAMP:20260420T112004Z
UID:b6d8a4e8-5276-49cc-ac45-e492ade56772
DTSTART;VALUE=DATE:20260501
DTEND;VALUE=DATE:20260502
DESCRIPTION:
LOCATION:
SUMMARY:Memorial Fabulous Friday - Disney Day
END:VEVENT
BEGIN:VEVENT
DTSTAMP:20260420T112004Z
UID:00df3933-207d-4506-a222-fcb192f97bec
DTSTART:20260501T183000
DTEND:20260501T203000
DESCRIPTION:
LOCATION:OBHS Main Auditorium
SUMMARY:District Band Festival
END:VEVENT
BEGIN:VEVENT
DTSTAMP:20260420T112004Z
UID:adfcb139-fd65-478c-bd8f-7ce072a5af26
DTSTART:20260503T150000
DTEND:20260503T160000
DESCRIPTION:<p><span>Tickets on sale now!&nbsp\;Come watch your&nbsp\;princ
 ipals\, administrators\, and staff take the court&nbsp\;on&nbsp\;Team UKni
 ghted!&nbsp\; Wear your shirts to show your support! </span></p><p><span>W
 hen: May 3\, 2026</span><br><span>Time: 3:00 PM</span><br><span>Get your t
 ickets here:&nbsp\;</span><a target="_blank" rel="noopener noreferrer nofo
 llow" href="https://harlemwizardsinabox.com/game/event/matawannj05-03-26-0
 3-00pm/">https://harlemwizardsinabox.com/game/event/matawannj05-03-26-03-0
 0pm/</a></p>
LOCATION:Old Bridge High School 4207 County Rd 516\, Matawan\, NJ 07747\, U
 SA
SUMMARY:Old Bridge Uknighted vs. The Harlem Wizards Game
END:VEVENT
BEGIN:VEVENT
DTSTAMP:20260420T112004Z
UID:0c0fb6a3-fff7-4bab-9097-ca737140a5b4
DTSTART;VALUE=DATE:20260504
DTEND;VALUE=DATE:20260505
DESCRIPTION:
LOCATION:
SUMMARY:Memorial Fabulous Friday - Star Wars Day
END:VEVENT
BEGIN:VEVENT
DTSTAMP:20260420T112004Z
UID:df8736b7-f748-46c0-a1aa-a101f6f359ec
DTSTART:20260504T180000
DTEND:20260504T190000
DESCRIPTION:
LOCATION:11 Ely Ave\, Laurence Harbor\, NJ 08879\, USA
SUMMARY:Memorial - PTA Meeting
END:VEVENT
BEGIN:VEVENT
DTSTAMP:20260420T112004Z
UID:919b7c2f-5d3b-4392-9e4a-0ef54c4c05f5
DTSTART;VALUE=DATE:20260505
DTEND;VALUE=DATE:20260508
DESCRIPTION:
LOCATION:
SUMMARY:Memorial - NJSLA Testing grades 3-5
END:VEVENT
BEGIN:VEVENT
DTSTAMP:20260420T112004Z
UID:c64f3585-3958-4aa6-9118-f9163f3cb5f0
DTSTART:20260505T190000
DTEND:20260505T200000
DESCRIPTION:<p><span>Attend In Person: OLD BRIDGE H.S. – MAIN TV STUDIO<
 /span></p>
LOCATION:
SUMMARY:PUBLIC HEARING
END:VEVENT
BEGIN:VEVENT
DTSTAMP:20260420T112004Z
UID:09c67bbb-3350-4d2c-af61-e9f01a5c1303
DTSTART:20260507T180000
DTEND:20260507T190000
DESCRIPTION:<p>Location: Patrick A. Torre Administration Building – Confe
 rence Room\, 4207 Route 516\, Matawan\, NJ 07747.&nbsp\; The purpose of th
 e meeting is to discuss Governance (Policy\, Internal Board Procedures) is
 sues related to the district. The public is invited to attend. Formal acti
 on will not be taken.</p>
LOCATION:
SUMMARY:Governance Committee Meeting
END:VEVENT
BEGIN:VEVENT
DTSTAMP:20260420T112004Z
UID:c479aca1-74cb-449c-9707-6e596db6737b
DTSTART:20260507T183000
DTEND:20260507T193000
DESCRIPTION:
LOCATION:2 Old Matawan Rd\, Old Bridge\, NJ 08857\, USA
SUMMARY:Challenge Program Grade 3 Showcase 6:30pm Miller
END:VEVENT
BEGIN:VEVENT
DTSTAMP:20260420T112004Z
UID:21a83863-eb5c-4b42-9caf-53b43d6e35f5
DTSTART;VALUE=DATE:20260508
DTEND;VALUE=DATE:20260509
DESCRIPTION:
LOCATION:
SUMMARY:Memorial Fabulous Friday - Crazy Hat / Crazy Hair Day
END:VEVENT
BEGIN:VEVENT
DTSTAMP:20260420T112004Z
UID:8f7475ed-4f6f-4a7e-81b9-0ede03d298c6
DTSTART;VALUE=DATE:20260512
DTEND;VALUE=DATE:20260514
DESCRIPTION:
LOCATION:
SUMMARY:Memorial - NJSLA Testing Grade 5 only (Science)
END:VEVENT
BEGIN:VEVENT
DTSTAMP:20260420T112004Z
UID:8b3c3005-e3a1-47db-8ed8-6f0cb9952cee
DTSTART:20260512T190000
DTEND:20260512T200000
DESCRIPTION:<p>Attend In Person: OLD BRIDGE H.S. – MAIN CAFETERIA - View 
 Meeting: Old Bridge Public Schools YouTube channel. </p>
LOCATION:
SUMMARY:BOE AGENDA SESSION
END:VEVENT
BEGIN:VEVENT
DTSTAMP:20260420T112004Z
UID:103c89b2-6a89-41b1-8114-2b7a5bc677f5
DTSTART:20260514T113000
DTEND:20260514T130000
DESCRIPTION:
LOCATION:
SUMMARY:Memorial - School Store
END:VEVENT
BEGIN:VEVENT
DTSTAMP:20260420T112004Z
UID:c58ee767-bc83-436d-807b-819948a89c75
DTSTART:20260514T183000
DTEND:20260514T193000
DESCRIPTION:
LOCATION:2 Old Matawan Rd\, Old Bridge\, NJ 08857\, USA
SUMMARY:Challenge Program Grade 4 Showcase 6:30pm Miller
END:VEVENT
BEGIN:VEVENT
DTSTAMP:20260420T112004Z
UID:a07d51d6-72ba-430d-b675-53d59b03197c
DTSTART:20260514T183000
DTEND:20260514T193000
DESCRIPTION:
LOCATION:Glenn School\, 185 Cindy St\, Old Bridge\, NJ 08857\, USA
SUMMARY:SEPTA MEETING
END:VEVENT
BEGIN:VEVENT
DTSTAMP:20260420T112004Z
UID:a2fbbd26-70c0-4e47-9948-e9317c364b90
DTSTART;VALUE=DATE:20260515
DTEND;VALUE=DATE:20260516
DESCRIPTION:
LOCATION:
SUMMARY:Elementary Progress Reports available
END:VEVENT
BEGIN:VEVENT
DTSTAMP:20260420T112004Z
UID:c7881453-b584-4ffa-979f-fbb3d0f75194
DTSTART;VALUE=DATE:20260515
DTEND;VALUE=DATE:20260516
DESCRIPTION:
LOCATION:
SUMMARY:Memorial Fabulous Friday - Black and White Day
END:VEVENT
BEGIN:VEVENT
DTSTAMP:20260420T112004Z
UID:e97958bf-b312-454f-906e-49d2df21ee42
DTSTART:20260515T113000
DTEND:20260515T130000
DESCRIPTION:
LOCATION:
SUMMARY:Memorial - School Store
END:VEVENT
BEGIN:VEVENT
DTSTAMP:20260420T112004Z
UID:a9c37dd1-0f44-41df-b9a7-8dfd9338c093
DTSTART:20260519T190000
DTEND:20260519T200000
DESCRIPTION:<p><span>Attend In Person: OLD BRIDGE H.S. – MAIN AUDITORIUM
  - View Meeting: Old Bridge Public Schools YouTube channel\, Cablevision C
 hannel 118\, Verizon Fios Channel 24 </span></p>
LOCATION:
SUMMARY:BOE REGULAR MEETING
END:VEVENT
BEGIN:VEVENT
DTSTAMP:20260420T112004Z
UID:4a0f910d-e9c0-418c-a4f9-68c135a86285
DTSTART:20260521T183000
DTEND:20260521T193000
DESCRIPTION:
LOCATION:2 Old Matawan Rd\, Old Bridge\, NJ 08857\, USA
SUMMARY:Challenge Program Grade 5 Showcase 6:30pm Miller
END:VEVENT
BEGIN:VEVENT
DTSTAMP:20260420T112004Z
UID:b80840f8-499c-41a1-b1d7-e6c3870c5dbc
DTSTART;VALUE=DATE:20260522
DTEND;VALUE=DATE:20260523
DESCRIPTION:
LOCATION:
SUMMARY:Field Day
END:VEVENT
BEGIN:VEVENT
DTSTAMP:20260420T112004Z
UID:d6c55729-1c8c-48b1-a305-f7439ab029c7
DTSTART;VALUE=DATE:20260522
DTEND;VALUE=DATE:20260523
DESCRIPTION:<p><strong>PRESCHOOL HOURS</strong><br>Early Dismissal (AM) - 8
 :50 am – 10:50 am<br>Early Dismissal (PM) - 11:15 am – 1:15 pm<br>Earl
 y Dismissal - Full Day - 8:50 am – 12:15 pm</p><p><strong>TUITION PRESCH
 OOL HOURS</strong><br>Early Dismissal (AM) - 8:50 am – 10:50 am<br>Early
  Dismissal (PM) - 11:15 am – 1:15 pm<br>Early Dismissal - Full Day - 8:5
 0 am – 1:15 pm</p><p><strong>ELEMENTARY HOURS (Grades K-5)</strong><br>8
 :50 am – 1:15 pm (lunch will be served)</p><p><strong>MIDDLE SCHOOL HOUR
 S (Grades 6-8)</strong><br>8:10 am – 12:20 pm (lunch will be served)</p>
 <p><strong>HIGH SCHOOL HOURS (Grades 9-12)</strong><br>7:35 am – 11:35 a
 m (lunch will NOT be served)</p>
LOCATION:
SUMMARY:EARLY DISMISSAL - MEMORIAL DAY
END:VEVENT
BEGIN:VEVENT
DTSTAMP:20260420T112004Z
UID:2abfe672-d488-49cc-bac0-6c7f825e2c09
DTSTART;VALUE=DATE:20260525
DTEND;VALUE=DATE:20260526
DESCRIPTION:
LOCATION:
SUMMARY:SCHOOL CLOSED - MEMORIAL DAY
END:VEVENT
BEGIN:VEVENT
DTSTAMP:20260420T112004Z
UID:a17b3740-05c7-4522-a5c0-b7e492c92d3f
DTSTART;VALUE=DATE:20260526
DTEND;VALUE=DATE:20260527
DESCRIPTION:
LOCATION:
SUMMARY:Memorial - 5th grade class trip - Medieval Times
END:VEVENT
BEGIN:VEVENT
DTSTAMP:20260420T112004Z
UID:736ca0cd-48d5-488d-a0c1-3d5c1cd5c770
DTSTART;VALUE=DATE:20260526
DTEND;VALUE=DATE:20260527
DESCRIPTION:
LOCATION:
SUMMARY:Memorial Fabulous Friday - Jeans for Troops
END:VEVENT
BEGIN:VEVENT
DTSTAMP:20260420T112004Z
UID:24424896-2202-4e95-acd8-dde86fcb990b
DTSTART;VALUE=DATE:20260526
DTEND;VALUE=DATE:20260527
DESCRIPTION:
LOCATION:
SUMMARY:Memorial - Field Day Rain Date
END:VEVENT
BEGIN:VEVENT
DTSTAMP:20260420T112004Z
UID:a3230fbd-4e68-4c51-ba6a-27e2cf19700b
DTSTART;VALUE=DATE:20260527
DTEND;VALUE=DATE:20260528
DESCRIPTION:<p><strong>PRESCHOOL HOURS</strong><br>Early Dismissal (AM) - 8
 :50 am – 10:50 am<br>Early Dismissal (PM) - 11:15 am – 1:15 pm<br>Earl
 y Dismissal - Full Day - 8:50 am – 12:15 pm</p><p><strong>TUITION PRESCH
 OOL HOURS</strong><br>Early Dismissal (AM) - 8:50 am – 10:50 am<br>Early
  Dismissal (PM) - 11:15 am – 1:15 pm<br>Early Dismissal - Full Day - 8:5
 0 am – 1:15 pm</p><p><strong>ELEMENTARY HOURS (Grades K-5)</strong><br>8
 :50 am – 1:15 pm (lunch will be served)</p><p><strong>MIDDLE SCHOOL HOUR
 S (Grades 6-8)</strong><br>8:10 am – 12:20 pm (lunch will be served)</p>
 <p><strong>HIGH SCHOOL HOURS (Grades 9-12)</strong><br>7:35 am – 11:35 a
 m (lunch will NOT be served)</p>
LOCATION:
SUMMARY:EARLY DISMISSAL - PLC DAY
END:VEVENT
BEGIN:VEVENT
DTSTAMP:20260420T112004Z
UID:e35c7fab-bb55-48e3-b2d4-e47264408322
DTSTART;VALUE=DATE:20260529
DTEND;VALUE=DATE:20260530
DESCRIPTION:
LOCATION:
SUMMARY:Memorial Fabulous Friday - Twin Day
END:VEVENT
BEGIN:VEVENT
DTSTAMP:20260420T112004Z
UID:48b96a2b-dcd0-44a4-9d8a-7cc3136401e3
DTSTART;VALUE=DATE:20260602
DTEND;VALUE=DATE:20260603
DESCRIPTION:
LOCATION:
SUMMARY:SCHOOL CLOSED FOR STUDENTS ONLY - STAFF IN-SERVICE
END:VEVENT
BEGIN:VEVENT
DTSTAMP:20260420T112004Z
UID:3dd8b4e9-82aa-455d-94e2-6f2f670b338c
DTSTART:20260604T080000
DTEND:20260604T090000
DESCRIPTION:
LOCATION:
SUMMARY:Memorial - Heritage Day show (3rd grade)
END:VEVENT
BEGIN:VEVENT
DTSTAMP:20260420T112004Z
UID:f5f7648c-e49b-4f6c-9210-70813fa79ca2
DTSTART;VALUE=DATE:20260605
DTEND;VALUE=DATE:20260606
DESCRIPTION:
LOCATION:
SUMMARY:Memorial Fabulous Friday - Dress Like  Your Favorite Teacher Day
END:VEVENT
BEGIN:VEVENT
DTSTAMP:20260420T112004Z
UID:97f265e2-ccde-4cff-aa53-3c1e02a2db10
DTSTART:20260609T190000
DTEND:20260609T200000
DESCRIPTION:<p>Attend In Person: OLD BRIDGE H.S. – MAIN CAFETERIA - View 
 Meeting: Old Bridge Public Schools YouTube channel. </p>
LOCATION:
SUMMARY:BOE AGENDA SESSION
END:VEVENT
BEGIN:VEVENT
DTSTAMP:20260420T112004Z
UID:6505c1c0-03f0-474a-96ab-5a2c4b37c4cd
DTSTART:20260611T180000
DTEND:20260611T190000
DESCRIPTION:<p>Location: Patrick A. Torre Administration Building – Confe
 rence Room\, 4207 Route 516\, Matawan\, NJ 07747.  The purpose of the mee
 ting is to discuss finance/shared services/long range &amp\; strategic pla
 nning issues related to the district. The public is invited to attend. For
 mal action will not be taken.</p>
LOCATION:
SUMMARY:Finance and Planning Committee Meeting
END:VEVENT
BEGIN:VEVENT
DTSTAMP:20260420T112004Z
UID:bd264900-cea4-4ca3-8384-d3ab87125612
DTSTART;VALUE=DATE:20260612
DTEND;VALUE=DATE:20260613
DESCRIPTION:
LOCATION:
SUMMARY:Memorial Fabulous Friday - Flag Day Celebrated (Wear Red\, White an
 d Blue)
END:VEVENT
BEGIN:VEVENT
DTSTAMP:20260420T112004Z
UID:af86c49f-ad00-4093-be8b-040e7bb2627c
DTSTART:20260612T093000
DTEND:20260612T103000
DESCRIPTION:
LOCATION:
SUMMARY:Memorial - Kindergarten Reflections
END:VEVENT
BEGIN:VEVENT
DTSTAMP:20260420T112004Z
UID:47a7e155-eb93-483a-ad37-3ff4657c835a
DTSTART:20260612T180000
DTEND:20260612T210000
DESCRIPTION:
LOCATION:172 Freneau Ave\, Matawan\, NJ 07747\, USA
SUMMARY:Memorial PTA - 5th grade social
END:VEVENT
BEGIN:VEVENT
DTSTAMP:20260420T112004Z
UID:3a158c96-8064-4da3-a0df-51eaa65efb33
DTSTART:20260615T100000
DTEND:20260615T110000
DESCRIPTION:
LOCATION:
SUMMARY:Memorial - 5th grade Moving Up
END:VEVENT
BEGIN:VEVENT
DTSTAMP:20260420T112004Z
UID:a76a3c6c-2b1a-4eb5-8117-35fa8201ad2c
DTSTART:20260618T140000
DTEND:20260618T150000
DESCRIPTION:
LOCATION:
SUMMARY:Memorail - End of year Class Parties
END:VEVENT
BEGIN:VEVENT
DTSTAMP:20260420T112004Z
UID:c7b646de-e252-482b-86a7-77a256b0f72d
DTSTART;VALUE=DATE:20260619
DTEND;VALUE=DATE:20260620
DESCRIPTION:
LOCATION:
SUMMARY:Memorial Fabulous Friday - Memorial Day
END:VEVENT
BEGIN:VEVENT
DTSTAMP:20260420T112004Z
UID:08bf41f4-24f6-46d5-ac87-5a2b0e49da2c
DTSTART;VALUE=DATE:20260619
DTEND;VALUE=DATE:20260620
DESCRIPTION:<p><strong>PRESCHOOL HOURS</strong><br>Early Dismissal (AM) - 8
 :50 am – 10:50 am<br>Early Dismissal (PM) - 11:15 am – 1:15 pm<br>Earl
 y Dismissal - Full Day - 8:50 am – 12:15 pm</p><p><strong>TUITION PRESCH
 OOL HOURS</strong><br>Early Dismissal (AM) - 8:50 am – 10:50 am<br>Early
  Dismissal (PM) - 11:15 am – 1:15 pm<br>Early Dismissal - Full Day - 8:5
 0 am – 1:15 pm</p><p><strong>ELEMENTARY HOURS (Grades K-5)</strong><br>8
 :50 am – 1:15 pm (lunch will be served)</p><p><strong>MIDDLE SCHOOL HOUR
 S (Grades 6-8)</strong><br>8:10 am – 12:20 pm (lunch will be served)</p>
 <p><strong>HIGH SCHOOL HOURS (Grades 9-12)</strong><br>7:35 am – 11:35 a
 m (lunch will NOT be served)</p>
LOCATION:
SUMMARY:EARLY DISMISSAL - LAST DAY OF SCHOOL
END:VEVENT
BEGIN:VEVENT
DTSTAMP:20260420T112004Z
UID:acfe6cb6-babc-448a-b1f9-1a448b30ffb1
DTSTART:20260619T080000
DTEND:20260619T090000
DESCRIPTION:
LOCATION:
SUMMARY:Elementary Report Card Available - 3rd  trimester
END:VEVENT
BEGIN:VEVENT
DTSTAMP:20260420T112004Z
UID:f5c7596a-3c49-4e0e-b280-f31ee83678b5
DTSTART:20260623T190000
DTEND:20260623T200000
DESCRIPTION:<p>Attend In Person: OLD BRIDGE H.S. – MAIN CAFETERIA View M
 eeting: Old Bridge Public Schools YouTube channel\, Cablevision Channel 11
 8\, Verizon Fios Channel 24 </p>
LOCATION:
SUMMARY:BOE REGULAR MEETING
END:VEVENT
END:VCALENDAR
