BEGIN:VCALENDAR
VERSION:2.0
PRODID:icalendar-ruby
CALSCALE:GREGORIAN
BEGIN:VTIMEZONE
TZID:America/Chicago
BEGIN:DAYLIGHT
DTSTART:20260308T030000
TZOFFSETFROM:-0600
TZOFFSETTO:-0500
RRULE:FREQ=YEARLY;BYDAY=2SU;BYMONTH=3
TZNAME:CDT
END:DAYLIGHT
BEGIN:STANDARD
DTSTART:20261101T010000
TZOFFSETFROM:-0500
TZOFFSETTO:-0600
RRULE:FREQ=YEARLY;BYDAY=1SU;BYMONTH=11
TZNAME:CST
END:STANDARD
END:VTIMEZONE
BEGIN:VEVENT
DTSTAMP:20260425T194405Z
UID:939bdcd6-8284-438c-9e49-7677ca1e3014
DTSTART;VALUE=DATE:20251014
DTEND;VALUE=DATE:20260522
DESCRIPTION:<p><span>Stafford Reminders:</span></p><p><span><strong>*</stro
 ng>Stafford School Hours 7:45 a.m.-4:15 p.m.&nbsp\;&nbsp\;Stafford doors o
 pen at 7:20 a.m. A student is considered tardy if they are not inside the 
 building by 7:45 a.m.&nbsp\; If your student is tardy you must come into t
 he front office and sign them in.</span></p><p><span>*Morning Tardies/Earl
 y Pick-Ups/Absences&nbsp\;will be counted throughout the school year\, and
  when a student reaches a certain amount\, learning recovery will be requi
 red.</span></p><p><span>*Parents/Guardians are welcome to visit during lun
 ches of scholars on any day except non-exempt days (i.e. STAAR\, etc.).&nb
 sp\; There is a designated area to eat with their student\, during their l
 unch period.&nbsp\; Parents/Guardians are not allowed to eat lunch with ot
 her students or bring food for other students.</span></p><p><span>*Please 
 bring your driver's license to run through our security system for a print
 ed badge every time for lunch\, meetings\, etc.</span></p><p><span>*Please
  continue to<strong>&nbsp\;use and display your car tags</strong>\, as thi
 s helps not only with safety but also with identifying students and cars m
 ore quickly. Please let us know if you need another car tag for family mem
 bers who help pick up your student. For parents buckling smaller students 
 in car seats\,&nbsp\;<strong>please use the outside lane and pull off into
  a parking spot\, we will bring your child to you\, and you can take your 
 time buckling your student in</strong>.&nbsp\;(School employees are not le
 gally allowed to buckle students in.) This will allow us to keep our dismi
 ssal line flowing and moving. As always school and student safety is our n
 umber one priority.</span></p><p><span>*On school spirit dress up days\, p
 lease make sure that it is&nbsp\;<strong>appropriate school attire.</stron
 g></span></p><p><span>*For the safety of the students\, please do not send
  students to school with glass bottles or containers.&nbsp\; To help with 
 water spills please send bottles that the straw flips in and closes all th
 e way.&nbsp\;</span></p><p><span>Please go to&nbsp\;</span><a target="_bla
 nk" rel="noopener noreferrer nofollow" href="http://www.italyisd.org"><spa
 n>www.italyisd.org</span></a><span>\, select schools\, select Stafford Ele
 mentary for more helpful information throughout the year.&nbsp\; Follow us
  on Facebook at Italy ISD and Stafford Elementary PTO.</span></p>
LOCATION:
SUMMARY:Stafford Reminders:
END:VEVENT
BEGIN:VEVENT
DTSTAMP:20260425T194405Z
UID:84657294-66fb-4cd5-a511-734a706b22fb
DTSTART;VALUE=DATE:20260413
DTEND;VALUE=DATE:20260501
DESCRIPTION:<p><span>Stafford PTO Presents - Mom vs Son Nerf Wars</span></p
 ><p><span>May 7th from 6pm-7:30pm at Stafford Gym/Cafeteria</span></p><p><
 span>Presale tickets available April 13th-April 30th</span></p><p><span>Ti
 cket options:&nbsp\;</span></p><p><span>$25 for Mother/Son Ticket WITH 2 M
 eals (meals include 2 hot dogs\, drink\, dessert)</span></p><p><span>$15 f
 or Mother/Son Ticket NO Meals</span></p><p><span>$5 Per Extra Son (This is
  an add-on for moms with multiple boys!)</span></p><p><span>Bring your own
  Nerf Gun\, ammo\, and safety glasses!</span></p><p><span><em>NO GEL BLAST
 ERS OR BALLS</em></span></p><p><span><em>NO STUDENT DROP OFFS</em></span><
 /p><p><span><em>STUDENT MUST BE ENROLLED AT STAFFORD</em></span></p><p><sp
 an>Our 1st ever annual mother/son event. If it goes well\, we can go BIGGE
 R every year!!! The more participation\, the better!!! Signup with the lin
 k below.</span></p><p><a target="_blank" rel="noopener noreferrer nofollow
 " href="https://www.zeffy.com/en-US/ticketing/mom-vs-son-nerf-wars"><span>
 https://www.zeffy.com/en-US/ticketing/mom-vs-son-nerf-wars</span></a></p><
 p><span>***You can also send cash or check with your student to school. If
  you pay with check and it does not clear\, you will owe a $20 fee.***</sp
 an></p>
LOCATION:
SUMMARY:Stafford PTO Nerf Wars  Pre Sale Ends 4/30
END:VEVENT
BEGIN:VEVENT
DTSTAMP:20260425T194405Z
UID:3e5a8dd4-5620-4120-8f8a-77c41d5e5a63
DTSTART;VALUE=DATE:20260425
DTEND;VALUE=DATE:20260426
DESCRIPTION:
LOCATION:
SUMMARY:Honor Band  Field Trip (select students)
END:VEVENT
BEGIN:VEVENT
DTSTAMP:20260425T194405Z
UID:3bfe769f-7592-44e8-b79e-bb3cc6b63b8f
DTSTART;VALUE=DATE:20260428
DTEND;VALUE=DATE:20260429
DESCRIPTION:
LOCATION:
SUMMARY:2nd Grade Field Trip
END:VEVENT
BEGIN:VEVENT
DTSTAMP:20260425T194405Z
UID:1ce9d8db-5dd4-4a4f-85e6-677e5d975ac2
DTSTART;VALUE=DATE:20260428
DTEND;VALUE=DATE:20260429
DESCRIPTION:
LOCATION:
SUMMARY:Kinder and 1st Field Trip
END:VEVENT
BEGIN:VEVENT
DTSTAMP:20260425T194405Z
UID:dc20a23f-02aa-44e3-9ffd-3b4308f6e20b
DTSTART;VALUE=DATE:20260428
DTEND;VALUE=DATE:20260429
DESCRIPTION:
LOCATION:
SUMMARY:PreK Spraberry and PreK Case Field Trip
END:VEVENT
BEGIN:VEVENT
DTSTAMP:20260425T194405Z
UID:124badbc-996d-45f5-baad-7e5a740370ce
DTSTART;VALUE=DATE:20260428
DTEND;VALUE=DATE:20260429
DESCRIPTION:<p>Our campus will be closed to visitors due to STAAR Testing.&
 nbsp\; Please plan accordingly and send your student(s) with what they nee
 d\, backpacks\, lunches\, water bottles\, etc.\, <strong>there will not be
  any deliveries to students</strong>.&nbsp\;&nbsp\;This notice applies to 
 <strong>all students </strong>even if your child is in a non-testing grade
 .&nbsp\; Thank you for helping our students have the best environment duri
 ng testing.</p>
LOCATION:
SUMMARY:STAAR Math 3rd-6th - closed campus for all grades no visitors or de
 liveries including lunches
END:VEVENT
BEGIN:VEVENT
DTSTAMP:20260425T194405Z
UID:a487c423-2d1b-4f8e-90a2-cc5add6ff30b
DTSTART;VALUE=DATE:20260429
DTEND;VALUE=DATE:20260430
DESCRIPTION:
LOCATION:
SUMMARY:Escamilla\, Hadsell\,  and Harrison Classes Field Day at Stafford 
END:VEVENT
BEGIN:VEVENT
DTSTAMP:20260425T194405Z
UID:448f492e-4247-474c-be41-4e6c3ca88dbe
DTSTART;VALUE=DATE:20260429
DTEND;VALUE=DATE:20260430
DESCRIPTION:
LOCATION:
SUMMARY:National Superhero Day
END:VEVENT
BEGIN:VEVENT
DTSTAMP:20260425T194405Z
UID:cda38033-f800-4d99-8be1-eba751387a4c
DTSTART;VALUE=DATE:20260430
DTEND;VALUE=DATE:20260501
DESCRIPTION:
LOCATION:
SUMMARY:PreK Case Field Trip
END:VEVENT
BEGIN:VEVENT
DTSTAMP:20260425T194405Z
UID:277eda3a-36e8-4deb-b8a7-5e31a39cb7ef
DTSTART;VALUE=DATE:20260430
DTEND;VALUE=DATE:20260501
DESCRIPTION:
LOCATION:
SUMMARY:3rd Grade Field Trip
END:VEVENT
BEGIN:VEVENT
DTSTAMP:20260425T194405Z
UID:3a30eed9-f0ff-4616-8380-dc5c30516adf
DTSTART;VALUE=DATE:20260430
DTEND;VALUE=DATE:20260501
DESCRIPTION:
LOCATION:
SUMMARY:Spring Book Fair - Parents can shop with their students can shop du
 ring their lunch time
END:VEVENT
BEGIN:VEVENT
DTSTAMP:20260425T194405Z
UID:bdaae350-6e7e-4f0e-bc8d-4398376a4146
DTSTART;VALUE=DATE:20260501
DTEND;VALUE=DATE:20260502
DESCRIPTION:
LOCATION:
SUMMARY:6th Grade Band Field Trip
END:VEVENT
BEGIN:VEVENT
DTSTAMP:20260425T194405Z
UID:0b860fd2-dc94-490a-92dd-de1bd95def07
DTSTART;VALUE=DATE:20260501
DTEND;VALUE=DATE:20260502
DESCRIPTION:
LOCATION:
SUMMARY:First Day of Asian Pacific American Heritage Month
END:VEVENT
BEGIN:VEVENT
DTSTAMP:20260425T194405Z
UID:e630434f-c269-41b2-b7f1-984375f000fb
DTSTART;VALUE=DATE:20260501
DTEND;VALUE=DATE:20260502
DESCRIPTION:
LOCATION:
SUMMARY:First Day of Jewish American Heritage Month
END:VEVENT
BEGIN:VEVENT
DTSTAMP:20260425T194405Z
UID:c173aff9-a50d-413d-b5c9-a552c1389f56
DTSTART;VALUE=DATE:20260501
DTEND;VALUE=DATE:20260502
DESCRIPTION:
LOCATION:
SUMMARY:Intervention\, Support and Activity Days
END:VEVENT
BEGIN:VEVENT
DTSTAMP:20260425T194405Z
UID:b7754039-3605-4142-bb15-46803a3bcbf9
DTSTART:20260501T170000
DTEND:20260501T190000
DESCRIPTION:
LOCATION:
SUMMARY:City of Italy Cinco De Mayo Celebration - at the Pavillion downtown
END:VEVENT
BEGIN:VEVENT
DTSTAMP:20260425T194405Z
UID:543e08d5-9ee0-4781-9eba-640fcd2c9e01
DTSTART;VALUE=DATE:20260504
DTEND;VALUE=DATE:20260505
DESCRIPTION:<p><span>Nutrition Staff Appreciation Day Happy School Lunch He
 ro Day – Ofelia Martinez\, Natasha Miller\, Kae Clingan\, and Jill Varne
 r!&nbsp\; Thank you for nourishing the lives of our students by\, not only
 \, filling their tummies\, but always greeting them with a smile!&nbsp\; T
 hank you for all that you do!&nbsp\; You are GREATLY appreciated!</span></
 p>
LOCATION:
SUMMARY:School Lunch Hero Day - Natasha\, Kae\, Jill and Ofelia!
END:VEVENT
BEGIN:VEVENT
DTSTAMP:20260425T194405Z
UID:bec9bea5-2ea8-4c2d-b0eb-6c37595b20aa
DTSTART;VALUE=DATE:20260504
DTEND;VALUE=DATE:20260505
DESCRIPTION:<p><span>School Principal Day - Principals Are…Patient. Relia
 ble. Important. Nurturing. Caring. Intelligent. Phenomenal. Approachable. 
 Leaders. Supportive.&nbsp\; Thank you\, Dr. Bray\, for being an amazing pr
 incipal!</span></p>
LOCATION:
SUMMARY:School Principal Appreciation Day - Bray!
END:VEVENT
BEGIN:VEVENT
DTSTAMP:20260425T194405Z
UID:2139e322-e3b4-432e-93aa-691f4e6432e2
DTSTART;VALUE=DATE:20260504
DTEND;VALUE=DATE:20260508
DESCRIPTION:<p><span>Teacher Appreciation Week -&nbsp\;Teachers inspire hop
 e\, ignite the imagination\, and instill a love of learning!&nbsp\; Thank 
 you for all your patience every day! &nbsp\;&nbsp\;For holding hands\, sha
 ping minds\, silly songs\, and calming fears.&nbsp\; For all the ways you 
 have cared and the wisdom you have shared.&nbsp\; Teaching is the one prof
 ession that creates all other professions!&nbsp\; We are oh so grateful fo
 r all you do!&nbsp\; Stafford is truly blessed with amazing Teachers!!&nbs
 p\; THANK YOU!</span></p>
LOCATION:
SUMMARY:Teacher Appreciation Week
END:VEVENT
BEGIN:VEVENT
DTSTAMP:20260425T194405Z
UID:ca1bea41-a469-4aa6-a5d5-1db506851fb4
DTSTART;VALUE=DATE:20260504
DTEND;VALUE=DATE:20260505
DESCRIPTION:
LOCATION:
SUMMARY:April Student of the Month Party
END:VEVENT
BEGIN:VEVENT
DTSTAMP:20260425T194405Z
UID:94574118-32c9-493d-913f-03b6bf440bd3
DTSTART;VALUE=DATE:20260504
DTEND;VALUE=DATE:20260508
DESCRIPTION:
LOCATION:
SUMMARY:Spring Book Fair - Parents can shop with their students can shop du
 ring their lunch time
END:VEVENT
BEGIN:VEVENT
DTSTAMP:20260425T194405Z
UID:97d7bde2-11f9-4c5e-bc3e-3bf03944b141
DTSTART;VALUE=DATE:20260505
DTEND;VALUE=DATE:20260506
DESCRIPTION:
LOCATION:
SUMMARY:Cinco De Mayo
END:VEVENT
BEGIN:VEVENT
DTSTAMP:20260425T194405Z
UID:44c97b65-7af6-4b82-ab5a-6d6e0c713095
DTSTART:20260505T161500
DTEND:20260505T180000
DESCRIPTION:<p><span>Family Night will be May 5th with Kona Ice</span></p>
LOCATION:
SUMMARY:Spring Book Fair  Family Night - With Kona Ice!
END:VEVENT
BEGIN:VEVENT
DTSTAMP:20260425T194405Z
UID:0c1988cc-4d3e-4628-baf4-85113566c9a8
DTSTART;VALUE=DATE:20260506
DTEND;VALUE=DATE:20260507
DESCRIPTION:<p><span>School Nurse Day!&nbsp\; School nurses are always righ
 t there to give comfort and care.&nbsp\; Steady and wise when temperatures
  rise.&nbsp\; Compassionate\, kind\, with a medical mind.&nbsp\; Skilled a
 nd alert when people are hurt.&nbsp\; Helpful and nice when giving advice.
 &nbsp\; Dependable\, sensible\, and indispensable!&nbsp\; A huge thank you
  to our amazing Nurse Cernoch and Nurse Hopgood!!</span></p>
LOCATION:
SUMMARY:Nurse Appreciation - Cernoch and Hopgood!
END:VEVENT
BEGIN:VEVENT
DTSTAMP:20260425T194405Z
UID:1ee6411f-eef3-4204-9dd2-d3c89aa3d2d5
DTSTART:20260506T163000
DTEND:20260506T163000
DESCRIPTION:
LOCATION:Stafford Cafeteria
SUMMARY:Retirement Party for Ms. Janek and  Ms. Spraberry 
END:VEVENT
BEGIN:VEVENT
DTSTAMP:20260425T194405Z
UID:b06f2d62-d3ac-499e-ab62-a9b5b8c73323
DTSTART;VALUE=DATE:20260507
DTEND;VALUE=DATE:20260508
DESCRIPTION:
LOCATION:
SUMMARY:Color Blitz War for 3rd-6th Grades
END:VEVENT
BEGIN:VEVENT
DTSTAMP:20260425T194405Z
UID:9fc0fa1f-b5d7-4e6a-8ed3-ba943e183afc
DTSTART;VALUE=DATE:20260507
DTEND;VALUE=DATE:20260508
DESCRIPTION:
LOCATION:
SUMMARY:National Day of Prayer
END:VEVENT
BEGIN:VEVENT
DTSTAMP:20260425T194405Z
UID:a60943e4-f780-46f9-a007-4332e9c1efe3
DTSTART:20260507T180000
DTEND:20260507T193000
DESCRIPTION:<p><span>Stafford PTO Presents - Mom vs Son Nerf Wars</span></p
 ><p><span>May 7th from 6pm-7:30pm at Stafford Gym/Cafeteria</span></p><p><
 span>Presale tickets available April 13th-April 30th</span></p><p><span>&n
 bsp\;</span></p><p><span>Ticket options:&nbsp\;</span></p><p><span>$25 for
  Mother/Son Ticket WITH 2 Meals (meals include 2 hot dogs\, drink\, desser
 t)</span></p><p><span>$15 for Mother/Son Ticket NO Meals</span></p><p><spa
 n>$5 Per Extra Son (This is an add-on for moms with multiple boys!)</span>
 </p><p><span>&nbsp\;</span></p><p><span>Bring your own Nerf Gun\, ammo\, a
 nd safety glasses!</span></p><p><span><em>NO GEL BLASTERS OR BALLS</em></s
 pan></p><p><span><em>NO STUDENT DROP OFFS</em></span></p><p><span><em>STUD
 ENT MUST BE ENROLLED AT STAFFORD</em></span></p><p><span>&nbsp\;</span></p
 ><p><span>Our 1st ever annual mother/son event. If it goes well\, we can g
 o BIGGER every year!!! The more participation\, the better!!! Signup with 
 the link below.</span></p><p><a target="_blank" rel="noopener noreferrer n
 ofollow" href="https://www.zeffy.com/en-US/ticketing/mom-vs-son-nerf-wars"
 ><span>https://www.zeffy.com/en-US/ticketing/mom-vs-son-nerf-wars</span></
 a></p><p><span>&nbsp\;</span></p><p><span>***You can also send cash or che
 ck with your student to school. If you pay with check and it does not clea
 r\, you will owe a $20 fee.***</span></p>
LOCATION:Stafford
SUMMARY:Mom vs. Son Nerf Battle
END:VEVENT
BEGIN:VEVENT
DTSTAMP:20260425T194405Z
UID:681a7243-b2f0-4363-bb1c-9d995a741d46
DTSTART;VALUE=DATE:20260508
DTEND;VALUE=DATE:20260509
DESCRIPTION:
LOCATION:
SUMMARY:Intervention\, Support and Activity Days
END:VEVENT
BEGIN:VEVENT
DTSTAMP:20260425T194405Z
UID:3f98f2bb-d2e6-42ee-9eda-29cb8ee89480
DTSTART;VALUE=DATE:20260510
DTEND;VALUE=DATE:20260511
DESCRIPTION:
LOCATION:
SUMMARY:Mother's Day
END:VEVENT
BEGIN:VEVENT
DTSTAMP:20260425T194405Z
UID:9052ecd7-7d53-44bf-ba02-c8eea5dcb291
DTSTART;VALUE=DATE:20260511
DTEND;VALUE=DATE:20260512
DESCRIPTION:
LOCATION:
SUMMARY:5th Grade Field Trip
END:VEVENT
BEGIN:VEVENT
DTSTAMP:20260425T194405Z
UID:58bfb229-1412-47c6-b585-44b3fb5139b9
DTSTART:20260511T171500
DTEND:20260511T171500
DESCRIPTION:
LOCATION:Cafeteria
SUMMARY:PTO Meeting
END:VEVENT
BEGIN:VEVENT
DTSTAMP:20260425T194405Z
UID:dcabd5e7-d201-48fc-82d8-a00c4c9a54c4
DTSTART:20260512T180000
DTEND:20260512T180000
DESCRIPTION:
LOCATION:Stafford Cafeteria
SUMMARY:1st Grade Play 
END:VEVENT
BEGIN:VEVENT
DTSTAMP:20260425T194405Z
UID:a9c6ce17-2677-4673-9d32-8a626b5ed7f0
DTSTART;VALUE=DATE:20260513
DTEND;VALUE=DATE:20260514
DESCRIPTION:
LOCATION:
SUMMARY:5th Grade Field Trip
END:VEVENT
BEGIN:VEVENT
DTSTAMP:20260425T194405Z
UID:41756bd7-2255-4b64-9357-40711bca4a54
DTSTART:20260513T180000
DTEND:20260513T180000
DESCRIPTION:<p>The Italy FFA banquet has been scheduled for May 13th beginn
 ing at 6PM. We would love&nbsp\;to see you guys there! FFA members eat fre
 e\, meal tickets are $10 a piece or $5 for children&nbsp\;under 12. We wil
 l be enjoying some delicious steak and sides catered&nbsp\;by Rowdy T. Ple
 ase contact Mr. White if you are interested in purchasing a ticket!</p><p>
 <span>Karlee Harton</span></p><p>Italy High School</p><p>Agricultural Scie
 nce Teacher</p><p><a target="_blank" rel="noopener noreferrer nofollow" hr
 ef="mailto:kharton@italyisd.org">kharton@italyisd.org</a></p>
LOCATION:Rowdy T Ranch
SUMMARY:Italy FFA banquet
END:VEVENT
BEGIN:VEVENT
DTSTAMP:20260425T194405Z
UID:57ba469f-48c3-407a-8b12-9649e3e8cbac
DTSTART;VALUE=DATE:20260514
DTEND;VALUE=DATE:20260515
DESCRIPTION:
LOCATION:
SUMMARY:Field Day
END:VEVENT
BEGIN:VEVENT
DTSTAMP:20260425T194405Z
UID:7e11b125-19de-44a9-b680-a3389850365b
DTSTART;VALUE=DATE:20260515
DTEND;VALUE=DATE:20260516
DESCRIPTION:<p><span>National Speech Language Pathologist Day!&nbsp\; Thank
  you\, Ms. Janek\, Ms. Adams and Ms. Conger\, for inspiring students daily
 \, devoting your time and energy to helping students communicate!</span></
 p>
LOCATION:
SUMMARY:Speech Language/Dyslexia Appreciation - Janek\, Adams\, and Conger!
END:VEVENT
BEGIN:VEVENT
DTSTAMP:20260425T194405Z
UID:79de1169-a147-4a51-9201-1abb9c7a337f
DTSTART;VALUE=DATE:20260515
DTEND;VALUE=DATE:20260516
DESCRIPTION:
LOCATION:
SUMMARY:Intervention\, Support and Activity Days
END:VEVENT
BEGIN:VEVENT
DTSTAMP:20260425T194405Z
UID:6948e806-698e-461b-8b69-d803b196e4d1
DTSTART:20260518T173000
DTEND:20260518T173000
DESCRIPTION:
LOCATION:High School
SUMMARY:Board Meeting
END:VEVENT
BEGIN:VEVENT
DTSTAMP:20260425T194405Z
UID:6085cc6d-b992-4c16-9dfb-e883eb5ea6ad
DTSTART;VALUE=DATE:20260519
DTEND;VALUE=DATE:20260520
DESCRIPTION:<p><span>Stafford's Fourth Annual Career Day is just around the
  corner\, and we would love your help. The event is scheduled for Tuesday\
 , May 19th from 11:30am - 3:30pm. We would love to open the world of poten
 tial future careers to our students. Can you help?&nbsp\;</span></p><p><sp
 an>We are looking for all types of jobs\, services\, and professions. We w
 ould love for presenters to come dressed in their "job attire"\, and even 
 bring some hands-on experiences for our kids if possible. We'd love mechan
 ics\, bakers\, businessmen\, farmers\, first responders etc. The sky's the
  limit! We want our Stafford students to understand that there is no holdi
 ng them back when it comes to their future opportunities. There are all ki
 nds of professions from which to choose. Please select the link below to f
 ill out the google form to let us know. Thank you!&nbsp\;</span></p><p><a 
 target="_blank" rel="noopener noreferrer nofollow" href="https://docs.goog
 le.com/forms/d/e/1FAIpQLSdnb6VRb7_laEP0aOcIkB2TeGTCd0zx6ghGbhc-OG08ZoM13w/
 viewform?usp=dialog">https://docs.google.com/forms/d/e/1FAIpQLSdnb6VRb7_la
 EP0aOcIkB2TeGTCd0zx6ghGbhc-OG08ZoM13w/viewform?usp=dialog</a></p>
LOCATION:
SUMMARY:Career Day
END:VEVENT
BEGIN:VEVENT
DTSTAMP:20260425T194405Z
UID:c005ffa7-0b80-4d49-89e7-b8bb76c5cd3a
DTSTART;VALUE=DATE:20260519
DTEND;VALUE=DATE:20260520
DESCRIPTION:
LOCATION:
SUMMARY:Kinder and 1st Grades Field Trip
END:VEVENT
BEGIN:VEVENT
DTSTAMP:20260425T194405Z
UID:68f4545e-67a3-4580-8eb6-3c673383b861
DTSTART;VALUE=DATE:20260519
DTEND;VALUE=DATE:20260520
DESCRIPTION:
LOCATION:Stafford Halls
SUMMARY:Prek Spraberry and Prek Case - ABC Parade
END:VEVENT
BEGIN:VEVENT
DTSTAMP:20260425T194405Z
UID:2d0baac0-8ae7-442c-b142-da18ffdca862
DTSTART;VALUE=DATE:20260520
DTEND;VALUE=DATE:20260522
DESCRIPTION:
LOCATION:
SUMMARY:Award Days
END:VEVENT
BEGIN:VEVENT
DTSTAMP:20260425T194405Z
UID:1b0a6ffe-db05-4864-a14f-6858ba207a50
DTSTART;VALUE=DATE:20260521
DTEND;VALUE=DATE:20260522
DESCRIPTION:
LOCATION:
SUMMARY:End of 6th Six Weeks
END:VEVENT
BEGIN:VEVENT
DTSTAMP:20260425T194405Z
UID:46ed9710-f5d1-476a-9040-28ec3085f5bf
DTSTART;VALUE=DATE:20260521
DTEND;VALUE=DATE:20260522
DESCRIPTION:
LOCATION:
SUMMARY:Last Day of 2025-2026 School Year!!
END:VEVENT
BEGIN:VEVENT
DTSTAMP:20260425T194405Z
UID:ac034430-083b-4a08-8587-0bf72e037133
DTSTART;VALUE=DATE:20260522
DTEND;VALUE=DATE:20260523
DESCRIPTION:
LOCATION:
SUMMARY:Staff Development - No School for Students
END:VEVENT
BEGIN:VEVENT
DTSTAMP:20260425T194405Z
UID:d45adfff-da75-44dd-b5ea-b836509133bf
DTSTART;VALUE=DATE:20260525
DTEND;VALUE=DATE:20260526
DESCRIPTION:
LOCATION:
SUMMARY:Memorial Day Holiday
END:VEVENT
BEGIN:VEVENT
DTSTAMP:20260425T194405Z
UID:a69d297b-7bf9-4969-bab4-08fa9e7e6cb0
DTSTART;VALUE=DATE:20260527
DTEND;VALUE=DATE:20260529
DESCRIPTION:<p><span>May 27\, May&nbsp\; 28</span></p><p><span>June 1-4 (Mo
 nday to Thursday)</span></p><p><span>June 8-11 (Monday to Thursday)</span>
 </p><p><span>June 15-18 Monday to Thursday) </span></p><p><span>Summer sch
 ool is 8am-12pm.</span></p>
LOCATION:TBD
SUMMARY:Summer School
END:VEVENT
BEGIN:VEVENT
DTSTAMP:20260425T194405Z
UID:94153a4c-920a-41ca-9bc9-c6cd9e286efb
DTSTART;VALUE=DATE:20260601
DTEND;VALUE=DATE:20260602
DESCRIPTION:
LOCATION:
SUMMARY:First Day of Caribbean-American Heritage Month
END:VEVENT
BEGIN:VEVENT
DTSTAMP:20260425T194405Z
UID:fbef7d51-8309-49c3-ba73-fe8d4dc8fb0d
DTSTART;VALUE=DATE:20260601
DTEND;VALUE=DATE:20260605
DESCRIPTION:<p>May 27\, May&nbsp\; 28</p><p>June 1-4 (Monday to Thursday)</
 p><p>June 8-11 (Monday to Thursday)</p><p>June 15-18 Monday to Thursday) <
 /p><p>Summer school is 8am-12pm.</p>
LOCATION:TBD
SUMMARY:Summer School
END:VEVENT
BEGIN:VEVENT
DTSTAMP:20260425T194405Z
UID:559a1a6c-7f41-45b9-a503-d0cf92e944c1
DTSTART;VALUE=DATE:20260605
DTEND;VALUE=DATE:20260606
DESCRIPTION:
LOCATION:
SUMMARY:Holiday
END:VEVENT
BEGIN:VEVENT
DTSTAMP:20260425T194405Z
UID:1d6b2d2b-256f-4c4e-a74e-bd4a124d52ac
DTSTART;VALUE=DATE:20260608
DTEND;VALUE=DATE:20260612
DESCRIPTION:<p>May 27\, May&nbsp\; 28</p><p>June 1-4 (Monday to Thursday)</
 p><p>June 8-11 (Monday to Thursday)</p><p>June 15-18 Monday to Thursday) <
 /p><p>Summer school is 8am-12pm.</p>
LOCATION:TBD
SUMMARY:Summer School
END:VEVENT
BEGIN:VEVENT
DTSTAMP:20260425T194405Z
UID:e56cf71b-b664-4c9d-949d-062378b7768f
DTSTART;VALUE=DATE:20260615
DTEND;VALUE=DATE:20260619
DESCRIPTION:<p>May 27\, May&nbsp\; 28</p><p>June 1-4 (Monday to Thursday)</
 p><p>June 8-11 (Monday to Thursday)</p><p>June 15-18 Monday to Thursday) <
 /p><p>Summer school is 8am-12pm.</p>
LOCATION:TBD
SUMMARY:Summer School
END:VEVENT
BEGIN:VEVENT
DTSTAMP:20260425T194405Z
UID:1a64879e-d4fc-4180-9172-ecc1f44fcb1c
DTSTART;VALUE=DATE:20260619
DTEND;VALUE=DATE:20260620
DESCRIPTION:
LOCATION:
SUMMARY:Juneteenth
END:VEVENT
BEGIN:VEVENT
DTSTAMP:20260425T194405Z
UID:76556eaa-ba60-4993-bb27-cb8e8fc008c3
DTSTART;VALUE=DATE:20260621
DTEND;VALUE=DATE:20260622
DESCRIPTION:
LOCATION:
SUMMARY:Father's Day
END:VEVENT
BEGIN:VEVENT
DTSTAMP:20260425T194405Z
UID:38c44fb4-e905-431b-874b-c220c3190eaf
DTSTART;VALUE=DATE:20260704
DTEND;VALUE=DATE:20260705
DESCRIPTION:
LOCATION:
SUMMARY:Independence Day
END:VEVENT
BEGIN:VEVENT
DTSTAMP:20260425T194405Z
UID:549ffe11-4666-4c4a-9efb-d3ed8c0bf27a
DTSTART;VALUE=DATE:20260713
DTEND;VALUE=DATE:20260716
DESCRIPTION:<p>Stafford</p><p>Annually\, our church uses Stafford Elementar
 y to do a free sports camp for the community and we usually use the Staffo
 rd Cafeteria and gym for the three day event. This year\, our camp is from
  July 13-15th from 6pm-8pm each day.<br><br>Thank you\,&nbsp\;<br><br><br>
 <strong>Pastor Shaun Roberts</strong><br><strong>Lead Pastor&nbsp\;</stron
 g><br><strong><br></strong><br><strong>Family Fellowship Church</strong><b
 r><strong>116 S. Ward Street&nbsp\;</strong><br><strong>Italy\, TX 76651</
 strong><br><strong>Mail:</strong>&nbsp\;PO Box 229\, Italy\, TX 76651<br><
 strong>Office:</strong>&nbsp\;(972) 483 6520</p>
LOCATION:Stafford
SUMMARY:CBC Free Sports Camp for the Community
END:VEVENT
END:VCALENDAR
