BEGIN:VCALENDAR
VERSION:2.0
PRODID:icalendar-ruby
CALSCALE:GREGORIAN
BEGIN:VTIMEZONE
TZID:America/New_York
BEGIN:DAYLIGHT
DTSTART:20260308T030000
TZOFFSETFROM:-0500
TZOFFSETTO:-0400
RRULE:FREQ=YEARLY;BYDAY=2SU;BYMONTH=3
TZNAME:EDT
END:DAYLIGHT
BEGIN:STANDARD
DTSTART:20261101T010000
TZOFFSETFROM:-0400
TZOFFSETTO:-0500
RRULE:FREQ=YEARLY;BYDAY=1SU;BYMONTH=11
TZNAME:EST
END:STANDARD
END:VTIMEZONE
BEGIN:VEVENT
DTSTAMP:20260420T012828Z
UID:efb57b19-ee8f-4e1e-94cf-62be8bb84f1b
DTSTART:20260420T160000
DTEND:20260420T180000
DESCRIPTION:
LOCATION:
SUMMARY:WMS Volleyball vs IMS  @ Woodbridge
END:VEVENT
BEGIN:VEVENT
DTSTAMP:20260420T012828Z
UID:dce32ffe-b08e-456f-9ffd-cfda6b8f1ab8
DTSTART:20260421T160000
DTEND:20260421T180000
DESCRIPTION:
LOCATION:
SUMMARY:WMS Family Literacy Event
END:VEVENT
BEGIN:VEVENT
DTSTAMP:20260420T012828Z
UID:ae22a553-1fe8-488f-af19-b96f21a64baa
DTSTART;VALUE=DATE:20260422
DTEND;VALUE=DATE:20260423
DESCRIPTION:
LOCATION:
SUMMARY:Wear Green for Earth Day
END:VEVENT
BEGIN:VEVENT
DTSTAMP:20260420T012828Z
UID:7989ed93-5c09-4549-a770-3654f709b63e
DTSTART:20260423T160000
DTEND:20260423T180000
DESCRIPTION:
LOCATION:
SUMMARY:WMS Volleyball vs FMS @ Woodbridge
END:VEVENT
BEGIN:VEVENT
DTSTAMP:20260420T012828Z
UID:617a57f5-6f01-4d44-ad51-5ab83cc4b019
DTSTART:20260427T160000
DTEND:20260427T180000
DESCRIPTION:
LOCATION:
SUMMARY:WMS Volleyball vs IMS @ Iselin
END:VEVENT
BEGIN:VEVENT
DTSTAMP:20260420T012828Z
UID:74a4f352-d08f-4f6d-a3ff-531f109be227
DTSTART:20260428T160000
DTEND:20260428T180000
DESCRIPTION:
LOCATION:
SUMMARY:WMS Volleyball vs FMS@ Fords
END:VEVENT
BEGIN:VEVENT
DTSTAMP:20260420T012828Z
UID:2f06ddae-ad08-4a62-bd09-e70244608265
DTSTART:20260430T160000
DTEND:20260430T180000
DESCRIPTION:
LOCATION:
SUMMARY:WMS Volleyball vs AMS @ Avenel
END:VEVENT
BEGIN:VEVENT
DTSTAMP:20260420T012828Z
UID:96c6cd54-868a-4f9f-b915-3ba16e078459
DTSTART:20260505T160000
DTEND:20260505T180000
DESCRIPTION:
LOCATION:
SUMMARY:WMS Volleyball vs AMS @ Woodbridge
END:VEVENT
BEGIN:VEVENT
DTSTAMP:20260420T012828Z
UID:9e733f7e-572f-497e-88f1-419f5df770d7
DTSTART:20260506T160000
DTEND:20260506T180000
DESCRIPTION:
LOCATION:
SUMMARY:WMS Track vs FMS @ Merrill Park
END:VEVENT
BEGIN:VEVENT
DTSTAMP:20260420T012828Z
UID:80a74f8c-f0cb-4017-a8ce-35c3bc630aae
DTSTART:20260507T160000
DTEND:20260507T180000
DESCRIPTION:
LOCATION:
SUMMARY:WMS Volleyball vs CMS @ Colonia
END:VEVENT
BEGIN:VEVENT
DTSTAMP:20260420T012828Z
UID:f2ab27f8-9481-4330-a174-831758ed04cd
DTSTART:20260511T160000
DTEND:20260511T180000
DESCRIPTION:
LOCATION:
SUMMARY:WMS Volleyball vs CMS @ Woodbridge
END:VEVENT
BEGIN:VEVENT
DTSTAMP:20260420T012828Z
UID:67581b4a-28b7-4d82-8e4f-7cc953b688f6
DTSTART:20260513T160000
DTEND:20260513T180000
DESCRIPTION:
LOCATION:
SUMMARY:WMS Track vs IMS @ Merrill Park
END:VEVENT
BEGIN:VEVENT
DTSTAMP:20260420T012828Z
UID:62fe0892-c3e8-4b13-9156-fe72786a650c
DTSTART:20260518T180000
DTEND:20260518T193000
DESCRIPTION:
LOCATION:
SUMMARY:WMS Spring Concert
END:VEVENT
BEGIN:VEVENT
DTSTAMP:20260420T012828Z
UID:c947dfd9-d493-4fe4-a5da-288b9a04c318
DTSTART:20260519T160000
DTEND:20260519T180000
DESCRIPTION:
LOCATION:
SUMMARY:WMS Track vs CMS @ Merrill Park
END:VEVENT
BEGIN:VEVENT
DTSTAMP:20260420T012828Z
UID:61e4898f-8816-481f-ab2c-89586ba390cb
DTSTART:20260527T160000
DTEND:20260527T180000
DESCRIPTION:
LOCATION:
SUMMARY:WMS Track - Meet of Champions @ Merrill Park
END:VEVENT
BEGIN:VEVENT
DTSTAMP:20260420T012828Z
UID:29909b5e-8495-4948-847b-fdf67682ab34
DTSTART;VALUE=DATE:20260602
DTEND;VALUE=DATE:20260603
DESCRIPTION:<p><a target="_blank" rel="noopener noreferrer nofollow" href="
 https://aptg.co/hy9_lV" relative-link="">Activate Fundraiser</a></p>
LOCATION:893 St Georges Ave\, Woodbridge
SUMMARY:WMS Activate Fundraiser Night
END:VEVENT
BEGIN:VEVENT
DTSTAMP:20260420T012828Z
UID:e6af7a9b-63b4-4563-9131-f3e9c95c68fc
DTSTART;VALUE=DATE:20260618
DTEND;VALUE=DATE:20260619
DESCRIPTION:
LOCATION:
SUMMARY:WMS 8th Grade Dance
END:VEVENT
BEGIN:VEVENT
DTSTAMP:20260420T012828Z
UID:9c471848-d5c1-48c4-b870-504a78bb9cfb
DTSTART;VALUE=DATE:20260622
DTEND;VALUE=DATE:20260623
DESCRIPTION:
LOCATION:
SUMMARY:WMS 8th Grade Promotion
END:VEVENT
BEGIN:VEVENT
DTSTAMP:20260420T012828Z
UID:85a859ad-f594-4e99-88b3-780abab45deb
DTSTART;VALUE=DATE:20260623
DTEND;VALUE=DATE:20260624
DESCRIPTION:
LOCATION:
SUMMARY:Last Day of School 
END:VEVENT
END:VCALENDAR
