BEGIN:VCALENDAR
VERSION:2.0
PRODID:icalendar-ruby
CALSCALE:GREGORIAN
BEGIN:VTIMEZONE
TZID:America/New_York
BEGIN:DAYLIGHT
DTSTART:20260308T030000
TZOFFSETFROM:-0500
TZOFFSETTO:-0400
RRULE:FREQ=YEARLY;BYDAY=2SU;BYMONTH=3
TZNAME:EDT
END:DAYLIGHT
BEGIN:STANDARD
DTSTART:20261101T010000
TZOFFSETFROM:-0400
TZOFFSETTO:-0500
RRULE:FREQ=YEARLY;BYDAY=1SU;BYMONTH=11
TZNAME:EST
END:STANDARD
END:VTIMEZONE
BEGIN:VEVENT
DTSTAMP:20260425T015342Z
UID:2637cdd3-f215-4595-9750-6885979883de
DTSTART:20260424T073000
DTEND:20260424T080000
DESCRIPTION:
LOCATION:
SUMMARY:Before School Activities: Choir (art rm)\; Math Help - 6th grade (5
 11)
END:VEVENT
BEGIN:VEVENT
DTSTAMP:20260425T015342Z
UID:4d24cd32-0141-4540-a43b-adbd6bff6d0f
DTSTART:20260427T072000
DTEND:20260427T080000
DESCRIPTION:
LOCATION:
SUMMARY:Before School Activity: Band - 6th grade (606)
END:VEVENT
BEGIN:VEVENT
DTSTAMP:20260425T015342Z
UID:3ba892ca-3711-46a9-9fb1-d5dc84748fac
DTSTART:20260427T150500
DTEND:20260427T160000
DESCRIPTION:
LOCATION:
SUMMARY:After School Activity:  Select Choir (604)
END:VEVENT
BEGIN:VEVENT
DTSTAMP:20260425T015342Z
UID:1dccc33e-7723-4a9c-890c-6220a9912b3b
DTSTART:20260427T160000
DTEND:20260427T180000
DESCRIPTION:
LOCATION:
SUMMARY:Girls Volleyball game WMS @ IMS  (Boys immediately to follow)
END:VEVENT
BEGIN:VEVENT
DTSTAMP:20260425T015342Z
UID:24ffe4e1-a791-47dd-856f-c7d676b73085
DTSTART:20260428T073000
DTEND:20260428T080500
DESCRIPTION:
LOCATION:
SUMMARY:Before School Activities:   Math Help - 6th grade (511)\, 7th grade
  (307)\, Choir (art rm)
END:VEVENT
BEGIN:VEVENT
DTSTAMP:20260425T015342Z
UID:cd2e61ba-7976-48c0-91ef-a8d2d85ae656
DTSTART:20260428T150500
DTEND:20260428T155000
DESCRIPTION:
LOCATION:
SUMMARY:Afterschool Clubs: Debate (415)\, Gaming (117)\,  Trivia (417)\, Gu
 itar (418)\, Astronomy (506)
END:VEVENT
BEGIN:VEVENT
DTSTAMP:20260425T015342Z
UID:6712357b-87da-434b-9771-29442867197d
DTSTART:20260428T150500
DTEND:20260428T170000
DESCRIPTION:
LOCATION:
SUMMARY:Dance Company Rehearsal (stage)  - All Dance Company Members
END:VEVENT
BEGIN:VEVENT
DTSTAMP:20260425T015342Z
UID:6e206872-23e9-459e-aa46-74c0e1f354dd
DTSTART:20260429T073000
DTEND:20260429T080500
DESCRIPTION:
LOCATION:
SUMMARY:Before School Activity: Band - 7th & 8th grade (606)
END:VEVENT
BEGIN:VEVENT
DTSTAMP:20260425T015342Z
UID:56c53298-a449-4826-8268-e686f320538a
DTSTART:20260429T150500
DTEND:20260429T155000
DESCRIPTION:
LOCATION:
SUMMARY:Afterschool Clubs:  Art\,  Chemistry  (505)\, Chess  (121)\, Esport
 s (314)\, Geography  (511)\, STEM (306)\, Math Help 8th Gr (414)
END:VEVENT
BEGIN:VEVENT
DTSTAMP:20260425T015342Z
UID:167d2d43-2c22-48c5-9234-a6d82124c3b7
DTSTART:20260429T150500
DTEND:20260429T163000
DESCRIPTION:
LOCATION:
SUMMARY:Drama Club Rehearsal  (stage)
END:VEVENT
BEGIN:VEVENT
DTSTAMP:20260425T015342Z
UID:70942878-01d1-4277-80f1-95f183689b59
DTSTART:20260430T072000
DTEND:20260430T080000
DESCRIPTION:
LOCATION:
SUMMARY:Before School Activity: Jazz Band (606)
END:VEVENT
BEGIN:VEVENT
DTSTAMP:20260425T015342Z
UID:594413c0-b76b-4e2c-9424-35ec4a9307cd
DTSTART:20260430T073000
DTEND:20260430T080000
DESCRIPTION:
LOCATION:
SUMMARY:Before School Activities:  Math Challenge (117)\, Math Help -  7th 
 grade (307)
END:VEVENT
BEGIN:VEVENT
DTSTAMP:20260425T015342Z
UID:0daf9e84-17c6-4b6e-aeb8-ab1342bfd21a
DTSTART:20260430T150500
DTEND:20260430T160000
DESCRIPTION:
LOCATION:
SUMMARY:Dance Company Rehearsal - Student Choreographers ONLY (stage)
END:VEVENT
BEGIN:VEVENT
DTSTAMP:20260425T015342Z
UID:4318a6bf-db68-46ea-9bd6-0d437adcef5d
DTSTART:20260430T160000
DTEND:20260430T180000
DESCRIPTION:
LOCATION:
SUMMARY:Boys Volleyball game CMS @ IMS  (Girls  immediately to follow)
END:VEVENT
BEGIN:VEVENT
DTSTAMP:20260425T015342Z
UID:863221b2-395a-4212-a4e8-a6c90401ae27
DTSTART:20260501T073000
DTEND:20260501T080000
DESCRIPTION:
LOCATION:
SUMMARY:Before School Activities: Choir (art rm)\; Math Help - 6th grade (5
 11)
END:VEVENT
BEGIN:VEVENT
DTSTAMP:20260425T015342Z
UID:b30c46d1-cea0-4dfa-ad60-76182b2bc5c3
DTSTART:20260504T072000
DTEND:20260504T080000
DESCRIPTION:
LOCATION:
SUMMARY:Before School Activity: Band - 6th grade (606)
END:VEVENT
BEGIN:VEVENT
DTSTAMP:20260425T015342Z
UID:57356713-1d9f-4543-b670-f8bbcfbc2b32
DTSTART:20260504T150000
DTEND:20260504T170000
DESCRIPTION:
LOCATION:
SUMMARY:Dance Company - Technical Rehearsal - All Dance Company Members
END:VEVENT
BEGIN:VEVENT
DTSTAMP:20260425T015342Z
UID:933bb6d7-11d6-4231-bf27-6b8e9bb45c32
DTSTART:20260504T150500
DTEND:20260504T160000
DESCRIPTION:
LOCATION:
SUMMARY:After School Activity:  Select Choir (604)
END:VEVENT
BEGIN:VEVENT
DTSTAMP:20260425T015342Z
UID:2d10c6c0-650c-4181-93a8-ea6968f4bebc
DTSTART:20260504T160000
DTEND:20260504T180000
DESCRIPTION:
LOCATION:
SUMMARY:Boys Volleyball game IMS @ CMS (Girls immediately to follow)
END:VEVENT
BEGIN:VEVENT
DTSTAMP:20260425T015342Z
UID:9b98ca95-00f9-4d09-8a2a-24bb8d93a7fa
DTSTART:20260505T073000
DTEND:20260505T080000
DESCRIPTION:
LOCATION:
SUMMARY:Before School Activities:   Math Help - 6th grade (511)\, 7th grade
  (307)\, Choir (art rm)
END:VEVENT
BEGIN:VEVENT
DTSTAMP:20260425T015342Z
UID:72a9037c-e5dd-4aed-b6e6-8b55cc85bb89
DTSTART:20260505T150000
DTEND:20260505T170000
DESCRIPTION:
LOCATION:
SUMMARY:Dance Company - Dress  Rehearsal - All Dance Company Members
END:VEVENT
BEGIN:VEVENT
DTSTAMP:20260425T015342Z
UID:e1e8bab3-59ee-4e12-a3bd-c916c18a5c8b
DTSTART:20260505T150500
DTEND:20260505T155000
DESCRIPTION:
LOCATION:
SUMMARY:Afterschool Clubs: Debate (415)\, Gaming (117)\,  Trivia (417)\, Gu
 itar (418)\, Math Help 8th Gr (414)\, Astronomy (506)
END:VEVENT
BEGIN:VEVENT
DTSTAMP:20260425T015342Z
UID:6d137b09-3969-4e8c-970c-c4267f97e13d
DTSTART:20260505T160000
DTEND:20260505T180000
DESCRIPTION:
LOCATION:
SUMMARY:Boys Volleyball game FMS @ IMS (Girls immediately to follow)
END:VEVENT
BEGIN:VEVENT
DTSTAMP:20260425T015342Z
UID:a81e4c08-2988-4515-8ba3-77d678a0004c
DTSTART:20260506T073000
DTEND:20260506T080500
DESCRIPTION:
LOCATION:
SUMMARY:Before School Activity: Band - 7th & 8th grade (606)
END:VEVENT
BEGIN:VEVENT
DTSTAMP:20260425T015342Z
UID:6f2e9620-67e3-4e49-947c-d6969b73a581
DTSTART:20260506T150500
DTEND:20260506T155000
DESCRIPTION:
LOCATION:
SUMMARY:Afterschool Clubs:  Art\,  Chemistry  (505)\, Chess  (121)\, Esport
 s (314)\, Geography  (511)\, STEM (306)\, Math Help 8th Gr (414)\,Fashion 
 (409)
END:VEVENT
BEGIN:VEVENT
DTSTAMP:20260425T015342Z
UID:fa5d358e-5a1a-4250-996d-bcee1851094d
DTSTART:20260506T150500
DTEND:20260506T163000
DESCRIPTION:
LOCATION:
SUMMARY:Drama Club Rehearsal  (stage)
END:VEVENT
BEGIN:VEVENT
DTSTAMP:20260425T015342Z
UID:9832df81-3af6-40fa-a075-9761e62eecda
DTSTART:20260506T160000
DTEND:20260506T173000
DESCRIPTION:
LOCATION:
SUMMARY:Boys and Girls Cross Country IMS vs AMS  (Merrill Park)
END:VEVENT
BEGIN:VEVENT
DTSTAMP:20260425T015342Z
UID:bf80d552-f6cd-421b-a4a0-10c0d7009542
DTSTART:20260506T180000
DTEND:20260506T193000
DESCRIPTION:
LOCATION:
SUMMARY:IMS Dance Company Spring Show
END:VEVENT
BEGIN:VEVENT
DTSTAMP:20260425T015342Z
UID:1a986f2d-ec7b-4582-97e7-9048590a5d70
DTSTART:20260507T072000
DTEND:20260507T080000
DESCRIPTION:
LOCATION:
SUMMARY:Before School Activity: Jazz Band (606)
END:VEVENT
BEGIN:VEVENT
DTSTAMP:20260425T015342Z
UID:8de4192b-d293-4a74-83cd-b16c0a00110b
DTSTART:20260507T073000
DTEND:20260507T080000
DESCRIPTION:
LOCATION:
SUMMARY:Before School Activities:  Math Challenge (117)\, Math Help - 7th g
 rade (307)
END:VEVENT
BEGIN:VEVENT
DTSTAMP:20260425T015342Z
UID:63c5784e-65f0-47df-90d5-3069a33f4054
DTSTART:20260507T150500
DTEND:20260507T173000
DESCRIPTION:
LOCATION:
SUMMARY:Drama Club Tech Week Rehearsal  (stage) 
END:VEVENT
BEGIN:VEVENT
DTSTAMP:20260425T015342Z
UID:bbc87c0c-f5f7-4d3e-ad71-fe0b2eee8c5a
DTSTART:20260507T160000
DTEND:20260507T180000
DESCRIPTION:
LOCATION:
SUMMARY:Boys Volleyball game IMS @ FMS (Girls immediately to follow)
END:VEVENT
BEGIN:VEVENT
DTSTAMP:20260425T015342Z
UID:4cdf1777-f620-41fd-86ed-ab18258a08a8
DTSTART:20260508T073000
DTEND:20260508T080000
DESCRIPTION:
LOCATION:
SUMMARY:Before School Activities: Choir (art rm)\; Math Help - 6th grade (5
 11)
END:VEVENT
BEGIN:VEVENT
DTSTAMP:20260425T015342Z
UID:1e2638f1-f041-4304-922a-3761ec92401c
DTSTART:20260508T150500
DTEND:20260508T173000
DESCRIPTION:
LOCATION:
SUMMARY:Drama Club Tech Week Rehearsal  (stage) 
END:VEVENT
BEGIN:VEVENT
DTSTAMP:20260425T015342Z
UID:52da3623-2bbc-48d3-8ad5-f52754509668
DTSTART:20260509T150500
DTEND:20260509T173000
DESCRIPTION:
LOCATION:
SUMMARY:Drama Club Tech Week Rehearsal  (stage) 
END:VEVENT
BEGIN:VEVENT
DTSTAMP:20260425T015342Z
UID:2178c20d-420b-44a3-a7dd-aec03cb1174a
DTSTART:20260510T150500
DTEND:20260510T173000
DESCRIPTION:
LOCATION:
SUMMARY:Drama Club Tech Week Rehearsal  (stage) 
END:VEVENT
BEGIN:VEVENT
DTSTAMP:20260425T015342Z
UID:68e87a5f-2264-4881-bd67-2408bd001f80
DTSTART:20260511T072000
DTEND:20260511T080000
DESCRIPTION:
LOCATION:
SUMMARY:Before School Activity: Band - 6th grade (606)
END:VEVENT
BEGIN:VEVENT
DTSTAMP:20260425T015342Z
UID:51f1eb93-1108-4058-92e8-de427cdab426
DTSTART:20260511T150500
DTEND:20260511T160000
DESCRIPTION:
LOCATION:
SUMMARY:After School Activity:  Select Choir (604)
END:VEVENT
BEGIN:VEVENT
DTSTAMP:20260425T015342Z
UID:648ef438-8eb6-4e9f-9c5d-3256550d845a
DTSTART:20260511T150500
DTEND:20260511T173000
DESCRIPTION:
LOCATION:
SUMMARY:Drama Club Tech Week Rehearsal  (stage) 
END:VEVENT
BEGIN:VEVENT
DTSTAMP:20260425T015342Z
UID:1eb84433-0579-4668-ae98-4d07452f09cc
DTSTART:20260512T073000
DTEND:20260512T080000
DESCRIPTION:
LOCATION:
SUMMARY:Before School Activities:   Math Help - 6th grade (511)\, 7th grade
  (307)\, Choir (art rm)
END:VEVENT
BEGIN:VEVENT
DTSTAMP:20260425T015342Z
UID:fbde54f9-9589-4fe0-a453-6f4a9f33bb1f
DTSTART:20260512T150500
DTEND:20260512T155000
DESCRIPTION:
LOCATION:
SUMMARY:Afterschool Clubs: Debate (415)\, Gaming (117)\,  Trivia (417)\, Gu
 itar (418)\, Math Help 8th Gr (414)\, Astronomy (506)
END:VEVENT
BEGIN:VEVENT
DTSTAMP:20260425T015342Z
UID:2648c776-bfa9-4e17-8318-038760957cfc
DTSTART:20260512T150500
DTEND:20260512T173000
DESCRIPTION:
LOCATION:
SUMMARY:Drama Club Tech Week Rehearsal  (stage) 
END:VEVENT
BEGIN:VEVENT
DTSTAMP:20260425T015342Z
UID:1ad971bb-92e3-474b-a063-bf318ea65523
DTSTART:20260512T183000
DTEND:20260512T200000
DESCRIPTION:
LOCATION:
SUMMARY:IMS Choir Concert @ JFK HS
END:VEVENT
BEGIN:VEVENT
DTSTAMP:20260425T015342Z
UID:e71447e9-c12e-4c8d-9bff-10d92c4102a9
DTSTART:20260513T073000
DTEND:20260513T080500
DESCRIPTION:
LOCATION:
SUMMARY:Before School Activities:  Panther Press Journalism Club (309)
END:VEVENT
BEGIN:VEVENT
DTSTAMP:20260425T015342Z
UID:d9159c1c-24eb-4b49-8b34-c2de766fe6fe
DTSTART:20260513T073000
DTEND:20260513T080500
DESCRIPTION:
LOCATION:
SUMMARY:Before School Activity: Band - 7th & 8th grade (606)
END:VEVENT
BEGIN:VEVENT
DTSTAMP:20260425T015342Z
UID:9b7e618a-340a-44f5-b541-b42a9a3dee37
DTSTART:20260513T150500
DTEND:20260513T155000
DESCRIPTION:
LOCATION:
SUMMARY:Afterschool Clubs:  Art\,  Chemistry  (505)\, Chess  (121)\, Esport
 s (314)\, Geography  (511)\, STEM (306)\, Math Help 8th Gr (414)\, Mock Tr
 ial (122)\,  Fashion (409)
END:VEVENT
BEGIN:VEVENT
DTSTAMP:20260425T015342Z
UID:6662bfe6-cc4c-43c6-bddc-6055c6f78396
DTSTART:20260513T160000
DTEND:20260513T173000
DESCRIPTION:
LOCATION:
SUMMARY:Boys and Girls Cross Country CMS vs IMS (Merrill Park)
END:VEVENT
BEGIN:VEVENT
DTSTAMP:20260425T015342Z
UID:741aff89-83d7-4ac5-96ed-5434bcaf1a60
DTSTART:20260513T180000
DTEND:20260513T190000
DESCRIPTION:
LOCATION:
SUMMARY:IMS Drama Performance
END:VEVENT
BEGIN:VEVENT
DTSTAMP:20260425T015342Z
UID:e0e2e636-398b-45de-9f8c-7e061cae9ce2
DTSTART:20260514T072000
DTEND:20260514T080000
DESCRIPTION:
LOCATION:
SUMMARY:Before School Activity: Jazz Band (606)
END:VEVENT
BEGIN:VEVENT
DTSTAMP:20260425T015342Z
UID:d97b0f74-ee2e-42e7-a89e-f0332dc050f4
DTSTART:20260514T073000
DTEND:20260514T080000
DESCRIPTION:
LOCATION:
SUMMARY:Before School Activities:  Math Challenge (117)\, Math Help -  7th 
 grade (307)
END:VEVENT
BEGIN:VEVENT
DTSTAMP:20260425T015342Z
UID:5353f6d8-72a4-4a91-9053-709ded67a9fc
DTSTART:20260515T073000
DTEND:20260515T080000
DESCRIPTION:
LOCATION:
SUMMARY:Before School Activities:  Math Help - 6th grade (511)
END:VEVENT
BEGIN:VEVENT
DTSTAMP:20260425T015342Z
UID:e6452543-3f10-49dd-ae6e-28fa60c9a83d
DTSTART:20260518T072000
DTEND:20260518T080000
DESCRIPTION:
LOCATION:
SUMMARY:Before School Activity: Band - 6th grade (606)
END:VEVENT
BEGIN:VEVENT
DTSTAMP:20260425T015342Z
UID:4e922986-cff1-40c8-8c64-1f28f3dc714c
DTSTART:20260519T073000
DTEND:20260519T080000
DESCRIPTION:
LOCATION:
SUMMARY:Before School Activities:   Math Help - 6th grade (511)\, 7th grade
  (307)
END:VEVENT
BEGIN:VEVENT
DTSTAMP:20260425T015342Z
UID:09137333-5649-4afe-aac1-c41490d05f22
DTSTART:20260519T150500
DTEND:20260519T155000
DESCRIPTION:
LOCATION:
SUMMARY:Afterschool Clubs: Debate (415)\, Gaming (117)\,  Trivia (417)\, Gu
 itar (418)\, Astronomy (506)
END:VEVENT
BEGIN:VEVENT
DTSTAMP:20260425T015342Z
UID:b46f06de-0234-4adc-a030-414061ed546e
DTSTART:20260519T160000
DTEND:20260519T173000
DESCRIPTION:
LOCATION:
SUMMARY:Boys and Girls Cross Country IMS vs FMS (Merrill Park)
END:VEVENT
BEGIN:VEVENT
DTSTAMP:20260425T015342Z
UID:e5453d1d-6c05-466e-8602-a6bcbce46183
DTSTART:20260520T073000
DTEND:20260520T080500
DESCRIPTION:
LOCATION:
SUMMARY:Before School Activity: Band - 7th & 8th grade (606)
END:VEVENT
BEGIN:VEVENT
DTSTAMP:20260425T015342Z
UID:5b48869f-1998-4ce7-8ce4-65b56d2ce535
DTSTART:20260520T150500
DTEND:20260520T155000
DESCRIPTION:
LOCATION:
SUMMARY:Afterschool Clubs:  Art\,  Chemistry  (505)\, Chess  (121)\, Esport
 s (314)\, Geography  (511)\, STEM (306)\, Math Help 8th Gr (414)\, Mock Tr
 ial (122)\,  Fashion (409)
END:VEVENT
BEGIN:VEVENT
DTSTAMP:20260425T015342Z
UID:3c056dcc-d988-40a4-a7b6-7e7a90877ffe
DTSTART:20260520T180000
DTEND:20260520T193000
DESCRIPTION:
LOCATION:
SUMMARY:IMS Band Concert @ JFK HS
END:VEVENT
BEGIN:VEVENT
DTSTAMP:20260425T015342Z
UID:31a37a95-32b3-435c-acb9-6b46c0a8d7a4
DTSTART:20260521T073000
DTEND:20260521T080000
DESCRIPTION:
LOCATION:
SUMMARY:Before School Activities:  Math Challenge (117)\, Math Help - 7th g
 rade (307)
END:VEVENT
BEGIN:VEVENT
DTSTAMP:20260425T015342Z
UID:337d444c-b7d0-4a74-bcff-b79a337f4df7
DTSTART;VALUE=DATE:20260525
DTEND;VALUE=DATE:20260526
DESCRIPTION:
LOCATION:
SUMMARY:Memorial Day - No School
END:VEVENT
BEGIN:VEVENT
DTSTAMP:20260425T015342Z
UID:2fdfe857-e316-4657-b583-138f9661e974
DTSTART:20260527T160000
DTEND:20260527T173000
DESCRIPTION:
LOCATION:
SUMMARY:Cross Country Meet of Champions (TBD)
END:VEVENT
BEGIN:VEVENT
DTSTAMP:20260425T015342Z
UID:45978545-b9b2-4636-aabb-ca7a428deee3
DTSTART;VALUE=DATE:20260602
DTEND;VALUE=DATE:20260603
DESCRIPTION:
LOCATION:
SUMMARY:Primary Election Day - No School
END:VEVENT
BEGIN:VEVENT
DTSTAMP:20260425T015342Z
UID:ffdca464-68bf-48d4-8d93-9d6fe0e9818c
DTSTART:20260610T073000
DTEND:20260610T080500
DESCRIPTION:
LOCATION:
SUMMARY:Before School Activities:  Panther Press Journalism Club (309)
END:VEVENT
BEGIN:VEVENT
DTSTAMP:20260425T015342Z
UID:6638a3ac-a316-4499-8bed-ae8013c99075
DTSTART;VALUE=DATE:20260616
DTEND;VALUE=DATE:20260619
DESCRIPTION:
LOCATION:
SUMMARY:Early Dismissal - 12:45pm
END:VEVENT
BEGIN:VEVENT
DTSTAMP:20260425T015342Z
UID:a0cfcb16-9d19-4970-87d7-eb6b3aa46d78
DTSTART;VALUE=DATE:20260619
DTEND;VALUE=DATE:20260620
DESCRIPTION:
LOCATION:
SUMMARY:Juneteenth - No School
END:VEVENT
BEGIN:VEVENT
DTSTAMP:20260425T015342Z
UID:5ee4a820-3990-4f24-8623-2c23b03c0f75
DTSTART:20260622T080000
DTEND:20260622T124500
DESCRIPTION:
LOCATION:
SUMMARY:Early Dismissal - 12:45pm
END:VEVENT
BEGIN:VEVENT
DTSTAMP:20260425T015342Z
UID:be89305b-5cd9-406b-8564-e986e55cb8aa
DTSTART:20260622T100000
DTEND:20260622T110000
DESCRIPTION:
LOCATION:
SUMMARY:8th Grade Promotion Ceremony
END:VEVENT
BEGIN:VEVENT
DTSTAMP:20260425T015342Z
UID:e39ec0ff-a64c-4253-a8b0-2a4c01147313
DTSTART:20260623T080000
DTEND:20260623T124500
DESCRIPTION:
LOCATION:
SUMMARY:Last Day of School - 12:45 Dismissal
END:VEVENT
END:VCALENDAR
