BEGIN:VCALENDAR
VERSION:2.0
PRODID:icalendar-ruby
CALSCALE:GREGORIAN
BEGIN:VTIMEZONE
TZID:America/New_York
BEGIN:DAYLIGHT
DTSTART:20260308T030000
TZOFFSETFROM:-0500
TZOFFSETTO:-0400
RRULE:FREQ=YEARLY;BYDAY=2SU;BYMONTH=3
TZNAME:EDT
END:DAYLIGHT
BEGIN:STANDARD
DTSTART:20261101T010000
TZOFFSETFROM:-0400
TZOFFSETTO:-0500
RRULE:FREQ=YEARLY;BYDAY=1SU;BYMONTH=11
TZNAME:EST
END:STANDARD
END:VTIMEZONE
BEGIN:VEVENT
DTSTAMP:20260424T010304Z
UID:60cebc71-3cde-4544-bc7e-eb967c594a34
DTSTART:20260423T160000
DTEND:20260423T180000
DESCRIPTION:
LOCATION:
SUMMARY:Boys & Girls Volleyball (AMS @ IMS)
END:VEVENT
BEGIN:VEVENT
DTSTAMP:20260424T010304Z
UID:f02621b5-b812-49d7-9fbb-6d5438c720c2
DTSTART:20260428T160000
DTEND:20260428T180000
DESCRIPTION:
LOCATION:
SUMMARY:Boys & Girls Volleyball (AMS @ CMS)
END:VEVENT
BEGIN:VEVENT
DTSTAMP:20260424T010304Z
UID:bb1ac44f-c77a-4e68-8a00-0a9a34efe5c9
DTSTART:20260429T160000
DTEND:20260429T170000
DESCRIPTION:
LOCATION:Fairview Ave\, Colonia\, NJ 07067\, USA
SUMMARY:Boys & Girls XC
END:VEVENT
BEGIN:VEVENT
DTSTAMP:20260424T010304Z
UID:03eda6c9-1f7b-4d57-a17d-ae570e48f307
DTSTART:20260430T160000
DTEND:20260430T180000
DESCRIPTION:
LOCATION:
SUMMARY:Boys & Girls Volleyball (WMS @ AMS)
END:VEVENT
BEGIN:VEVENT
DTSTAMP:20260424T010304Z
UID:109d3a0e-2234-497b-977e-5b276a48a2e8
DTSTART:20260504T160000
DTEND:20260504T180000
DESCRIPTION:
LOCATION:
SUMMARY:Boys & Girls Volleyball (AMS @ FMS)
END:VEVENT
BEGIN:VEVENT
DTSTAMP:20260424T010304Z
UID:c436e168-0860-414d-8d0d-f0be47d8cef1
DTSTART:20260505T160000
DTEND:20260505T180000
DESCRIPTION:
LOCATION:
SUMMARY:Boys & Girls Volleyball (AMS @ WMS)
END:VEVENT
BEGIN:VEVENT
DTSTAMP:20260424T010304Z
UID:98f7ec3a-ef83-4a9c-b278-a8b3175f5476
DTSTART:20260506T160000
DTEND:20260506T170000
DESCRIPTION:
LOCATION:Fairview Ave\, Colonia\, NJ 07067\, USA
SUMMARY:Boys & Girls XC
END:VEVENT
BEGIN:VEVENT
DTSTAMP:20260424T010304Z
UID:df8cf2fb-54be-41e3-81c6-4da5a905b8ab
DTSTART:20260507T180000
DTEND:20260507T200000
DESCRIPTION:
LOCATION:
SUMMARY:PTO Spring Dance
END:VEVENT
BEGIN:VEVENT
DTSTAMP:20260424T010304Z
UID:6022b640-fd35-47eb-aa72-023d6c64da58
DTSTART:20260511T160000
DTEND:20260511T180000
DESCRIPTION:
LOCATION:
SUMMARY:Boys & Girls Volleyball (FMS @ AMS)
END:VEVENT
BEGIN:VEVENT
DTSTAMP:20260424T010304Z
UID:1149a7bb-f6fa-4b00-a128-aeb5a7484929
DTSTART:20260513T160000
DTEND:20260513T170000
DESCRIPTION:
LOCATION:Fairview Ave\, Colonia\, NJ 07067\, USA
SUMMARY:Boys & Girls XC
END:VEVENT
BEGIN:VEVENT
DTSTAMP:20260424T010304Z
UID:046f694e-82d2-457c-89ae-82aa026cf83c
DTSTART:20260519T180000
DTEND:20260519T193000
DESCRIPTION:
LOCATION:
SUMMARY:Spring Dance Company Showcase
END:VEVENT
BEGIN:VEVENT
DTSTAMP:20260424T010304Z
UID:14e2c429-b2b0-4594-b304-e7f0b6efa30b
DTSTART;VALUE=DATE:20260525
DTEND;VALUE=DATE:20260526
DESCRIPTION:
LOCATION:
SUMMARY:Memorial Day (WTSD Closed)
END:VEVENT
BEGIN:VEVENT
DTSTAMP:20260424T010304Z
UID:eed2207e-e6ae-440e-8f32-563a57652469
DTSTART:20260527T160000
DTEND:20260527T173000
DESCRIPTION:
LOCATION:Fairview Ave\, Colonia\, NJ 07067\, USA
SUMMARY:XC Meet of Champions 
END:VEVENT
BEGIN:VEVENT
DTSTAMP:20260424T010304Z
UID:9d7b8187-e10c-4487-b295-7c7f6ee66060
DTSTART:20260610T180000
DTEND:20260610T190000
DESCRIPTION:
LOCATION:
SUMMARY:Band & Chorus Concert 
END:VEVENT
BEGIN:VEVENT
DTSTAMP:20260424T010304Z
UID:b814450a-773b-42e8-90b5-4471b3a56b1f
DTSTART;VALUE=DATE:20260616
DTEND;VALUE=DATE:20260619
DESCRIPTION:<blockquote style="margin-left: 40px\; font-weight: normal" cla
 ss="indent"><p></p></blockquote>
LOCATION:
SUMMARY:Early Dismissal (12:45 p.m.)
END:VEVENT
BEGIN:VEVENT
DTSTAMP:20260424T010304Z
UID:c0ed624d-d84b-47a5-9829-4a2925a9dd28
DTSTART:20260616T180000
DTEND:20260616T210000
DESCRIPTION:
LOCATION:1002 US-9\, Woodbridge\, NJ 07095\, USA
SUMMARY:8th Gr. Dance
END:VEVENT
BEGIN:VEVENT
DTSTAMP:20260424T010304Z
UID:f33f458c-2bf4-45b0-8130-a5754fd9b350
DTSTART;VALUE=DATE:20260619
DTEND;VALUE=DATE:20260620
DESCRIPTION:
LOCATION:
SUMMARY:WTSD Closed (Juneteenth)
END:VEVENT
BEGIN:VEVENT
DTSTAMP:20260424T010304Z
UID:70844ea0-57fe-4906-ab54-b5582f594458
DTSTART;VALUE=DATE:20260622
DTEND;VALUE=DATE:20260624
DESCRIPTION:
LOCATION:
SUMMARY:Early Dismissal (12:45 p.m.)
END:VEVENT
BEGIN:VEVENT
DTSTAMP:20260424T010304Z
UID:33ce9016-0816-48cb-8535-febf6d701bb3
DTSTART:20260622T140000
DTEND:20260622T150000
DESCRIPTION:<p>Weather permitting\, no rain and it's not excessively hot\, 
 8th Grade Promotion will be held on the football field at Colonia High Sch
 ool at 2 p.m.  If it's raining or if it is excessively hot\, 8th grade pro
 motion will be held in the gymnasium at Avenel Middle School at 2 p.m. </p
 >
LOCATION:180 East St\, Colonia\, NJ 07067\, USA
SUMMARY:8th Grade Promotion 
END:VEVENT
END:VCALENDAR
