BEGIN:VCALENDAR
VERSION:2.0
PRODID:icalendar-ruby
CALSCALE:GREGORIAN
BEGIN:VTIMEZONE
TZID:America/New_York
BEGIN:DAYLIGHT
DTSTART:20260308T030000
TZOFFSETFROM:-0500
TZOFFSETTO:-0400
RRULE:FREQ=YEARLY;BYDAY=2SU;BYMONTH=3
TZNAME:EDT
END:DAYLIGHT
BEGIN:STANDARD
DTSTART:20261101T010000
TZOFFSETFROM:-0400
TZOFFSETTO:-0500
RRULE:FREQ=YEARLY;BYDAY=1SU;BYMONTH=11
TZNAME:EST
END:STANDARD
END:VTIMEZONE
BEGIN:VEVENT
DTSTAMP:20260423T132933Z
UID:77ad3101-80f7-4f36-9abc-e8119d762e24
DTSTART;VALUE=DATE:20260424
DTEND;VALUE=DATE:20260425
DESCRIPTION:
LOCATION:
SUMMARY:Spring Picture Day
END:VEVENT
BEGIN:VEVENT
DTSTAMP:20260423T132933Z
UID:b716c2bf-fe6f-4b2e-9f04-10d88b19c631
DTSTART:20260427T090000
DTEND:20260427T090000
DESCRIPTION:
LOCATION:
SUMMARY:Grades 3-5 -- NJSLA  Reading Session 1
END:VEVENT
BEGIN:VEVENT
DTSTAMP:20260423T132933Z
UID:85aba164-7288-4c30-bcf4-fcbd391bc2a0
DTSTART:20260428T090000
DTEND:20260428T090000
DESCRIPTION:
LOCATION:
SUMMARY:Grades 3-5 -- NJSLA  Reading Session 2
END:VEVENT
BEGIN:VEVENT
DTSTAMP:20260423T132933Z
UID:e21ec158-fff0-4aea-a3af-b7244fccc032
DTSTART:20260429T090000
DTEND:20260429T090000
DESCRIPTION:
LOCATION:
SUMMARY:Grades 3-5 -- NJSLA  Writing
END:VEVENT
BEGIN:VEVENT
DTSTAMP:20260423T132933Z
UID:c1edf7be-9f56-4c4c-ad5c-ed5aed068e99
DTSTART:20260430T090000
DTEND:20260430T090000
DESCRIPTION:
LOCATION:
SUMMARY:Grades 3-5 -- NJSLA  Math Session 1
END:VEVENT
BEGIN:VEVENT
DTSTAMP:20260423T132933Z
UID:0aadd9bc-1772-4ec1-aeed-f35116ff9e43
DTSTART:20260501T090000
DTEND:20260501T090000
DESCRIPTION:
LOCATION:
SUMMARY:Grades 3-5 -- NJSLA  Math Session 2
END:VEVENT
BEGIN:VEVENT
DTSTAMP:20260423T132933Z
UID:bdfe0039-3c5b-4e4b-bca6-5c076c75d663
DTSTART:20260502T083000
DTEND:20260502T120000
DESCRIPTION:
LOCATION:Colonia High School\, 180 East St\, Colonia\, NJ 07067\, USA
SUMMARY:Elementary Track Meet
END:VEVENT
BEGIN:VEVENT
DTSTAMP:20260423T132933Z
UID:2ef8a70e-7933-4ad8-a663-cfe3deb36468
DTSTART:20260506T143000
DTEND:20260506T153000
DESCRIPTION:
LOCATION:
SUMMARY:NEHS Ceremony (more info to follow)
END:VEVENT
BEGIN:VEVENT
DTSTAMP:20260423T132933Z
UID:0036d505-5e46-49e7-b426-4427aaabaeb4
DTSTART:20260511T090000
DTEND:20260511T090000
DESCRIPTION:
LOCATION:
SUMMARY:Grade 5 -- NJSLA Science Unit 1
END:VEVENT
BEGIN:VEVENT
DTSTAMP:20260423T132933Z
UID:60cd11c0-3cc9-44f1-b65a-7c711e5767d9
DTSTART:20260512T090000
DTEND:20260512T090000
DESCRIPTION:
LOCATION:
SUMMARY:Grade 5 -- NJSLA Science Unit 2
END:VEVENT
BEGIN:VEVENT
DTSTAMP:20260423T132933Z
UID:cef1c5d0-738c-40bd-9618-d407553cf720
DTSTART:20260513T090000
DTEND:20260513T090000
DESCRIPTION:
LOCATION:
SUMMARY:Grade 5 -- NJSLA Science Unit 3
END:VEVENT
BEGIN:VEVENT
DTSTAMP:20260423T132933Z
UID:33a3effc-2615-4e2f-b22d-50f8c2bd40cd
DTSTART:20260514T090000
DTEND:20260514T090000
DESCRIPTION:
LOCATION:
SUMMARY:Grade 5 -- NJSLA Science Unit 4
END:VEVENT
BEGIN:VEVENT
DTSTAMP:20260423T132933Z
UID:62b05f78-b0d1-4f7b-a52b-6f164184a2a4
DTSTART:20260514T160000
DTEND:20260514T180000
DESCRIPTION:
LOCATION:
SUMMARY:COLOR RUN 
END:VEVENT
BEGIN:VEVENT
DTSTAMP:20260423T132933Z
UID:8ba141b5-fb98-4167-8a8e-b44b3837522a
DTSTART:20260516T170000
DTEND:20260516T193000
DESCRIPTION:
LOCATION:
SUMMARY:NIGHT OUT with SOMERSET PATRIOTS
END:VEVENT
BEGIN:VEVENT
DTSTAMP:20260423T132933Z
UID:b644edde-75b0-4ca5-a4ef-62ca545e15d2
DTSTART:20260520T090000
DTEND:20260520T153000
DESCRIPTION:
LOCATION:
SUMMARY:SCIENCE FAIR -Grade 5
END:VEVENT
BEGIN:VEVENT
DTSTAMP:20260423T132933Z
UID:c31e805e-3551-4367-82bb-84b61e3f098a
DTSTART;VALUE=DATE:20260521
DTEND;VALUE=DATE:20260522
DESCRIPTION:
LOCATION:
SUMMARY:School Spirit Day
END:VEVENT
BEGIN:VEVENT
DTSTAMP:20260423T132933Z
UID:af56451f-e2c0-471d-bed1-00679d56b19a
DTSTART:20260527T090000
DTEND:20260527T153000
DESCRIPTION:
LOCATION:
SUMMARY:WAX MUSEUM ~4TH Grade
END:VEVENT
BEGIN:VEVENT
DTSTAMP:20260423T132933Z
UID:3da9525f-5872-49f9-85a8-506b53cc62b4
DTSTART:20260603T163000
DTEND:20260603T193000
DESCRIPTION:
LOCATION:
SUMMARY:SPRING CONCERT at COLONIA MIDDLE SCHOOL 
END:VEVENT
BEGIN:VEVENT
DTSTAMP:20260423T132933Z
UID:1c7d589e-85e9-4ecc-9a60-759719d64058
DTSTART:20260604T140000
DTEND:20260604T150000
DESCRIPTION:
LOCATION:
SUMMARY:Gr. 2 Poetry Cafe
END:VEVENT
BEGIN:VEVENT
DTSTAMP:20260423T132933Z
UID:f7ad5ad5-9214-47ba-b88f-e449a3d2a3a7
DTSTART:20260610T140000
DTEND:20260610T150000
DESCRIPTION:
LOCATION:
SUMMARY:FIRST GRADE READING CELEBRATION 
END:VEVENT
BEGIN:VEVENT
DTSTAMP:20260423T132933Z
UID:2461fa8d-3956-4e25-be3c-33fc9e628751
DTSTART;VALUE=DATE:20260611
DTEND;VALUE=DATE:20260612
DESCRIPTION:
LOCATION:
SUMMARY:Field Day
END:VEVENT
BEGIN:VEVENT
DTSTAMP:20260423T132933Z
UID:3b555ca4-64a8-4d73-ae42-6a022669d1af
DTSTART;VALUE=DATE:20260612
DTEND;VALUE=DATE:20260613
DESCRIPTION:
LOCATION:
SUMMARY:Field Day Rain Date
END:VEVENT
BEGIN:VEVENT
DTSTAMP:20260423T132933Z
UID:fbafcaf6-2c32-45c5-808b-c06633a35142
DTSTART:20260616T100000
DTEND:20260616T113000
DESCRIPTION:
LOCATION:
SUMMARY:FIFTH GRADE BBQ & YEARBOOK SIGNING 
END:VEVENT
BEGIN:VEVENT
DTSTAMP:20260423T132933Z
UID:4e6dea68-ab1b-4831-824a-fb36b8d70222
DTSTART:20260617T093000
DTEND:20260617T110000
DESCRIPTION:
LOCATION:
SUMMARY:5th Grade Promotion
END:VEVENT
BEGIN:VEVENT
DTSTAMP:20260423T132933Z
UID:6ede5e9a-d84d-4925-8e9e-225b4d2affaa
DTSTART;VALUE=DATE:20260619
DTEND;VALUE=DATE:20260620
DESCRIPTION:
LOCATION:
SUMMARY:Juneteenth - No School
END:VEVENT
BEGIN:VEVENT
DTSTAMP:20260423T132933Z
UID:8e199ed8-29e5-4142-91af-42ebe8a25414
DTSTART:20260622T113000
DTEND:20260622T123000
DESCRIPTION:
LOCATION:
SUMMARY:KINDERGARTEN MOVING UP 
END:VEVENT
BEGIN:VEVENT
DTSTAMP:20260423T132933Z
UID:d7a6e828-a9c6-4127-97ff-cd811681b8f5
DTSTART:20260623T080000
DTEND:20260623T083000
DESCRIPTION:
LOCATION:
SUMMARY:LAST DAY OF SCHOOL
END:VEVENT
END:VCALENDAR
