BEGIN:VCALENDAR
VERSION:2.0
PRODID:icalendar-ruby
CALSCALE:GREGORIAN
BEGIN:VTIMEZONE
TZID:America/New_York
BEGIN:DAYLIGHT
DTSTART:20260308T030000
TZOFFSETFROM:-0500
TZOFFSETTO:-0400
RRULE:FREQ=YEARLY;BYDAY=2SU;BYMONTH=3
TZNAME:EDT
END:DAYLIGHT
BEGIN:STANDARD
DTSTART:20261101T010000
TZOFFSETFROM:-0400
TZOFFSETTO:-0500
RRULE:FREQ=YEARLY;BYDAY=1SU;BYMONTH=11
TZNAME:EST
END:STANDARD
END:VTIMEZONE
BEGIN:VEVENT
DTSTAMP:20260425T034717Z
UID:f8861358-a065-431c-850f-1b0b28c93ae1
DTSTART;VALUE=DATE:20260427
DTEND;VALUE=DATE:20260502
DESCRIPTION:
LOCATION:
SUMMARY:Grades 3-5 NJSLA Testing
END:VEVENT
BEGIN:VEVENT
DTSTAMP:20260425T034717Z
UID:cab7d494-f604-4763-bf28-af2dab1002dc
DTSTART;VALUE=DATE:20260511
DTEND;VALUE=DATE:20260515
DESCRIPTION:
LOCATION:
SUMMARY:Grade 5 NJSLA-S Testing
END:VEVENT
BEGIN:VEVENT
DTSTAMP:20260425T034717Z
UID:cf3e43d0-c777-4401-a8ba-2d6f3a67be99
DTSTART:20260520T180000
DTEND:20260520T183000
DESCRIPTION:
LOCATION:
SUMMARY:Spring Band Concert
END:VEVENT
BEGIN:VEVENT
DTSTAMP:20260425T034717Z
UID:a8404c9e-0cc2-42cf-a881-9623ecc406e2
DTSTART;VALUE=DATE:20260525
DTEND;VALUE=DATE:20260526
DESCRIPTION:
LOCATION:
SUMMARY:No School
END:VEVENT
BEGIN:VEVENT
DTSTAMP:20260425T034717Z
UID:aa8f98fe-2c92-45c9-9db2-46e17cc167ef
DTSTART:20260529T140000
DTEND:20260529T150000
DESCRIPTION:
LOCATION:
SUMMARY:NEHS Induction Ceremony
END:VEVENT
BEGIN:VEVENT
DTSTAMP:20260425T034717Z
UID:41d7b19b-afd3-40d4-bf55-84aa5efa4cfb
DTSTART;VALUE=DATE:20260602
DTEND;VALUE=DATE:20260603
DESCRIPTION:
LOCATION:
SUMMARY:No  School
END:VEVENT
BEGIN:VEVENT
DTSTAMP:20260425T034717Z
UID:1da68b53-2d60-40f0-ab2a-7fbac8c14917
DTSTART:20260604T140000
DTEND:20260604T150000
DESCRIPTION:
LOCATION:
SUMMARY:First Grade Reading Celebration
END:VEVENT
BEGIN:VEVENT
DTSTAMP:20260425T034717Z
UID:7ad8e647-bbf1-439e-bd79-88789da065da
DTSTART:20260612T100000
DTEND:20260612T150000
DESCRIPTION:
LOCATION:
SUMMARY:Fifth Grade Picnic
END:VEVENT
BEGIN:VEVENT
DTSTAMP:20260425T034717Z
UID:a095a4bc-2739-4dc6-adce-f241bfa68ad3
DTSTART;VALUE=DATE:20260616
DTEND;VALUE=DATE:20260619
DESCRIPTION:
LOCATION:
SUMMARY:Early Dismissal
END:VEVENT
BEGIN:VEVENT
DTSTAMP:20260425T034717Z
UID:0b228fe2-4fcb-4de2-bce2-03de7c34ba17
DTSTART;VALUE=DATE:20260616
DTEND;VALUE=DATE:20260617
DESCRIPTION:
LOCATION:
SUMMARY:Field Day
END:VEVENT
BEGIN:VEVENT
DTSTAMP:20260425T034717Z
UID:2cf6bd5d-16d9-4e9d-bb10-02fe2844a61e
DTSTART:20260617T100000
DTEND:20260617T120000
DESCRIPTION:
LOCATION:
SUMMARY:Fifth Grade Promotion Ceremony
END:VEVENT
BEGIN:VEVENT
DTSTAMP:20260425T034717Z
UID:2974ba42-5722-4b6c-ad34-f5e6ad0dba6d
DTSTART;VALUE=DATE:20260619
DTEND;VALUE=DATE:20260620
DESCRIPTION:
LOCATION:
SUMMARY:No School
END:VEVENT
BEGIN:VEVENT
DTSTAMP:20260425T034717Z
UID:4064a2f8-d159-4672-bb07-d9ff1dbf6f28
DTSTART;VALUE=DATE:20260622
DTEND;VALUE=DATE:20260624
DESCRIPTION:
LOCATION:
SUMMARY:Early Dismissal
END:VEVENT
END:VCALENDAR
