BEGIN:VCALENDAR
VERSION:2.0
PRODID:icalendar-ruby
CALSCALE:GREGORIAN
BEGIN:VTIMEZONE
TZID:America/Chicago
BEGIN:DAYLIGHT
DTSTART:20260308T030000
TZOFFSETFROM:-0600
TZOFFSETTO:-0500
RRULE:FREQ=YEARLY;BYDAY=2SU;BYMONTH=3
TZNAME:CDT
END:DAYLIGHT
BEGIN:STANDARD
DTSTART:20261101T010000
TZOFFSETFROM:-0500
TZOFFSETTO:-0600
RRULE:FREQ=YEARLY;BYDAY=1SU;BYMONTH=11
TZNAME:CST
END:STANDARD
END:VTIMEZONE
BEGIN:VEVENT
DTSTAMP:20260426T022952Z
UID:9fe3a1d3-0000-4ae5-820b-80a65623e105
DTSTART;VALUE=DATE:20260428
DTEND;VALUE=DATE:20260429
DESCRIPTION:
LOCATION:
SUMMARY:8th Grade Science Testing
END:VEVENT
BEGIN:VEVENT
DTSTAMP:20260426T022952Z
UID:128ec3a3-cfb7-4df0-a774-978eed210550
DTSTART;VALUE=DATE:20260430
DTEND;VALUE=DATE:20260501
DESCRIPTION:
LOCATION:
SUMMARY:8th Grade Writing Test
END:VEVENT
BEGIN:VEVENT
DTSTAMP:20260426T022952Z
UID:3800d2d4-b01f-47c8-a5d4-ca3b2bd4e623
DTSTART:20260501T090000
DTEND:20260501T140000
DESCRIPTION:
LOCATION:
SUMMARY:8th Grade Field Trip
END:VEVENT
BEGIN:VEVENT
DTSTAMP:20260426T022952Z
UID:c240e4e8-eabd-44c7-95de-b292c6125033
DTSTART:20260505T160000
DTEND:20260505T173000
DESCRIPTION:
LOCATION:
SUMMARY:Bruins Volleyball Tryouts
END:VEVENT
BEGIN:VEVENT
DTSTAMP:20260426T022952Z
UID:2040369f-cfc6-4608-ab7c-60498da229e7
DTSTART:20260507T160000
DTEND:20260507T173000
DESCRIPTION:
LOCATION:
SUMMARY:Bruin Volleyball Tryouts
END:VEVENT
BEGIN:VEVENT
DTSTAMP:20260426T022952Z
UID:20770547-40d0-44ad-b0ee-757cbc63f743
DTSTART;VALUE=DATE:20260508
DTEND;VALUE=DATE:20260509
DESCRIPTION:
LOCATION:
SUMMARY:Staff Breakfast and Lunch - Provided by Horace Mann
END:VEVENT
BEGIN:VEVENT
DTSTAMP:20260426T022952Z
UID:f56af99f-ca10-4bed-839a-bec704d0dee8
DTSTART:20260508T093000
DTEND:20260508T143000
DESCRIPTION:
LOCATION:
SUMMARY:7th Grade Sooner Park Field Trip
END:VEVENT
BEGIN:VEVENT
DTSTAMP:20260426T022952Z
UID:cfc5da0a-720d-4bb4-aa71-aa9e1fc0612a
DTSTART:20260512T120000
DTEND:20260512T130000
DESCRIPTION:Grades need to be entered for Finals by 1pm
LOCATION:
SUMMARY:Grades Due for Finals
END:VEVENT
BEGIN:VEVENT
DTSTAMP:20260426T022952Z
UID:57b8a08a-8fc0-49f9-8800-00556ef81d20
DTSTART;VALUE=DATE:20260513
DTEND;VALUE=DATE:20260514
DESCRIPTION:Finals exemption forms will be passed out to students today!
LOCATION:
SUMMARY:Finals: Exemption Form Day
END:VEVENT
BEGIN:VEVENT
DTSTAMP:20260426T022952Z
UID:2483e7ae-37fe-4c7e-abef-4dddd8e5ff05
DTSTART:20260515T093000
DTEND:20260515T103000
DESCRIPTION:
LOCATION:
SUMMARY:6th Grade Awards Ceremony
END:VEVENT
BEGIN:VEVENT
DTSTAMP:20260426T022952Z
UID:5320431b-9eb5-4eff-b722-1c5cadf40249
DTSTART:20260515T110000
DTEND:20260515T120000
DESCRIPTION:
LOCATION:
SUMMARY:7th Grade Awards Ceremony
END:VEVENT
BEGIN:VEVENT
DTSTAMP:20260426T022952Z
UID:f2ae5e32-4f92-4693-8019-c6beac959662
DTSTART:20260518T090000
DTEND:20260518T100000
DESCRIPTION:
LOCATION:
SUMMARY:Senior Walk @ MMS
END:VEVENT
BEGIN:VEVENT
DTSTAMP:20260426T022952Z
UID:9cb6c92f-9617-4f81-a573-af9e3f95e16b
DTSTART:20260519T100000
DTEND:20260519T120000
DESCRIPTION:
LOCATION:
SUMMARY:8th Grade Farewell and Awards Ceremony
END:VEVENT
BEGIN:VEVENT
DTSTAMP:20260426T022952Z
UID:b580d7fb-53f0-446d-812d-8a83aaefee90
DTSTART;VALUE=DATE:20260520
DTEND;VALUE=DATE:20260522
DESCRIPTION:
LOCATION:
SUMMARY:Final Exams
END:VEVENT
BEGIN:VEVENT
DTSTAMP:20260426T022952Z
UID:75e6c4fe-d96d-487a-8cc8-de9f69a935c5
DTSTART;VALUE=DATE:20260521
DTEND;VALUE=DATE:20260522
DESCRIPTION:
LOCATION:
SUMMARY:Last Day of Classes
END:VEVENT
BEGIN:VEVENT
DTSTAMP:20260426T022952Z
UID:eafaad26-a07f-4e1a-9c61-5418b10187b0
DTSTART;VALUE=DATE:20260522
DTEND;VALUE=DATE:20260523
DESCRIPTION:
LOCATION:
SUMMARY:Teacher Work Day
END:VEVENT
BEGIN:VEVENT
DTSTAMP:20260426T022952Z
UID:2c447564-1032-4f48-a95a-8c97933d8f00
DTSTART:20260615T153000
DTEND:20260615T163000
DESCRIPTION:CMT will be using choir room\, big and small gyms\, and commons
  area for rehearsals
LOCATION:
SUMMARY:CMT Summer Rehearsals
END:VEVENT
BEGIN:VEVENT
DTSTAMP:20260426T022952Z
UID:58f25d5f-cc2c-4f7c-806f-171b244f6fca
DTSTART:20260616T153000
DTEND:20260616T163000
DESCRIPTION:CMT will be using choir room\, big and small gyms\, and commons
  area for rehearsals
LOCATION:
SUMMARY:CMT Summer Rehearsals
END:VEVENT
BEGIN:VEVENT
DTSTAMP:20260426T022952Z
UID:647a6fce-cb71-46d8-9ce3-5355d8f00e6f
DTSTART:20260617T153000
DTEND:20260617T163000
DESCRIPTION:CMT will be using choir room\, big and small gyms\, and commons
  area for rehearsals
LOCATION:
SUMMARY:CMT Summer Rehearsals
END:VEVENT
BEGIN:VEVENT
DTSTAMP:20260426T022952Z
UID:dfd34bf7-8b7d-4fcb-84ab-ccc41119d026
DTSTART:20260618T153000
DTEND:20260618T163000
DESCRIPTION:CMT will be using choir room\, big and small gyms\, and commons
  area for rehearsals
LOCATION:
SUMMARY:CMT Summer Rehearsals
END:VEVENT
BEGIN:VEVENT
DTSTAMP:20260426T022952Z
UID:1f1588de-e05d-4d70-b40e-e49e1d7d9e20
DTSTART:20260619T153000
DTEND:20260619T163000
DESCRIPTION:CMT will be using choir room\, big and small gyms\, and commons
  area for rehearsals
LOCATION:
SUMMARY:CMT Summer Rehearsals
END:VEVENT
BEGIN:VEVENT
DTSTAMP:20260426T022952Z
UID:1fc6f51d-307e-4259-9b1b-6ee0b9b39535
DTSTART:20260620T153000
DTEND:20260620T163000
DESCRIPTION:CMT will be using choir room\, big and small gyms\, and commons
  area for rehearsals
LOCATION:
SUMMARY:CMT Summer Rehearsals
END:VEVENT
BEGIN:VEVENT
DTSTAMP:20260426T022952Z
UID:eba88b19-0bed-4917-a91b-c062b0935099
DTSTART:20260621T153000
DTEND:20260621T163000
DESCRIPTION:CMT will be using choir room\, big and small gyms\, and commons
  area for rehearsals
LOCATION:
SUMMARY:CMT Summer Rehearsals
END:VEVENT
BEGIN:VEVENT
DTSTAMP:20260426T022952Z
UID:f3b8364c-a7d3-4869-8bef-00ece823dff2
DTSTART:20260622T153000
DTEND:20260622T163000
DESCRIPTION:CMT will be using choir room\, big and small gyms\, and commons
  area for rehearsals
LOCATION:
SUMMARY:CMT Summer Rehearsals
END:VEVENT
BEGIN:VEVENT
DTSTAMP:20260426T022952Z
UID:f82ad3e5-8839-4208-8fbb-a2c13016eac6
DTSTART:20260623T153000
DTEND:20260623T163000
DESCRIPTION:CMT will be using choir room\, big and small gyms\, and commons
  area for rehearsals
LOCATION:
SUMMARY:CMT Summer Rehearsals
END:VEVENT
BEGIN:VEVENT
DTSTAMP:20260426T022952Z
UID:5db7e9e8-df32-435c-aa69-bf989368baed
DTSTART:20260624T153000
DTEND:20260624T163000
DESCRIPTION:CMT will be using choir room\, big and small gyms\, and commons
  area for rehearsals
LOCATION:
SUMMARY:CMT Summer Rehearsals
END:VEVENT
BEGIN:VEVENT
DTSTAMP:20260426T022952Z
UID:86e74aa7-83b7-4db9-8751-e5cccd634333
DTSTART:20260625T153000
DTEND:20260625T163000
DESCRIPTION:CMT will be using choir room\, big and small gyms\, and commons
  area for rehearsals
LOCATION:
SUMMARY:CMT Summer Rehearsals
END:VEVENT
BEGIN:VEVENT
DTSTAMP:20260426T022952Z
UID:f55e3308-bdd0-4966-872c-fd70283e0a57
DTSTART:20260626T153000
DTEND:20260626T163000
DESCRIPTION:CMT will be using choir room\, big and small gyms\, and commons
  area for rehearsals
LOCATION:
SUMMARY:CMT Summer Rehearsals
END:VEVENT
BEGIN:VEVENT
DTSTAMP:20260426T022952Z
UID:9e610771-1f05-48a5-828a-00dbb3f4075d
DTSTART:20260627T153000
DTEND:20260627T163000
DESCRIPTION:CMT will be using choir room\, big and small gyms\, and commons
  area for rehearsals
LOCATION:
SUMMARY:CMT Summer Rehearsals
END:VEVENT
BEGIN:VEVENT
DTSTAMP:20260426T022952Z
UID:32849bde-b11d-4dd7-a747-71a040fdc54e
DTSTART:20260628T153000
DTEND:20260628T163000
DESCRIPTION:CMT will be using choir room\, big and small gyms\, and commons
  area for rehearsals
LOCATION:
SUMMARY:CMT Summer Rehearsals
END:VEVENT
BEGIN:VEVENT
DTSTAMP:20260426T022952Z
UID:148dfe67-f0f8-48d5-bad6-5652b09af7c2
DTSTART:20260629T153000
DTEND:20260629T163000
DESCRIPTION:CMT will be using choir room\, big and small gyms\, and commons
  area for rehearsals
LOCATION:
SUMMARY:CMT Summer Rehearsals
END:VEVENT
BEGIN:VEVENT
DTSTAMP:20260426T022952Z
UID:61711cb7-de9d-4e55-83b7-cb755718a8f0
DTSTART:20260630T153000
DTEND:20260630T163000
DESCRIPTION:CMT will be using choir room\, big and small gyms\, and commons
  area for rehearsals
LOCATION:
SUMMARY:CMT Summer Rehearsals
END:VEVENT
BEGIN:VEVENT
DTSTAMP:20260426T022952Z
UID:d1d9fc70-0453-41b5-962a-b2d4239f3a2c
DTSTART:20260701T153000
DTEND:20260701T163000
DESCRIPTION:CMT will be using choir room\, big and small gyms\, and commons
  area for rehearsals
LOCATION:
SUMMARY:CMT Summer Rehearsals
END:VEVENT
BEGIN:VEVENT
DTSTAMP:20260426T022952Z
UID:72d23866-c8e6-492d-ac30-05528cca3d2b
DTSTART:20260702T153000
DTEND:20260702T163000
DESCRIPTION:CMT will be using choir room\, big and small gyms\, and commons
  area for rehearsals
LOCATION:
SUMMARY:CMT Summer Rehearsals
END:VEVENT
BEGIN:VEVENT
DTSTAMP:20260426T022952Z
UID:c50340f0-d059-408c-8c49-5e527117b0c9
DTSTART:20260703T153000
DTEND:20260703T163000
DESCRIPTION:CMT will be using choir room\, big and small gyms\, and commons
  area for rehearsals
LOCATION:
SUMMARY:CMT Summer Rehearsals
END:VEVENT
BEGIN:VEVENT
DTSTAMP:20260426T022952Z
UID:513707c1-0603-41cf-b7a4-1b6b7b6e28ef
DTSTART:20260704T153000
DTEND:20260704T163000
DESCRIPTION:CMT will be using choir room\, big and small gyms\, and commons
  area for rehearsals
LOCATION:
SUMMARY:CMT Summer Rehearsals
END:VEVENT
BEGIN:VEVENT
DTSTAMP:20260426T022952Z
UID:a9e3d54c-8034-4889-9746-cd72f68bd3a8
DTSTART:20260705T153000
DTEND:20260705T163000
DESCRIPTION:CMT will be using choir room\, big and small gyms\, and commons
  area for rehearsals
LOCATION:
SUMMARY:CMT Summer Rehearsals
END:VEVENT
BEGIN:VEVENT
DTSTAMP:20260426T022952Z
UID:186c8a7c-9f3f-423d-a8dd-e31af2214f9e
DTSTART:20260706T153000
DTEND:20260706T163000
DESCRIPTION:CMT will be using choir room\, big and small gyms\, and commons
  area for rehearsals
LOCATION:
SUMMARY:CMT Summer Rehearsals
END:VEVENT
BEGIN:VEVENT
DTSTAMP:20260426T022952Z
UID:e73ba77d-f38b-4ca4-84a8-5188020aab35
DTSTART:20260707T153000
DTEND:20260707T163000
DESCRIPTION:CMT will be using choir room\, big and small gyms\, and commons
  area for rehearsals
LOCATION:
SUMMARY:CMT Summer Rehearsals
END:VEVENT
BEGIN:VEVENT
DTSTAMP:20260426T022952Z
UID:0377013c-0179-4e44-8dc0-df69063c64ce
DTSTART:20260708T153000
DTEND:20260708T163000
DESCRIPTION:CMT will be using choir room\, big and small gyms\, and commons
  area for rehearsals
LOCATION:
SUMMARY:CMT Summer Rehearsals
END:VEVENT
BEGIN:VEVENT
DTSTAMP:20260426T022952Z
UID:95801b75-fc6c-4b04-b700-5a663e0ad9e4
DTSTART:20260709T153000
DTEND:20260709T163000
DESCRIPTION:CMT will be using choir room\, big and small gyms\, and commons
  area for rehearsals
LOCATION:
SUMMARY:CMT Summer Rehearsals
END:VEVENT
BEGIN:VEVENT
DTSTAMP:20260426T022952Z
UID:d64fd97d-ec93-44ed-abe1-798617a22b25
DTSTART:20260710T153000
DTEND:20260710T163000
DESCRIPTION:CMT will be using choir room\, big and small gyms\, and commons
  area for rehearsals
LOCATION:
SUMMARY:CMT Summer Rehearsals
END:VEVENT
BEGIN:VEVENT
DTSTAMP:20260426T022952Z
UID:a6077f47-bfcc-49b9-846e-d4e6624b175b
DTSTART:20260727T080000
DTEND:20260727T150000
DESCRIPTION:
LOCATION:
SUMMARY:MMS - 26/27 SY Registration
END:VEVENT
BEGIN:VEVENT
DTSTAMP:20260426T022952Z
UID:738e1cb4-6245-4f6b-aae4-159d0e39068e
DTSTART:20260728T080000
DTEND:20260728T150000
DESCRIPTION:
LOCATION:
SUMMARY:MMS - 26/27 SY Registration
END:VEVENT
BEGIN:VEVENT
DTSTAMP:20260426T022952Z
UID:94a70c43-2914-40ad-8982-06b40d2858ea
DTSTART:20260728T180000
DTEND:20260728T190000
DESCRIPTION:
LOCATION:
SUMMARY:MMS - 26/27 SY - Chromebook Night
END:VEVENT
BEGIN:VEVENT
DTSTAMP:20260426T022952Z
UID:ae2ebe01-e2f0-4444-aab3-a68727eaf5d7
DTSTART;VALUE=DATE:20260810
DTEND;VALUE=DATE:20260813
DESCRIPTION:
LOCATION:
SUMMARY:Teacher Inservice Days
END:VEVENT
BEGIN:VEVENT
DTSTAMP:20260426T022952Z
UID:9497200a-8e04-44ce-8873-eacb2c29e80c
DTSTART;VALUE=DATE:20260813
DTEND;VALUE=DATE:20260814
DESCRIPTION:
LOCATION:
SUMMARY:1st Day of School
END:VEVENT
BEGIN:VEVENT
DTSTAMP:20260426T022952Z
UID:76b8a157-f609-4764-8853-2cd495eab7ba
DTSTART;VALUE=DATE:20260907
DTEND;VALUE=DATE:20260908
DESCRIPTION:
LOCATION:
SUMMARY:Labor Day - No School
END:VEVENT
BEGIN:VEVENT
DTSTAMP:20260426T022952Z
UID:b26aa202-9d71-4d2b-a9a5-919616a84a94
DTSTART;VALUE=DATE:20261009
DTEND;VALUE=DATE:20261010
DESCRIPTION:
LOCATION:
SUMMARY:End of 1st Quarter
END:VEVENT
BEGIN:VEVENT
DTSTAMP:20260426T022952Z
UID:e97806d3-d6ab-48bc-950b-62abf5225685
DTSTART;VALUE=DATE:20261014
DTEND;VALUE=DATE:20261015
DESCRIPTION:
LOCATION:
SUMMARY:Teacher Inservice - No Classes
END:VEVENT
BEGIN:VEVENT
DTSTAMP:20260426T022952Z
UID:5d4365a1-fb45-4b1a-88e6-e064a949b555
DTSTART;VALUE=DATE:20261015
DTEND;VALUE=DATE:20261017
DESCRIPTION:
LOCATION:
SUMMARY:Fall Break - No Classes
END:VEVENT
BEGIN:VEVENT
DTSTAMP:20260426T022952Z
UID:be1f5718-275e-48c3-9053-d9e73a6839c6
DTSTART;VALUE=DATE:20261019
DTEND;VALUE=DATE:20261020
DESCRIPTION:
LOCATION:
SUMMARY:No School (Exchange Day for PreK-12 Parent/Teacher Conferences)
END:VEVENT
BEGIN:VEVENT
DTSTAMP:20260426T022952Z
UID:9c7782f6-ccd1-4902-9b9e-7611d2e2c3a3
DTSTART;VALUE=DATE:20261123
DTEND;VALUE=DATE:20261128
DESCRIPTION:
LOCATION:
SUMMARY:Thanksgiving Break - No Classes
END:VEVENT
BEGIN:VEVENT
DTSTAMP:20260426T022952Z
UID:eb4ee056-3720-4152-bf85-5367727e4f07
DTSTART;VALUE=DATE:20261218
DTEND;VALUE=DATE:20261219
DESCRIPTION:
LOCATION:
SUMMARY:Last Day of 1st Semester
END:VEVENT
BEGIN:VEVENT
DTSTAMP:20260426T022952Z
UID:034127e9-08dd-4595-a972-08bd9f8c063c
DTSTART;VALUE=DATE:20261219
DTEND;VALUE=DATE:20270104
DESCRIPTION:
LOCATION:
SUMMARY:Winter Break - No Classes
END:VEVENT
BEGIN:VEVENT
DTSTAMP:20260426T022952Z
UID:1c5ce19f-03b1-4925-8b60-a1dbd304c60c
DTSTART;VALUE=DATE:20270104
DTEND;VALUE=DATE:20270105
DESCRIPTION:
LOCATION:
SUMMARY:Teacher Inservice - No Classes
END:VEVENT
BEGIN:VEVENT
DTSTAMP:20260426T022952Z
UID:2ca25d4e-c621-42f8-af6f-3bdf81e7db07
DTSTART;VALUE=DATE:20270105
DTEND;VALUE=DATE:20270106
DESCRIPTION:
LOCATION:
SUMMARY:First Day of 2nd Semester
END:VEVENT
BEGIN:VEVENT
DTSTAMP:20260426T022952Z
UID:299782dc-36aa-4a49-9a32-120f34bfefee
DTSTART;VALUE=DATE:20270118
DTEND;VALUE=DATE:20270119
DESCRIPTION:
LOCATION:
SUMMARY:No School - MLK Jr. Day
END:VEVENT
BEGIN:VEVENT
DTSTAMP:20260426T022952Z
UID:fc439861-f8db-4dfc-959e-a70d2afdab83
DTSTART;VALUE=DATE:20270305
DTEND;VALUE=DATE:20270306
DESCRIPTION:
LOCATION:
SUMMARY:End of 3rd Quarter
END:VEVENT
BEGIN:VEVENT
DTSTAMP:20260426T022952Z
UID:506526d9-cd8d-4418-8bc9-fc21c6eba6d6
DTSTART;VALUE=DATE:20270315
DTEND;VALUE=DATE:20270320
DESCRIPTION:
LOCATION:
SUMMARY:Spring Break - No Classes
END:VEVENT
BEGIN:VEVENT
DTSTAMP:20260426T022952Z
UID:c3ec9e1d-5865-4237-afe0-08a8503df1d9
DTSTART;VALUE=DATE:20270326
DTEND;VALUE=DATE:20270327
DESCRIPTION:
LOCATION:
SUMMARY:Good Friday Holiday - No School
END:VEVENT
BEGIN:VEVENT
DTSTAMP:20260426T022952Z
UID:8f2c9766-bd83-4a5d-9d2d-f654651d2374
DTSTART;VALUE=DATE:20270520
DTEND;VALUE=DATE:20270521
DESCRIPTION:
LOCATION:
SUMMARY:Last Day of Classes
END:VEVENT
BEGIN:VEVENT
DTSTAMP:20260426T022952Z
UID:c6f90bfe-d523-42e5-93c4-f27e790a48b0
DTSTART;VALUE=DATE:20270521
DTEND;VALUE=DATE:20270522
DESCRIPTION:
LOCATION:
SUMMARY:Teacher Work Day
END:VEVENT
BEGIN:VEVENT
DTSTAMP:20260426T022952Z
UID:101ca790-c05e-40cf-86cc-073c43a70c08
DTSTART;VALUE=DATE:20270809
DTEND;VALUE=DATE:20270812
DESCRIPTION:
LOCATION:
SUMMARY:Teacher Inservice Days
END:VEVENT
BEGIN:VEVENT
DTSTAMP:20260426T022952Z
UID:94de6a72-45ad-4a4d-bbcd-4127825c54b0
DTSTART;VALUE=DATE:20270812
DTEND;VALUE=DATE:20270813
DESCRIPTION:
LOCATION:
SUMMARY:1st Day of School
END:VEVENT
BEGIN:VEVENT
DTSTAMP:20260426T022952Z
UID:89a52c9a-5f58-4a91-a52c-19f19b7743ac
DTSTART;VALUE=DATE:20270906
DTEND;VALUE=DATE:20270907
DESCRIPTION:
LOCATION:
SUMMARY:Labor Day - No School
END:VEVENT
BEGIN:VEVENT
DTSTAMP:20260426T022952Z
UID:882486b2-8758-4851-8c8e-a4a52c5377df
DTSTART;VALUE=DATE:20271008
DTEND;VALUE=DATE:20271009
DESCRIPTION:
LOCATION:
SUMMARY:End of 1st Quarter
END:VEVENT
BEGIN:VEVENT
DTSTAMP:20260426T022952Z
UID:78db8f8c-23a0-4956-9f6c-0ca11198762c
DTSTART;VALUE=DATE:20271013
DTEND;VALUE=DATE:20271014
DESCRIPTION:
LOCATION:
SUMMARY:Teacher Inservice - No Classes
END:VEVENT
BEGIN:VEVENT
DTSTAMP:20260426T022952Z
UID:9c0cabbe-1996-46fe-b7d5-1a96e870a68b
DTSTART;VALUE=DATE:20271014
DTEND;VALUE=DATE:20271016
DESCRIPTION:
LOCATION:
SUMMARY:Fall Break - No Classes
END:VEVENT
BEGIN:VEVENT
DTSTAMP:20260426T022952Z
UID:6844a1d1-484a-4fbf-a085-233af94d4fc7
DTSTART;VALUE=DATE:20271018
DTEND;VALUE=DATE:20271019
DESCRIPTION:
LOCATION:
SUMMARY:No School (Exchange Day for PreK-12 Parent/Teacher Conferences)
END:VEVENT
BEGIN:VEVENT
DTSTAMP:20260426T022952Z
UID:66f8f83a-1265-48b0-ba5f-c2695ae01181
DTSTART;VALUE=DATE:20271122
DTEND;VALUE=DATE:20271127
DESCRIPTION:
LOCATION:
SUMMARY:Thanksgiving Break - No Classes
END:VEVENT
BEGIN:VEVENT
DTSTAMP:20260426T022952Z
UID:4654eeec-1eb6-47d7-b7d3-c8d5058a87e0
DTSTART;VALUE=DATE:20271217
DTEND;VALUE=DATE:20271218
DESCRIPTION:
LOCATION:
SUMMARY:Last Day of 1st Semester
END:VEVENT
BEGIN:VEVENT
DTSTAMP:20260426T022952Z
UID:c22d854c-cc3f-4c97-9626-2fe4c03b60a0
DTSTART;VALUE=DATE:20271218
DTEND;VALUE=DATE:20280103
DESCRIPTION:
LOCATION:
SUMMARY:Winter Break - No Classes
END:VEVENT
BEGIN:VEVENT
DTSTAMP:20260426T022952Z
UID:90c75941-32b7-4a2b-9640-edca7a92b613
DTSTART;VALUE=DATE:20280103
DTEND;VALUE=DATE:20280104
DESCRIPTION:
LOCATION:
SUMMARY:Teacher Inservice - No Classes
END:VEVENT
BEGIN:VEVENT
DTSTAMP:20260426T022952Z
UID:5d9e2b64-5e5a-4d5e-8830-5c9222b62410
DTSTART;VALUE=DATE:20280104
DTEND;VALUE=DATE:20280105
DESCRIPTION:
LOCATION:
SUMMARY:First Day of 2nd Semester
END:VEVENT
BEGIN:VEVENT
DTSTAMP:20260426T022952Z
UID:f07ad250-9287-4cf2-b197-829037d52841
DTSTART;VALUE=DATE:20280117
DTEND;VALUE=DATE:20280118
DESCRIPTION:
LOCATION:
SUMMARY:No School - MLK Jr. Day
END:VEVENT
BEGIN:VEVENT
DTSTAMP:20260426T022952Z
UID:4b85803c-7662-48dc-b3f3-505979ee555c
DTSTART;VALUE=DATE:20280303
DTEND;VALUE=DATE:20280304
DESCRIPTION:
LOCATION:
SUMMARY:End of 3rd Quarter
END:VEVENT
BEGIN:VEVENT
DTSTAMP:20260426T022952Z
UID:cd4be39f-b6cf-4fc2-81d7-385a4c8aad22
DTSTART;VALUE=DATE:20280313
DTEND;VALUE=DATE:20280318
DESCRIPTION:
LOCATION:
SUMMARY:Spring Break - No Classes
END:VEVENT
BEGIN:VEVENT
DTSTAMP:20260426T022952Z
UID:f2bdf885-c379-42d8-8cd7-2321b3429c5c
DTSTART;VALUE=DATE:20280414
DTEND;VALUE=DATE:20280415
DESCRIPTION:
LOCATION:
SUMMARY:Good Friday Holiday - No School
END:VEVENT
BEGIN:VEVENT
DTSTAMP:20260426T022952Z
UID:847ae9c1-5220-4215-9ef0-f6f8b7845717
DTSTART;VALUE=DATE:20280518
DTEND;VALUE=DATE:20280519
DESCRIPTION:
LOCATION:
SUMMARY:Last Day of Classes
END:VEVENT
BEGIN:VEVENT
DTSTAMP:20260426T022952Z
UID:57e17c17-816c-478d-a872-2fc6786b76a1
DTSTART;VALUE=DATE:20280519
DTEND;VALUE=DATE:20280520
DESCRIPTION:
LOCATION:
SUMMARY:Teacher Work Day
END:VEVENT
END:VCALENDAR
