BEGIN:VCALENDAR
VERSION:2.0
PRODID:icalendar-ruby
CALSCALE:GREGORIAN
BEGIN:VTIMEZONE
TZID:America/Chicago
BEGIN:DAYLIGHT
DTSTART:20260308T030000
TZOFFSETFROM:-0600
TZOFFSETTO:-0500
RRULE:FREQ=YEARLY;BYDAY=2SU;BYMONTH=3
TZNAME:CDT
END:DAYLIGHT
BEGIN:STANDARD
DTSTART:20261101T010000
TZOFFSETFROM:-0500
TZOFFSETTO:-0600
RRULE:FREQ=YEARLY;BYDAY=1SU;BYMONTH=11
TZNAME:CST
END:STANDARD
END:VTIMEZONE
BEGIN:VEVENT
DTSTAMP:20260426T003647Z
UID:1274423d-8c4e-41e6-aa79-61192f496f83
DTSTART;VALUE=DATE:20260521
DTEND;VALUE=DATE:20260522
DESCRIPTION:
LOCATION:
SUMMARY:Last Day of Classes
END:VEVENT
BEGIN:VEVENT
DTSTAMP:20260426T003647Z
UID:5f3e0bae-2c35-4971-be55-c0535f3b2dba
DTSTART;VALUE=DATE:20260522
DTEND;VALUE=DATE:20260523
DESCRIPTION:
LOCATION:
SUMMARY:Teacher Work Day
END:VEVENT
BEGIN:VEVENT
DTSTAMP:20260426T003647Z
UID:db516e60-a1fc-44a1-b147-e2107635c7b2
DTSTART;VALUE=DATE:20260810
DTEND;VALUE=DATE:20260813
DESCRIPTION:
LOCATION:
SUMMARY:Teacher Inservice Days
END:VEVENT
BEGIN:VEVENT
DTSTAMP:20260426T003647Z
UID:fcd02a0b-0486-4388-8a22-c15f40e7fb92
DTSTART;VALUE=DATE:20260813
DTEND;VALUE=DATE:20260814
DESCRIPTION:
LOCATION:
SUMMARY:1st Day of School
END:VEVENT
BEGIN:VEVENT
DTSTAMP:20260426T003647Z
UID:0bafe8c8-07fb-4c6a-8cde-d0e9b455009a
DTSTART;VALUE=DATE:20260907
DTEND;VALUE=DATE:20260908
DESCRIPTION:
LOCATION:
SUMMARY:Labor Day - No School
END:VEVENT
BEGIN:VEVENT
DTSTAMP:20260426T003647Z
UID:2b406ebe-a05b-41c7-8f85-96c48ffd699d
DTSTART;VALUE=DATE:20261009
DTEND;VALUE=DATE:20261010
DESCRIPTION:
LOCATION:
SUMMARY:End of 1st Quarter
END:VEVENT
BEGIN:VEVENT
DTSTAMP:20260426T003647Z
UID:c0c46149-7648-4268-96fc-9cf04c1a5dba
DTSTART;VALUE=DATE:20261014
DTEND;VALUE=DATE:20261015
DESCRIPTION:
LOCATION:
SUMMARY:Teacher Inservice - No Classes
END:VEVENT
BEGIN:VEVENT
DTSTAMP:20260426T003647Z
UID:8fe5be25-7b27-446b-be97-bc7f35381552
DTSTART;VALUE=DATE:20261015
DTEND;VALUE=DATE:20261017
DESCRIPTION:
LOCATION:
SUMMARY:Fall Break - No Classes
END:VEVENT
BEGIN:VEVENT
DTSTAMP:20260426T003647Z
UID:d327becf-0f87-4b40-906a-713c851972ac
DTSTART;VALUE=DATE:20261019
DTEND;VALUE=DATE:20261020
DESCRIPTION:
LOCATION:
SUMMARY:No School (Exchange Day for PreK-12 Parent/Teacher Conferences)
END:VEVENT
BEGIN:VEVENT
DTSTAMP:20260426T003647Z
UID:0e71281f-9ce0-4745-be6d-8a385794ff72
DTSTART;VALUE=DATE:20261123
DTEND;VALUE=DATE:20261128
DESCRIPTION:
LOCATION:
SUMMARY:Thanksgiving Break - No Classes
END:VEVENT
BEGIN:VEVENT
DTSTAMP:20260426T003647Z
UID:3efa1b4a-c259-4736-90bd-748e7d8a954f
DTSTART;VALUE=DATE:20261218
DTEND;VALUE=DATE:20261219
DESCRIPTION:
LOCATION:
SUMMARY:Last Day of 1st Semester
END:VEVENT
BEGIN:VEVENT
DTSTAMP:20260426T003647Z
UID:0ec1dc5e-95f8-4a29-a5e7-9cbdf61523f5
DTSTART;VALUE=DATE:20261219
DTEND;VALUE=DATE:20270104
DESCRIPTION:
LOCATION:
SUMMARY:Winter Break - No Classes
END:VEVENT
BEGIN:VEVENT
DTSTAMP:20260426T003647Z
UID:ab2490af-c8eb-49ee-bcb6-c0b2888b4399
DTSTART;VALUE=DATE:20270104
DTEND;VALUE=DATE:20270105
DESCRIPTION:
LOCATION:
SUMMARY:Teacher Inservice - No Classes
END:VEVENT
BEGIN:VEVENT
DTSTAMP:20260426T003647Z
UID:647eea4a-d087-4c4f-bf43-dad9a1ab873e
DTSTART;VALUE=DATE:20270105
DTEND;VALUE=DATE:20270106
DESCRIPTION:
LOCATION:
SUMMARY:First Day of 2nd Semester
END:VEVENT
BEGIN:VEVENT
DTSTAMP:20260426T003647Z
UID:028e9c97-3a59-4802-92a7-042684d4455f
DTSTART;VALUE=DATE:20270118
DTEND;VALUE=DATE:20270119
DESCRIPTION:
LOCATION:
SUMMARY:No School - MLK Jr. Day
END:VEVENT
BEGIN:VEVENT
DTSTAMP:20260426T003647Z
UID:3a7f9ff0-08ba-4117-aa3d-a27fcdd0d047
DTSTART;VALUE=DATE:20270305
DTEND;VALUE=DATE:20270306
DESCRIPTION:
LOCATION:
SUMMARY:End of 3rd Quarter
END:VEVENT
BEGIN:VEVENT
DTSTAMP:20260426T003647Z
UID:159b2ee0-02e8-47e5-b318-d198a1be5a5c
DTSTART;VALUE=DATE:20270315
DTEND;VALUE=DATE:20270320
DESCRIPTION:
LOCATION:
SUMMARY:Spring Break - No Classes
END:VEVENT
BEGIN:VEVENT
DTSTAMP:20260426T003647Z
UID:cd187973-f4d3-4549-b8f7-1504248bf791
DTSTART;VALUE=DATE:20270326
DTEND;VALUE=DATE:20270327
DESCRIPTION:
LOCATION:
SUMMARY:Good Friday Holiday - No School
END:VEVENT
BEGIN:VEVENT
DTSTAMP:20260426T003647Z
UID:d8474f69-865c-40c0-95a1-a8dbd2e06a1a
DTSTART;VALUE=DATE:20270520
DTEND;VALUE=DATE:20270521
DESCRIPTION:
LOCATION:
SUMMARY:Last Day of Classes
END:VEVENT
BEGIN:VEVENT
DTSTAMP:20260426T003647Z
UID:be290690-fc08-4288-83d3-b1c52a248cdc
DTSTART;VALUE=DATE:20270521
DTEND;VALUE=DATE:20270522
DESCRIPTION:
LOCATION:
SUMMARY:Teacher Work Day
END:VEVENT
BEGIN:VEVENT
DTSTAMP:20260426T003647Z
UID:5e3cd3b0-7a2c-4d5b-9c23-47cf074dab00
DTSTART;VALUE=DATE:20270809
DTEND;VALUE=DATE:20270812
DESCRIPTION:
LOCATION:
SUMMARY:Teacher Inservice Days
END:VEVENT
BEGIN:VEVENT
DTSTAMP:20260426T003647Z
UID:4361aec7-1ec9-4136-8ba8-9b4b94fd2ebf
DTSTART;VALUE=DATE:20270812
DTEND;VALUE=DATE:20270813
DESCRIPTION:
LOCATION:
SUMMARY:1st Day of School
END:VEVENT
BEGIN:VEVENT
DTSTAMP:20260426T003647Z
UID:3fa7faf4-968c-4630-bb3b-ef4311206798
DTSTART;VALUE=DATE:20270906
DTEND;VALUE=DATE:20270907
DESCRIPTION:
LOCATION:
SUMMARY:Labor Day - No School
END:VEVENT
BEGIN:VEVENT
DTSTAMP:20260426T003647Z
UID:b7d98701-3863-4c7f-9d12-d365ce42ab13
DTSTART;VALUE=DATE:20271008
DTEND;VALUE=DATE:20271009
DESCRIPTION:
LOCATION:
SUMMARY:End of 1st Quarter
END:VEVENT
BEGIN:VEVENT
DTSTAMP:20260426T003647Z
UID:5ddac7d5-346d-4665-8d5e-a09288fa1faa
DTSTART;VALUE=DATE:20271013
DTEND;VALUE=DATE:20271014
DESCRIPTION:
LOCATION:
SUMMARY:Teacher Inservice - No Classes
END:VEVENT
BEGIN:VEVENT
DTSTAMP:20260426T003647Z
UID:223b0482-a248-4dbc-9f71-67dc4fa0a952
DTSTART;VALUE=DATE:20271014
DTEND;VALUE=DATE:20271016
DESCRIPTION:
LOCATION:
SUMMARY:Fall Break - No Classes
END:VEVENT
BEGIN:VEVENT
DTSTAMP:20260426T003647Z
UID:000d309c-b83c-490c-a19f-0680d4e19d56
DTSTART;VALUE=DATE:20271018
DTEND;VALUE=DATE:20271019
DESCRIPTION:
LOCATION:
SUMMARY:No School (Exchange Day for PreK-12 Parent/Teacher Conferences)
END:VEVENT
BEGIN:VEVENT
DTSTAMP:20260426T003647Z
UID:bd82f1c7-4dac-4c03-ac59-1d0873fdf22c
DTSTART;VALUE=DATE:20271122
DTEND;VALUE=DATE:20271127
DESCRIPTION:
LOCATION:
SUMMARY:Thanksgiving Break - No Classes
END:VEVENT
BEGIN:VEVENT
DTSTAMP:20260426T003647Z
UID:f920caf1-eacf-4327-b7ec-3addc2bb705c
DTSTART;VALUE=DATE:20271217
DTEND;VALUE=DATE:20271218
DESCRIPTION:
LOCATION:
SUMMARY:Last Day of 1st Semester
END:VEVENT
BEGIN:VEVENT
DTSTAMP:20260426T003647Z
UID:36e02b97-da6e-4e5d-a874-456170d1f0d3
DTSTART;VALUE=DATE:20271218
DTEND;VALUE=DATE:20280103
DESCRIPTION:
LOCATION:
SUMMARY:Winter Break - No Classes
END:VEVENT
BEGIN:VEVENT
DTSTAMP:20260426T003647Z
UID:e7a8658a-9a49-4322-9cbc-233504ebae8f
DTSTART;VALUE=DATE:20280103
DTEND;VALUE=DATE:20280104
DESCRIPTION:
LOCATION:
SUMMARY:Teacher Inservice - No Classes
END:VEVENT
BEGIN:VEVENT
DTSTAMP:20260426T003647Z
UID:ce530234-c0e4-4a62-8bb5-c21d9bcf3c8e
DTSTART;VALUE=DATE:20280104
DTEND;VALUE=DATE:20280105
DESCRIPTION:
LOCATION:
SUMMARY:First Day of 2nd Semester
END:VEVENT
BEGIN:VEVENT
DTSTAMP:20260426T003647Z
UID:51c16e9a-c4b9-47c4-95fc-1f9e432fff3f
DTSTART;VALUE=DATE:20280117
DTEND;VALUE=DATE:20280118
DESCRIPTION:
LOCATION:
SUMMARY:No School - MLK Jr. Day
END:VEVENT
BEGIN:VEVENT
DTSTAMP:20260426T003647Z
UID:2de3852d-b4ba-4cc0-bdb5-8fdb31f7f5a0
DTSTART;VALUE=DATE:20280303
DTEND;VALUE=DATE:20280304
DESCRIPTION:
LOCATION:
SUMMARY:End of 3rd Quarter
END:VEVENT
BEGIN:VEVENT
DTSTAMP:20260426T003647Z
UID:d1a41001-1ffb-44ea-b850-35ab6799813b
DTSTART;VALUE=DATE:20280313
DTEND;VALUE=DATE:20280318
DESCRIPTION:
LOCATION:
SUMMARY:Spring Break - No Classes
END:VEVENT
BEGIN:VEVENT
DTSTAMP:20260426T003647Z
UID:1698cbe5-db39-4361-be16-d04f73e607a1
DTSTART;VALUE=DATE:20280414
DTEND;VALUE=DATE:20280415
DESCRIPTION:
LOCATION:
SUMMARY:Good Friday Holiday - No School
END:VEVENT
BEGIN:VEVENT
DTSTAMP:20260426T003647Z
UID:1362a19e-b1ab-43a6-9331-a3afe4f1a0b1
DTSTART;VALUE=DATE:20280518
DTEND;VALUE=DATE:20280519
DESCRIPTION:
LOCATION:
SUMMARY:Last Day of Classes
END:VEVENT
BEGIN:VEVENT
DTSTAMP:20260426T003647Z
UID:87a798e9-6114-41e1-bad1-285149049874
DTSTART;VALUE=DATE:20280519
DTEND;VALUE=DATE:20280520
DESCRIPTION:
LOCATION:
SUMMARY:Teacher Work Day
END:VEVENT
END:VCALENDAR
