BEGIN:VCALENDAR
VERSION:2.0
PRODID:icalendar-ruby
CALSCALE:GREGORIAN
BEGIN:VTIMEZONE
TZID:America/Chicago
BEGIN:DAYLIGHT
DTSTART:20260308T030000
TZOFFSETFROM:-0600
TZOFFSETTO:-0500
RRULE:FREQ=YEARLY;BYDAY=2SU;BYMONTH=3
TZNAME:CDT
END:DAYLIGHT
BEGIN:STANDARD
DTSTART:20261101T010000
TZOFFSETFROM:-0500
TZOFFSETTO:-0600
RRULE:FREQ=YEARLY;BYDAY=1SU;BYMONTH=11
TZNAME:CST
END:STANDARD
END:VTIMEZONE
BEGIN:VEVENT
DTSTAMP:20260421T104832Z
UID:6967349c-6e14-435f-a748-e7b7cc89c217
DTSTART;VALUE=DATE:20260506
DTEND;VALUE=DATE:20260507
DESCRIPTION:
LOCATION:
SUMMARY:1/2 Day Early Release
END:VEVENT
BEGIN:VEVENT
DTSTAMP:20260421T104832Z
UID:39ae1f8c-d443-4ae8-814f-d8cbb8400d38
DTSTART;VALUE=DATE:20260525
DTEND;VALUE=DATE:20260526
DESCRIPTION:
LOCATION:
SUMMARY:Memorial Day  
END:VEVENT
BEGIN:VEVENT
DTSTAMP:20260421T104832Z
UID:3d72b480-b30c-430c-ace9-3c0b8d8cb001
DTSTART;VALUE=DATE:20260529
DTEND;VALUE=DATE:20260605
DESCRIPTION:
LOCATION:
SUMMARY:Last Day of School 1/2 day Early Dismissal
END:VEVENT
BEGIN:VEVENT
DTSTAMP:20260421T104832Z
UID:a5dd3806-f073-445f-b5c6-d51adf5340a9
DTSTART:20260728T110000
DTEND:20260728T190000
DESCRIPTION:
LOCATION:
SUMMARY:In Person Registration Assitance Day
END:VEVENT
BEGIN:VEVENT
DTSTAMP:20260421T104832Z
UID:4546b23e-ae59-42f9-873a-5ecb933ac392
DTSTART;VALUE=DATE:20260810
DTEND;VALUE=DATE:20260812
DESCRIPTION:
LOCATION:
SUMMARY:In Service Day
END:VEVENT
BEGIN:VEVENT
DTSTAMP:20260421T104832Z
UID:3fde1474-0cf4-4eb3-9924-008e1c7e509d
DTSTART;VALUE=DATE:20260812
DTEND;VALUE=DATE:20260813
DESCRIPTION:GV 1:25 Elem 2:00
LOCATION:
SUMMARY:1st Day of School 1 hr early dismissal
END:VEVENT
BEGIN:VEVENT
DTSTAMP:20260421T104832Z
UID:04b3e6f9-cac9-419e-88bf-42073811f419
DTSTART;VALUE=DATE:20260907
DTEND;VALUE=DATE:20260908
DESCRIPTION:
LOCATION:
SUMMARY:Labor Day
END:VEVENT
BEGIN:VEVENT
DTSTAMP:20260421T104832Z
UID:942b4f6c-72ca-4a6d-a76a-93253f1a0e5d
DTSTART;VALUE=DATE:20260908
DTEND;VALUE=DATE:20260909
DESCRIPTION:
LOCATION:
SUMMARY:In Service Day No student Attendance
END:VEVENT
BEGIN:VEVENT
DTSTAMP:20260421T104832Z
UID:c8d84d6f-278d-4f06-964d-6b68de2b60cd
DTSTART;VALUE=DATE:20260918
DTEND;VALUE=DATE:20260919
DESCRIPTION:
LOCATION:
SUMMARY:1/2 Day Early Release 
END:VEVENT
BEGIN:VEVENT
DTSTAMP:20260421T104832Z
UID:5af55f69-45f4-49e4-9b50-0416d7b66e11
DTSTART;VALUE=DATE:20261005
DTEND;VALUE=DATE:20261010
DESCRIPTION:
LOCATION:
SUMMARY:Fall Break 
END:VEVENT
BEGIN:VEVENT
DTSTAMP:20260421T104832Z
UID:e60aed77-e890-4e42-9acd-10dfc3fd645c
DTSTART;VALUE=DATE:20261012
DTEND;VALUE=DATE:20261013
DESCRIPTION:
LOCATION:
SUMMARY:Columbus Day 
END:VEVENT
BEGIN:VEVENT
DTSTAMP:20260421T104832Z
UID:3aea0212-9db2-4a7d-9266-3645ff994532
DTSTART;VALUE=DATE:20261023
DTEND;VALUE=DATE:20261024
DESCRIPTION:
LOCATION:
SUMMARY:End of 1st Qtr 
END:VEVENT
BEGIN:VEVENT
DTSTAMP:20260421T104832Z
UID:91b5f2c0-b0f8-4e13-908b-a5aecbac7eb9
DTSTART;VALUE=DATE:20261105
DTEND;VALUE=DATE:20261106
DESCRIPTION:
LOCATION:
SUMMARY:PM P/T Conferences 
END:VEVENT
BEGIN:VEVENT
DTSTAMP:20260421T104832Z
UID:e3f56b20-7204-4c49-8fe1-459b809ce277
DTSTART;VALUE=DATE:20261106
DTEND;VALUE=DATE:20261107
DESCRIPTION:
LOCATION:
SUMMARY:Parent/Teacher Conf. No stud Atten
END:VEVENT
BEGIN:VEVENT
DTSTAMP:20260421T104832Z
UID:90e14c18-cbc7-43fb-bf24-469c5b1aa8f1
DTSTART;VALUE=DATE:20261125
DTEND;VALUE=DATE:20261128
DESCRIPTION:
LOCATION:
SUMMARY:Thanksgiving Break 
END:VEVENT
BEGIN:VEVENT
DTSTAMP:20260421T104832Z
UID:784faeb2-98a5-4284-99ec-9a2368d0fd65
DTSTART;VALUE=DATE:20261221
DTEND;VALUE=DATE:20270102
DESCRIPTION:
LOCATION:
SUMMARY:Winter Break
END:VEVENT
BEGIN:VEVENT
DTSTAMP:20260421T104832Z
UID:2359b281-d9a8-4982-9743-79b102a53872
DTSTART;VALUE=DATE:20270108
DTEND;VALUE=DATE:20270109
DESCRIPTION:
LOCATION:
SUMMARY:End of Qtr. 
END:VEVENT
BEGIN:VEVENT
DTSTAMP:20260421T104832Z
UID:96de74cf-de47-466f-b8e2-04c69abbd49b
DTSTART;VALUE=DATE:20270115
DTEND;VALUE=DATE:20270116
DESCRIPTION:
LOCATION:
SUMMARY:1/2 Day Early Release 
END:VEVENT
BEGIN:VEVENT
DTSTAMP:20260421T104832Z
UID:4cc354e8-b73b-4699-a6a6-ad6db2e1a079
DTSTART;VALUE=DATE:20270118
DTEND;VALUE=DATE:20270119
DESCRIPTION:
LOCATION:
SUMMARY:M.L. King Day 
END:VEVENT
BEGIN:VEVENT
DTSTAMP:20260421T104832Z
UID:15878521-28bf-4bac-b59c-e2db8933abe9
DTSTART;VALUE=DATE:20270128
DTEND;VALUE=DATE:20270129
DESCRIPTION:
LOCATION:
SUMMARY:PM P/T Conferences 
END:VEVENT
BEGIN:VEVENT
DTSTAMP:20260421T104832Z
UID:63f4e90e-7ceb-4be9-aa9c-046a5394ea3b
DTSTART;VALUE=DATE:20270129
DTEND;VALUE=DATE:20270130
DESCRIPTION:
LOCATION:
SUMMARY:Parent/Teacher Conf No Stud Attend
END:VEVENT
BEGIN:VEVENT
DTSTAMP:20260421T104832Z
UID:7da0c371-5421-46d6-b4a1-6a07e45b741a
DTSTART;VALUE=DATE:20270215
DTEND;VALUE=DATE:20270216
DESCRIPTION:
LOCATION:
SUMMARY:Presidents'Day
END:VEVENT
BEGIN:VEVENT
DTSTAMP:20260421T104832Z
UID:d7905750-395e-49a8-aa70-6af0be71cad6
DTSTART;VALUE=DATE:20270216
DTEND;VALUE=DATE:20270217
DESCRIPTION:
LOCATION:
SUMMARY:In-Service Day No Stud. Attend
END:VEVENT
BEGIN:VEVENT
DTSTAMP:20260421T104832Z
UID:f26bff5b-1e8b-4be5-b46a-5b6db7d3fe55
DTSTART;VALUE=DATE:20270310
DTEND;VALUE=DATE:20270311
DESCRIPTION:
LOCATION:
SUMMARY:No Student Attendance 
END:VEVENT
BEGIN:VEVENT
DTSTAMP:20260421T104832Z
UID:f62c1e09-ba88-4e21-b52c-6dd5b843ecb4
DTSTART;VALUE=DATE:20270312
DTEND;VALUE=DATE:20270313
DESCRIPTION:
LOCATION:
SUMMARY:End of 3rd Qtr.
END:VEVENT
BEGIN:VEVENT
DTSTAMP:20260421T104832Z
UID:53e3f019-0808-4c90-a6ac-def16798fbcc
DTSTART;VALUE=DATE:20270315
DTEND;VALUE=DATE:20270320
DESCRIPTION:
LOCATION:
SUMMARY:Spring Break 
END:VEVENT
BEGIN:VEVENT
DTSTAMP:20260421T104832Z
UID:c2e72709-4546-4503-a275-2725473c81c8
DTSTART;VALUE=DATE:20270325
DTEND;VALUE=DATE:20270326
DESCRIPTION:
LOCATION:
SUMMARY:1/2 Day Early Release 
END:VEVENT
BEGIN:VEVENT
DTSTAMP:20260421T104832Z
UID:89c2ada3-2d55-453e-8cf4-09eec29fb85e
DTSTART;VALUE=DATE:20270326
DTEND;VALUE=DATE:20270327
DESCRIPTION:
LOCATION:
SUMMARY:No Student Attendance 
END:VEVENT
BEGIN:VEVENT
DTSTAMP:20260421T104832Z
UID:adbe388b-a2fa-4e0a-a1da-349ad5fd565c
DTSTART;VALUE=DATE:20270414
DTEND;VALUE=DATE:20270415
DESCRIPTION:
LOCATION:
SUMMARY:1/2 Day Early Release 
END:VEVENT
BEGIN:VEVENT
DTSTAMP:20260421T104832Z
UID:5b5f870b-4d70-4c78-bbab-2348148f8db0
DTSTART;VALUE=DATE:20270512
DTEND;VALUE=DATE:20270513
DESCRIPTION:
LOCATION:
SUMMARY:1/2 Day Early Release 
END:VEVENT
BEGIN:VEVENT
DTSTAMP:20260421T104832Z
UID:42a1f530-3a8f-4e63-8a1c-ecd27c49ca3a
DTSTART;VALUE=DATE:20270527
DTEND;VALUE=DATE:20270528
DESCRIPTION:
LOCATION:
SUMMARY:1/2 Day Early Release End of 4th Qtr
END:VEVENT
BEGIN:VEVENT
DTSTAMP:20260421T104832Z
UID:545316e9-1009-432b-b772-1c5c57a73901
DTSTART;VALUE=DATE:20270531
DTEND;VALUE=DATE:20270601
DESCRIPTION:
LOCATION:
SUMMARY:Memorial Day 
END:VEVENT
END:VCALENDAR
